BEGIN:VCALENDAR
VERSION:2.0
PRODID:-//MOB Moms - ECPv6.15.1.1//NONSGML v1.0//EN
CALSCALE:GREGORIAN
METHOD:PUBLISH
X-WR-CALNAME:MOB Moms
X-ORIGINAL-URL:https://themobmom.com
X-WR-CALDESC:Events for MOB Moms
REFRESH-INTERVAL;VALUE=DURATION:PT1H
X-Robots-Tag:noindex
X-PUBLISHED-TTL:PT1H
BEGIN:VTIMEZONE
TZID:UTC
BEGIN:STANDARD
TZOFFSETFROM:+0000
TZOFFSETTO:+0000
TZNAME:UTC
DTSTART:20250101T000000
END:STANDARD
END:VTIMEZONE
BEGIN:VEVENT
DTSTART;TZID=UTC:20250808T190000
DTEND;TZID=UTC:20250808T200000
DTSTAMP:20260424T095848
CREATED:20250808T022716Z
LAST-MODIFIED:20250808T022716Z
UID:12318-1754679600-1754683200@themobmom.com
SUMMARY:Stoked Comedy Hypnosis Show for All Ages
DESCRIPTION:Join legendary hypnotist Terry Stokes for 60 minutes of hilarious antics and unbelievable hypnotism at the Stoked Comedy Hypnosis Show for all-ages. One of the few shows where the audience is the “stars” of the show\, this unforgettable show is your opportunity to see or be seen! The kids will love watching parents and grandparents on the stage! \nActivity Highlights\n→ Unforgettable hypnotism and comedy show\n→ Audience participation encouraged\n→ No two shows are the same\n→ Ideal activity for date night or group outing
URL:https://themobmom.com/event/stoked-comedy-hypnosis-show-for-all-ages/
LOCATION:OWA Parks & Resort
ATTACH;FMTTYPE=image/webp:https://themobmom.com/wp-content/uploads/2025/08/stoked-hypnosis-show.webp
END:VEVENT
BEGIN:VEVENT
DTSTART;TZID=UTC:20250808T180000
DTEND;TZID=UTC:20250808T210000
DTSTAMP:20260424T095848
CREATED:20250808T004642Z
LAST-MODIFIED:20250808T142244Z
UID:12292-1754676000-1754686800@themobmom.com
SUMMARY:LODA ArtWalk
DESCRIPTION:LODA ArtWalk is a free monthly event that showcases our visual\, performing\, and culinary arts community. The theme changes every month\, and this month’s theme is White Linen Night. From 6 p.m. to 9 p.m. on Friday\, August 8\, join us in white linen attire to explore local vendors\, live music\, and captivating art. Plus\, visit the Kids’ Zone to make crafts and play games! \nDo you want register to be an artist or performer at LODA ArtWalk? Learn more here. \nDo you want to register to participate in the Nonprofit Zone? Apply here. \n2025 LODA ArtWalk Map\n2025 Logistics & FAQ \nBy attending this event\, you agree to be photographed. For further inquiries\, please email events@cityofmobile.org.
URL:https://themobmom.com/event/loda-artwalk/
LOCATION:Downtown Mobile
ATTACH;FMTTYPE=image/jpeg:https://themobmom.com/wp-content/uploads/2025/08/LODA-Artwalk.jpg
END:VEVENT
BEGIN:VEVENT
DTSTART;TZID=UTC:20250808T170000
DTEND;TZID=UTC:20250808T210000
DTSTAMP:20260424T095848
CREATED:20250808T154003Z
LAST-MODIFIED:20250808T154003Z
UID:12346-1754672400-1754686800@themobmom.com
SUMMARY:H2OWA
DESCRIPTION:Make a splash every Friday at H2OWA\, part of the Summer Series at Downtown OWA! From May 30th through August 8th\, head to Downtown OWA every Friday for a full lineup of free water-filled fun the whole family can enjoy. \nKids can beat the heat at the Downtown Splashpad\, race down the giant slip-n-slide\, or jump around on water inflatables in the Native Treasures Alcove. Explore lawn games scattered throughout Downtown\, get creative with water-themed crafts at Gussie’s Flowerbed\, and don’t miss the underwater photo op at the Fountain for the ultimate summer selfie. \n\n\n\n\nSchedule of Events:\n\n\n\n\n\n5:00 – 9:00 pm:\n\nWater Activities at the Downtown Splashpad\nSlip-n-slide/water inflatable at the Native Treasures Alcove\nLawn Games throughout Downtown OWA\nUnderwater Photo Op at the Downtown Fountain\nAura Adventure Kayaking Scavenger Hunt
URL:https://themobmom.com/event/h2owa-4/
LOCATION:OWA Parks & Resort
ATTACH;FMTTYPE=image/jpeg:https://themobmom.com/wp-content/uploads/2025/06/h2owa.jpg
END:VEVENT
BEGIN:VEVENT
DTSTART;VALUE=DATE:20250808
DTEND;VALUE=DATE:20250809
DTSTAMP:20260424T095848
CREATED:20250808T152813Z
LAST-MODIFIED:20250808T153622Z
UID:12341-1754611200-1754697599@themobmom.com
SUMMARY:Alabama Sea Monsters
DESCRIPTION:1p.m. to 2 p.m. \nExplore the uncharted waters of the distant past and meet the strange and exotic beasts that once swam the oceans of ancient Alabama! In this program\, you’ll examine the incredible fossil evidence left behind by these remarkable creatures and learn about the discoveries that changed the way we look at the Gulf Coast of today. Don’t miss this chance to hear from experts in the field about some of the largest predators to ever prowl the seas! \nAll Ages / FREE \nTo view the precise location of this program\, use this what3words link:  https://w3w.co/apricot.seasoned.parks
URL:https://themobmom.com/event/alabama-sea-monsters/
LOCATION:Learning Campus at Gulf State Park
END:VEVENT
BEGIN:VEVENT
DTSTART;TZID=UTC:20250807T170000
DTEND;TZID=UTC:20250807T210000
DTSTAMP:20260424T095848
CREATED:20250711T153504Z
LAST-MODIFIED:20250711T153504Z
UID:12119-1754586000-1754600400@themobmom.com
SUMMARY:Beats Bash
DESCRIPTION:Turn up the fun every Thursday night with Beats Bash\, part of the Summer Series in Downtown OWA! From interactive music games and DIY crafts to live drum circles and Disco Dome parties\, there’s something to spark every kid’s imagination.\nCatch music-themed activities at the Splashpad\, creative kids’ zones at the Flowerbed\, and jam along with a percussionist-led drum circle at the Fountain. Whether you’re a dancer\, dreamer\, or drum enthusiast\, Beats Bash brings the beat for the whole family — only at Downtown OWA.
URL:https://themobmom.com/event/beats-bash-4/
LOCATION:Downtown OWA
ATTACH;FMTTYPE=image/jpeg:https://themobmom.com/wp-content/uploads/2025/07/499413683_1005628001754543_6940632376104975427_n.jpg
END:VEVENT
BEGIN:VEVENT
DTSTART;TZID=UTC:20250807T110000
DTEND;TZID=UTC:20250807T130000
DTSTAMP:20260424T095848
CREATED:20250804T025450Z
LAST-MODIFIED:20250804T025450Z
UID:12281-1754564400-1754571600@themobmom.com
SUMMARY:Sirens & Scoops
DESCRIPTION:Join your Mobile firefighters and law enforcement officers at Public Safety Memorial Park (2301 Airport Blvd) for fun in the sun with FREE ice cream for kids 13 and under. Grab a sweet treat\, courtesy of our friends at Cammie’s Old Dutch\, and meet your first responders.\nThis is a FREE\, touch-a-truck style event for the whole family!
URL:https://themobmom.com/event/sirens-scoops/
LOCATION:Public Safety Memorial Park Mobile
ATTACH;FMTTYPE=image/jpeg:https://themobmom.com/wp-content/uploads/2025/08/sirens-and-scoops.jpg
END:VEVENT
BEGIN:VEVENT
DTSTART;VALUE=DATE:20250807
DTEND;VALUE=DATE:20250808
DTSTAMP:20260424T095848
CREATED:20250801T160953Z
LAST-MODIFIED:20250801T160953Z
UID:12245-1754524800-1754611199@themobmom.com
SUMMARY:Free Family Beach Movie
DESCRIPTION:Our very popular Free Family Movie Nights are once again sponsored by our friends at Greer’s Markets and kick off on May 22 featuring Madagascar. Movies are held at East End Beach and begin at dusk (weather permitting). Bring beach chairs\, blankets and bug spray (just in case). The remaining summer line up is \, June 26- Despicable Me\, June 27- Princess and the Frog\, July 3- Jaws\, July 5- Jaws\, July 10- Lilo & Stitch\, July 11- The Little Mermaid\, July 24- Shark Tale\, July 25- Finding Nemo\, July 31- Moana\, August 1- Lyle\, Lyle\, Crocodile\, August 7-Dr. Dolittle\, August 8- Yes Day. Great family fun!
URL:https://themobmom.com/event/free-family-beach-movie-3/
LOCATION:East End Beach\, Dauphin Island
ATTACH;FMTTYPE=image/jpeg:https://themobmom.com/wp-content/uploads/2025/05/DI-movie-night.jpg
END:VEVENT
BEGIN:VEVENT
DTSTART;VALUE=DATE:20250807
DTEND;VALUE=DATE:20250808
DTSTAMP:20260424T095848
CREATED:20250801T160838Z
LAST-MODIFIED:20250801T160838Z
UID:12243-1754524800-1754611199@themobmom.com
SUMMARY:Market in Green Park
DESCRIPTION:Stop by Green Park every Thursday from 9am-5pm and every second Saturday from 9am-3pm to see what the island has to offer! This event provides an outlet for local farmers\, crafters\, and island businesses to promote their products\, rentals\, services\, and more. If you would like to be part of the market please email mgodwin@townofdauphinisland.org.
URL:https://themobmom.com/event/market-in-green-park-3/
LOCATION:Green Park Dauphin Island
END:VEVENT
BEGIN:VEVENT
DTSTART;TZID=UTC:20250805T170000
DTEND;TZID=UTC:20250805T200000
DTSTAMP:20260424T095848
CREATED:20250804T025902Z
LAST-MODIFIED:20250804T025902Z
UID:12285-1754413200-1754424000@themobmom.com
SUMMARY:National Night Out
DESCRIPTION:National Night Out is a terrific event that aims to connect first responders and the community. Join us for lots of family fun and demonstrations by Semmes Fire Rescue\, Semmes Police Department\, Mobile County EMS\, and more.
URL:https://themobmom.com/event/national-night-out/
LOCATION:3940 Illinois Street – Semmes\, Al
ATTACH;FMTTYPE=image/jpeg:https://themobmom.com/wp-content/uploads/2025/08/national-night-out.jpg
END:VEVENT
BEGIN:VEVENT
DTSTART;TZID=UTC:20250804T123000
DTEND;TZID=UTC:20250804T140000
DTSTAMP:20260424T095848
CREATED:20250804T021312Z
LAST-MODIFIED:20250804T021312Z
UID:12278-1754310600-1754316000@themobmom.com
SUMMARY:Celebrate National Breastfeeding Month
DESCRIPTION:
URL:https://themobmom.com/event/celebrate-national-breastfeeding-month/
LOCATION:Monte. L Moorer/Spring Hill Branch Library
ATTACH;FMTTYPE=image/jpeg:https://themobmom.com/wp-content/uploads/2025/08/img_8177.jpg
END:VEVENT
BEGIN:VEVENT
DTSTART;TZID=UTC:20250803T170000
DTEND;TZID=UTC:20250803T183000
DTSTAMP:20260424T095848
CREATED:20250801T154159Z
LAST-MODIFIED:20250801T154159Z
UID:12219-1754240400-1754245800@themobmom.com
SUMMARY:Mother and Son Mystery Date Night
DESCRIPTION:Join us for a night of adventure and a dinner at our Mother and Son Date Night. All mothers\, mother figures\, grandmothers and sons of all ages are invited to join us for this special event.\nFellowship Hall | Cost $30 (Mom and one son) or $35 (Mom with two or more sons).\nSign up through our link only at: christunited.com/kids
URL:https://themobmom.com/event/mother-and-son-mystery-date-night/
LOCATION:Christ United
ATTACH;FMTTYPE=image/jpeg:https://themobmom.com/wp-content/uploads/2025/08/mystery-date.jpg
END:VEVENT
BEGIN:VEVENT
DTSTART;TZID=UTC:20250803T100000
DTEND;TZID=UTC:20250803T110000
DTSTAMP:20260424T095848
CREATED:20250801T170802Z
LAST-MODIFIED:20250801T170802Z
UID:12273-1754215200-1754218800@themobmom.com
SUMMARY:Native Animal Meet & Greet
DESCRIPTION:Visit the Nature Center between 10 AM to 11 AM to meet one of native animals! Discover how the remarkable species help educate our visitors about conservation efforts at Gulf State Park. Learn about their natural behaviors and the important roles they play in our complex ecosystem. \nRegistration: Registration is preferred but not required. \nLocation: Gulf State Park Nature Center\, 22120 Campground Road\, Gulf Shores\, AL 36542 \nthere is a $3 fee to enter the campground\, where the Nature Center is located. Campground/Cabin guest do not have to pay gate fee. \nIf you have any questions\, please contact the Gulf State Park Nature Center at 251-948-7275 extension 62093.
URL:https://themobmom.com/event/native-animal-meet-greet/
LOCATION:Gulf State Park Nature Center
ATTACH;FMTTYPE=image/jpeg:https://themobmom.com/wp-content/uploads/2025/08/native-animal-meet-and-greet.jpg
END:VEVENT
BEGIN:VEVENT
DTSTART;VALUE=DATE:20250803
DTEND;VALUE=DATE:20250804
DTSTAMP:20260424T095848
CREATED:20250801T154442Z
LAST-MODIFIED:20250801T154442Z
UID:12222-1754179200-1754265599@themobmom.com
SUMMARY:Free First Sunday
DESCRIPTION:Visit any time from 1 – 5 p.m. and enjoy free admission into the History Museum of Mobile and Colonial Fort Conde!\nWe will also be hosting SPIES\, SECRETS\, & SABOTAGE\, a free espionage event you won’t want to miss! More info here:
URL:https://themobmom.com/event/free-first-sunday-3/
LOCATION:History Museum of Mobile
ATTACH;FMTTYPE=image/png:https://themobmom.com/wp-content/uploads/2025/08/FreeFirstSunday-ESPIONAGE.png
END:VEVENT
BEGIN:VEVENT
DTSTART;TZID=UTC:20250802T190000
DTEND;TZID=UTC:20250802T203000
DTSTAMP:20260424T095848
CREATED:20250801T161646Z
LAST-MODIFIED:20250801T161646Z
UID:12252-1754161200-1754166600@themobmom.com
SUMMARY:Brandon Styles Variety Show
DESCRIPTION:A family-friendly\, impression\, comedy and magic show! Discover the many faces of Brandon Styles in this year-round Variety Show. Impressions from Frank Sinatra to Justin Bieber\, with 60 additional impressions in between! Sprinkled with just the right amount of comedy and magic to make this a great entertainment hour for all ages. Brandon Styles LIVE at OWA is a classy show that has something for the whole family! Brandon will awe you during his live performance of nearly 60 different celebrity singing & speaking impressions. To make this show unlike any other in the world\, he has incorporated the perfect amount of comedy\, magic\, dancing\, ventriloquism and audience participation in this fast-paced 60 minute show!
URL:https://themobmom.com/event/brandon-styles-variety-show-11/
LOCATION:OWA Parks & Resort
END:VEVENT
BEGIN:VEVENT
DTSTART;TZID=UTC:20250802T130000
DTEND;TZID=UTC:20250802T160000
DTSTAMP:20260424T095848
CREATED:20250801T163059Z
LAST-MODIFIED:20250801T163059Z
UID:12260-1754139600-1754150400@themobmom.com
SUMMARY:Portia Hollis Book Signing
DESCRIPTION:Come by August 2nd from 11am till 2pm to meet Portia Hollis her story is amazing she’s a senior at gulf shores high school and the things she’s doing and supporting at such a young age is truly inspirational I hope too see lots of people coming to meet such an amazing person from 11am till 2pm august 2nd!!!
URL:https://themobmom.com/event/portia-hollis-book-signing/
LOCATION:Sweet Meltdown
ATTACH;FMTTYPE=image/jpeg:https://themobmom.com/wp-content/uploads/2025/08/portia-hollis.jpg
END:VEVENT
BEGIN:VEVENT
DTSTART;TZID=UTC:20250802T120000
DTEND;TZID=UTC:20250802T160000
DTSTAMP:20260424T095848
CREATED:20250801T160715Z
LAST-MODIFIED:20250801T160715Z
UID:12240-1754136000-1754150400@themobmom.com
SUMMARY:Summer Splash Event
DESCRIPTION:Sponsored by the Town of Dauphin Island\, this popular event will be returning this year on August 2\nfrom noon- 4pm at Water Tower Plaza (our thanks to DI Water & Sewer for providing use of the site) and will offer inflatable water slides\, a sprinkler pad\, and kiddie pool! We also awill have a foam party! The foam cannon will start at 230pm and last an hour. Participants are also encouraged to bring their favorite water guns for a fun water fight! Kona Ice will be on site for some yummy ice cold treats! The first 100 kids get a free snow cone! There’s something for all ages\, so get your family and friends together and let’s make a SPLASH! Free admission.
URL:https://themobmom.com/event/summer-splash-event/
LOCATION:Water Tower Plaza | Dauphin Island
END:VEVENT
BEGIN:VEVENT
DTSTART;TZID=UTC:20250802T120000
DTEND;TZID=UTC:20250802T120000
DTSTAMP:20260424T095848
CREATED:20250801T155834Z
LAST-MODIFIED:20250801T155834Z
UID:12231-1754136000-1754136000@themobmom.com
SUMMARY:Back to School Boost
DESCRIPTION:Purpose:To support local families with elementary students that attend a Daphne school.\n Location:Daphne CoWork25369 US‑98 E\, Daphne\, AL\n Date & Time:Saturday\, August 2\, 202512:00 PM – 2:00 PM\nPre-Registration Required:Parents or guardians must register their child ahead of time to ensure supplies are available at distribution. Register your child here: https://docs.google.com/…/1FAIpQLSdBFcR7bWc…/viewform…\nDonate:We are heavily relying on our community to be able to meet our goal of supply 50 students with school supplies. If you are interested in donating\, there are several ways you can!\nDrop-off boxes:The Shop Salon1905 Main St. Suite CDaphne\, AL 36256\nDaphne CoWork25369 HWY 98Daphne\, AL 36526\nEXIT Allstar Gulf Coast Realty28600 HWY 98 Suite KDaphne\, AL 36526\nOnline wish lists:https://www.amazon.com/reg…/gl/guest-view/2QHL4ML4IMZEY…\nhttps://www.walmart.com/…/b155c629-05e3-4a73-9d3d…\nFinancial:Venmo – @Hunters_HFhttps://www.paypal.com/ncp/payment/7NYKPARPC9YQLMessage us if you would like to mail a check.\nSpread the Word:Help us empower students with the tools they need for success. Share this event with neighbors\, friends\, and fellow parents
URL:https://themobmom.com/event/back-to-school-boost/
LOCATION:25369 US Highway 98\, Daphne\, Al
ATTACH;FMTTYPE=image/jpeg:https://themobmom.com/wp-content/uploads/2025/08/back-to-school-boost.jpg
END:VEVENT
BEGIN:VEVENT
DTSTART;TZID=UTC:20250802T110000
DTEND;TZID=UTC:20250802T160000
DTSTAMP:20260424T095848
CREATED:20250801T160235Z
LAST-MODIFIED:20250801T160235Z
UID:12235-1754132400-1754150400@themobmom.com
SUMMARY:Jeep Invasion of Blakeley
DESCRIPTION:Historic Blakeley State Park and the Southland Jeepers present the “Jeep Invasion”! Events include a Jeep Show\, Poker Run\, and raffle and door prizes\, and other events.
URL:https://themobmom.com/event/jeep-invasion-of-blakeley/
LOCATION:Blakeley State Park
ATTACH;FMTTYPE=image/jpeg:https://themobmom.com/wp-content/uploads/2025/08/jeep-invasion.jpg
END:VEVENT
BEGIN:VEVENT
DTSTART;TZID=UTC:20250802T100000
DTEND;TZID=UTC:20250802T140000
DTSTAMP:20260424T095848
CREATED:20250801T162111Z
LAST-MODIFIED:20250801T162111Z
UID:12254-1754128800-1754143200@themobmom.com
SUMMARY:Retro Game Day at West
DESCRIPTION:Event Details\n\n\nSay Bye to Summer with the West Regional Retro Game Day! \nHave old-school fun with board games\, card games\, table tennis\, a giant Connect-Four\, and more at our Retro Game Day. This exciting two-day event is designed for children 6 and older\, as well as teens and adults. The games will be in the meeting room at the West Regional Library\, starting at 10:00 a.m. on Friday\, August 1\, and Saturday\, August 2. \nAll ages are welcome! We hope to see you there!
URL:https://themobmom.com/event/retro-game-day-at-west/
LOCATION:West Regional Library
ATTACH;FMTTYPE=image/png:https://themobmom.com/wp-content/uploads/2025/08/Retro-Game-Day-calendar.png
END:VEVENT
BEGIN:VEVENT
DTSTART;TZID=UTC:20250802T100000
DTEND;TZID=UTC:20250802T120000
DTSTAMP:20260424T095848
CREATED:20250709T163841Z
LAST-MODIFIED:20250709T163841Z
UID:12059-1754128800-1754136000@themobmom.com
SUMMARY:Graham Creek's Water Day
DESCRIPTION:WATER DAY at Graham Creek!  23460 Wolf Bay Drive 10 AM – 12 NOON\nGet ready to SPLASH into the end of summer with us! We’re going out with a splash-tacular morning full of:\n Slip ‘n Slides Kiddie Pools Sprinklers Fobbles (fog bubbles!) A Foam Pit… and SO much more!\nBring your swimsuits\, towels\, and sunscreen – and don’t forget your playful spirit! \nLet’s make the last splash of summer unforgettable! \nKona Ice will be on site for a refreshing treat as well!
URL:https://themobmom.com/event/graham-creeks-water-day/
LOCATION:Graham Creek Nature Preserve
ATTACH;FMTTYPE=image/jpeg:https://themobmom.com/wp-content/uploads/2025/07/501390590_1124983853004496_1944404001551899890_n.jpg
END:VEVENT
BEGIN:VEVENT
DTSTART;TZID=UTC:20250802T100000
DTEND;TZID=UTC:20250802T110000
DTSTAMP:20260424T095848
CREATED:20250801T170525Z
LAST-MODIFIED:20250801T170525Z
UID:12270-1754128800-1754132400@themobmom.com
SUMMARY:Alligator Adventures
DESCRIPTION:Come meet our baby alligators and discover fascinating facts about these prehistoric creatures that call Gulf State Park home! In this exciting program\, you’ll get a close-up view of these young gators and learn how they thrive in the wild\, from hatching to adulthood\, and how they’ve adapted over millions of years. This is a great opportunity to connect with one of nature’s most ancient and powerful creatures in a safe\, educational setting. \nRegistration: Registration is preferred but not required. \nLocation: Gulf State Park Nature Center\,22120 Campground Road\, Gulf Shores\, AL 36542 \nThere is a $3 fee to enter the campground\, where the Nature Center is located. Campground/Cabin guest do not have to pay gate fee. \nIf you have any questions\, please contact the Gulf State Park Nature Center at 251-948-7275 extension 62093.
URL:https://themobmom.com/event/alligator-adventures-2/
LOCATION:Gulf State Park Nature Center
ATTACH;FMTTYPE=image/jpeg:https://themobmom.com/wp-content/uploads/2025/08/alligator-adventure.jpg
END:VEVENT
BEGIN:VEVENT
DTSTART;TZID=UTC:20250802T090000
DTEND;TZID=UTC:20250802T110000
DTSTAMP:20260424T095848
CREATED:20250801T165858Z
LAST-MODIFIED:20250801T165858Z
UID:12268-1754125200-1754132400@themobmom.com
SUMMARY:Manatee Habitat Cruise from the Blakeley Dock
DESCRIPTION:Duration\n2 Hours \nAbout\nA partnership with the Dauphin Island Sea Lab and the Manatee Sighting Network\, this cruise explores the habitat within reaches of the middle and lower Delta where rare sightings of manatees have been documented. \nManatee sightings are extraordinarily rare\, so it is unlikely we will see one. But we will learn about these gentle giants and what draws them to these waters as we cruise locations where they are known to frequent. \nThis cruise departs from the Historic Blakeley State Park Dock\nVery young children are allowed\, but parents need to bring life vests for children under four years of age; the Coast Guard cannot guarantee the boat’s life rings will fit toddlers. Sorry\, no pets allowed.
URL:https://themobmom.com/event/manatee-habitat-cruise-from-the-blakeley-dock-2/
LOCATION:Blakeley State Park
END:VEVENT
BEGIN:VEVENT
DTSTART;TZID=UTC:20250802T080000
DTEND;TZID=UTC:20250802T100000
DTSTAMP:20260424T095848
CREATED:20250801T163730Z
LAST-MODIFIED:20250801T163730Z
UID:12264-1754121600-1754128800@themobmom.com
SUMMARY:Sensory and Special Needs Time at Get Air
DESCRIPTION:Join us this Saturday\, August 2\, from 8 to 10 AM for A Special Time For You—an exclusive jump session designed for guests with disabilities and their families. Enjoy a calm\, relaxed environment with fewer distractions so everyone can get moving and have fun. \nDuring this session\, you’ll get two hours of jumping for the price of one. Plus\, a parent or guardian can jump with their child at no extra cost.
URL:https://themobmom.com/event/sensory-and-special-needs-time-at-get-air/
LOCATION:Get Air Mobile
ATTACH;FMTTYPE=image/jpeg:https://themobmom.com/wp-content/uploads/2025/08/get-air-sensory-time.jpg
END:VEVENT
BEGIN:VEVENT
DTSTART;VALUE=DATE:20250802
DTEND;VALUE=DATE:20250803
DTSTAMP:20260424T095848
CREATED:20250801T155148Z
LAST-MODIFIED:20250801T155148Z
UID:12227-1754092800-1754179199@themobmom.com
SUMMARY:GRAND OPENING & BACK TO SCHOOL BASH
DESCRIPTION: GRAND OPENING & BACK TO SCHOOL BASH Join us Saturday\, August 2nd from 10am-2pm at the Fairhope Youth Collective for our GRAND OPENING & BACK TO SCHOOL BASH!\nMusic & Dance Party: Studio B Dance AcademyFace Painting: Mary B. FacesFood Truck: B&T Island Roots LLCInflatables: Buck’s Party Rentals LLCPopsicles: Frios Gourmet PopsHat Bar: Gimme Cap Co\nWhat better way to say goodbye to summer than to say hello to Fairhope’s newest business built exclusively for the youth in our community! Come check it out! Hope to see you & your family there!
URL:https://themobmom.com/event/grand-opening-back-to-school-bash/
LOCATION:760 Middle Street\, Fairhope Al
ATTACH;FMTTYPE=image/jpeg:https://themobmom.com/wp-content/uploads/2025/08/opening-back-to-school.jpg
END:VEVENT
BEGIN:VEVENT
DTSTART;VALUE=DATE:20250802
DTEND;VALUE=DATE:20250803
DTSTAMP:20260424T095848
CREATED:20250801T154750Z
LAST-MODIFIED:20250801T154750Z
UID:12225-1754092800-1754179199@themobmom.com
SUMMARY:161st Battle of Mobile Bay Commemorative Day
DESCRIPTION:The well-preserved ramparts of Fort Gaines have guarded the entrance to Mobile Bay for more than 180 years. Now a fascinating historic site that stands on the eastern tip of Dauphin Island. The cannon will be fired every 45 minutes in honor of the soldiers that fought in this pivotal battle
URL:https://themobmom.com/event/161st-battle-of-mobile-bay-commemorative-day/
LOCATION:Fort Gaines Historic Site
END:VEVENT
BEGIN:VEVENT
DTSTART;TZID=UTC:20250801T210000
DTEND;TZID=UTC:20250801T213000
DTSTAMP:20260424T095848
CREATED:20250801T162440Z
LAST-MODIFIED:20250801T162440Z
UID:12257-1754082000-1754083800@themobmom.com
SUMMARY:Fireworks Over the Gulf
DESCRIPTION:Fireworks over the Gulf—this Friday night!\nJoin us at The Gulf Orange Beach for the best seat in town as Perdido Beach Resort lights up the sky with a summer sparkle show you don’t want to miss. \n\n\nCome early\, grab your favorite Gulf Coast bites\, sip on handcrafted cocktails\, and let the kids play while you vibe seaside with the family.\n You’re welcome to view the fireworks from our seawall or settle in under the palms for the full Gulf experience.\n\n\n 27500 Perdido Beach Blvd\, Orange Beach\, AL\n Fireworks at 9 PM | We open at 11 AM daily
URL:https://themobmom.com/event/fireworks-over-the-gulf/
LOCATION:The Gulf Restaurant and Bar
ATTACH;FMTTYPE=image/jpeg:https://themobmom.com/wp-content/uploads/2025/08/fireworks-over-the-gulf.jpg
END:VEVENT
BEGIN:VEVENT
DTSTART;TZID=UTC:20250801T170000
DTEND;TZID=UTC:20250801T200000
DTSTAMP:20260424T095848
CREATED:20250709T164338Z
LAST-MODIFIED:20250709T164338Z
UID:12062-1754067600-1754078400@themobmom.com
SUMMARY:ACS Parents' Night Out Presents - Summer Bash
DESCRIPTION:SUMMER BASH DETAILS  A HUGE end-of-summer party to celebrate all the fun we’ve had! ALL ages welcome!! Activities include:• Crafts• Games• Music & dancing• Summer treats & dinner! $40 per child | $20 per sibling Sign up & pay in advance Held at Ascension Christian School Drop-off starts promptly at 5:00 PM
URL:https://themobmom.com/event/acs-parents-night-out-presents-summer-bash/
LOCATION:Ascension Christian School\, Daphne\, Alabama
ATTACH;FMTTYPE=image/jpeg:https://themobmom.com/wp-content/uploads/2025/07/516138674_1307927181336968_6477422549256754582_n.jpg
END:VEVENT
BEGIN:VEVENT
DTSTART;TZID=UTC:20250801T143000
DTEND;TZID=UTC:20250803T143000
DTSTAMP:20260424T095848
CREATED:20250711T150317Z
LAST-MODIFIED:20250711T150317Z
UID:12107-1754058600-1754231400@themobmom.com
SUMMARY:South Baldwin Community Theatre Presents Disney's Mary Poppins Jr
DESCRIPTION:Things are not going well for the Banks family\, the children are out of control and are in need of a new nanny. When a mysterious young woman named Mary Poppins appears at their doorstep\, the family finds that she’s the answer to their prayers\, but in the most peculiar way. \nJuly 25 to August 3\, Friday\, Saturday\, Sunday showtimes. \nTickets $15-$25
URL:https://themobmom.com/event/south-baldwin-community-theatre-presents-disneys-mary-poppins-jr-2/
LOCATION:South Baldwin Community Theatre\, Gulf Shores\, Alabama
ATTACH;FMTTYPE=image/png:https://themobmom.com/wp-content/uploads/2025/07/499214701_1243622671106513_8795108715684669358_n-2.png
END:VEVENT
BEGIN:VEVENT
DTSTART;VALUE=DATE:20250801
DTEND;VALUE=DATE:20250802
DTSTAMP:20260424T095848
CREATED:20250801T160527Z
LAST-MODIFIED:20250801T160527Z
UID:12238-1754006400-1754092799@themobmom.com
SUMMARY:Free Family Beach Movie
DESCRIPTION:Our very popular Free Family Movie Nights are once again sponsored by our friends at Greer’s Markets and kick off on May 22 featuring Madagascar. Movies are held at East End Beach and begin at dusk (weather permitting). Bring beach chairs\, blankets and bug spray (just in case). The remaining summer line up is \, June 26- Despicable Me\, June 27- Princess and the Frog\, July 3- Jaws\, July 5- Jaws\, July 10- Lilo & Stitch\, July 11- The Little Mermaid\, July 24- Shark Tale\, July 25- Finding Nemo\, July 31- Moana\, August 1- Lyle\, Lyle\, Crocodile\, August 7-Dr. Dolittle\, August 8- Yes Day. Great family fun!
URL:https://themobmom.com/event/free-family-beach-movie-2/
LOCATION:East End Beach\, Dauphin Island
ATTACH;FMTTYPE=image/jpeg:https://themobmom.com/wp-content/uploads/2025/05/DI-movie-night.jpg
END:VEVENT
BEGIN:VEVENT
DTSTART;TZID=UTC:20250731T183000
DTEND;TZID=UTC:20250802T140000
DTSTAMP:20260424T095848
CREATED:20250709T162950Z
LAST-MODIFIED:20250709T162950Z
UID:12052-1753986600-1754143200@themobmom.com
SUMMARY:Summer Jam 2025
DESCRIPTION:Join us for Summer Jam 2025!\nJuly 31st & August 1st\n6:30 – 7:30 PM (Doors open @ 6:00 PM)\nAugust 2nd (FAMILY FUN DAY)\n10:00 AM – 2:00 PM\nThis is going to be an AWESOME three day event for your kids to have lots of fun and grow in their faith!\nThere are two nights of exciting services\, followed by an outdoor day of fun for the ENTIRE family\, with free food\, inflatables\, and much more!\nWe will also be distributing free school supplies during our family fun day!\nFor more information\, and to register for this FREE event\, please visit\nhttps://loxleychurch.cc/pages/summer-jam-2025
URL:https://themobmom.com/event/summer-jam-2025/
LOCATION:Loxley Church\, 5220 S Hickory St\, Loxley\, Alabama
ATTACH;FMTTYPE=image/jpeg:https://themobmom.com/wp-content/uploads/2025/07/515508568_1121822583325394_2766374032584709482_n.jpg
END:VEVENT
END:VCALENDAR