BEGIN:VCALENDAR
VERSION:2.0
PRODID:-//MOB Moms - ECPv6.15.1.1//NONSGML v1.0//EN
CALSCALE:GREGORIAN
METHOD:PUBLISH
X-WR-CALNAME:MOB Moms
X-ORIGINAL-URL:https://themobmom.com
X-WR-CALDESC:Events for MOB Moms
REFRESH-INTERVAL;VALUE=DURATION:PT1H
X-Robots-Tag:noindex
X-PUBLISHED-TTL:PT1H
BEGIN:VTIMEZONE
TZID:UTC
BEGIN:STANDARD
TZOFFSETFROM:+0000
TZOFFSETTO:+0000
TZNAME:UTC
DTSTART:20250101T000000
END:STANDARD
END:VTIMEZONE
BEGIN:VEVENT
DTSTART;VALUE=DATE:20250503
DTEND;VALUE=DATE:20250504
DTSTAMP:20260424T145946
CREATED:20250501T155456Z
LAST-MODIFIED:20250501T155456Z
UID:10820-1746230400-1746316799@themobmom.com
SUMMARY:Tanner Williams May Day Festival
DESCRIPTION:10 a.m. – 2 p.m.\nThe Tanner Williams Civic & Historical Society hosts the Annual Tanner Williams May Day Festival the first Saturday of May at Tanner Williams Community Park. Enjoy the traditional May Pole Dance\, the crowning of the May Day Court and Little Mister & Miss Tanner Williams\, local vendors\, fresh-off-the-grill foods at the concession stand\, kids activities\, and more! Admission is FREE!\nPlease send us a message if you are interested in adding to our event by being a vendor\, volunteering\, bringing a vintage car or tractor\, providing kids activities\, or entering your child in May Queen and King (K5-5th grade)/Little Mr. & Miss Tanner Williams (4 and under) \nSee less
URL:https://themobmom.com/event/tanner-williams-may-day-festival/
LOCATION:Tanner Williams Community Park
ATTACH;FMTTYPE=image/jpeg:https://themobmom.com/wp-content/uploads/2025/05/may-day-festival.jpg
END:VEVENT
BEGIN:VEVENT
DTSTART;VALUE=DATE:20250503
DTEND;VALUE=DATE:20250504
DTSTAMP:20260424T145946
CREATED:20250501T153412Z
LAST-MODIFIED:20250501T153412Z
UID:10816-1746230400-1746316799@themobmom.com
SUMMARY:Kids Play Day (9 a.m. - 12 p.m.)
DESCRIPTION:Free family fun! Join us for the Gulf Coast Suzuki Kids’ Play Day on Saturday\, May 3\, 2025\, from 9:00 AM to 12:00 PM at McGill Field\, located at the corner of Catherine Street and Old Shell Road in Mobile\, Alabama. This completely free community event is packed with activities for all ages.\nEvent Highlights:-Interactive Activity Stations: Kids can engage in hands-on STEM challenges\, art projects\, and more\, fostering creativity and learning.-Touch-A-Truck Experience: Children can explore fire trucks\, police cars\, construction vehicles\, and more\, meeting the professionals who operate them.-Nerf Gun Battle Zone: An action-packed area where kids can test their aim and enjoy friendly competition.-Vendor Marketplace: Parents can browse a curated selection of local artisans\, boutique vendors\, and specialty retailers\, perfect for finding unique gifts.-Food Trucks & Treats: Enjoy a variety of delicious options from local food vendors\, offering something for every palate.\nAll activities are completely free\, and everyone is welcome! Food and retail purchases will be available for those who’d like to enjoy snacks\, meals\, or shopping during the event.\nThis event is open to the public\, so bring your family\, invite your friends\, and make a morning of it!\nFor more information or inquiries about hosting an activity\, becoming a vendor\, or sponsorship opportunities\, please contact us at steakout@stmarymobile.org.\n\nDon’t miss out on this fun-filled morning designed for the whole family!
URL:https://themobmom.com/event/kids-play-day-9-a-m-12-p-m/
LOCATION:McGill-Toolen Catholic High School
ATTACH;FMTTYPE=image/jpeg:https://themobmom.com/wp-content/uploads/2025/05/kids-play-day.jpg
END:VEVENT
BEGIN:VEVENT
DTSTART;TZID=UTC:20250502T160000
DTEND;TZID=UTC:20250502T170000
DTSTAMP:20260424T145946
CREATED:20250501T143750Z
LAST-MODIFIED:20250501T143750Z
UID:10782-1746201600-1746205200@themobmom.com
SUMMARY:Beginner Guitar Lessons (Free)
DESCRIPTION:Sign up at Semmes for Guitar Lesson! \nIs your child interested in learning to play the guitar? Now’s their chance! Join us in the Semmes Meeting Room for FREE lessons. Lesson books will be available. However\, Please bring your own guitar. For children ages 6-11. \nRegistration is required.  To register and for more information\, please call 251-494-4935 or email Callie Kelley at ckelley@mplonline.org.
URL:https://themobmom.com/event/beginner-guitar-lessons-free/
LOCATION:Semmes Regional Library
END:VEVENT
BEGIN:VEVENT
DTSTART;TZID=UTC:20250502T160000
DTEND;TZID=UTC:20250502T170000
DTSTAMP:20260424T145946
CREATED:20250501T143539Z
LAST-MODIFIED:20250501T143539Z
UID:10780-1746201600-1746205200@themobmom.com
SUMMARY:Arty Party
DESCRIPTION:Join us in the Youth Programming Room as we experiment with different types of craft materials and let our inner artists shine! Bring your friends and celebrate the end of the week by doing art together or meet new friends while exploring the world of creativity and imagination. This program is best suited for ages 6 – 11. 
URL:https://themobmom.com/event/arty-party/
LOCATION:Ben May Main Library
END:VEVENT
BEGIN:VEVENT
DTSTART;TZID=UTC:20250502T133000
DTEND;TZID=UTC:20250502T163000
DTSTAMP:20260424T145946
CREATED:20250501T150808Z
LAST-MODIFIED:20250501T150808Z
UID:10808-1746192600-1746203400@themobmom.com
SUMMARY:Children's - Mother's Day Make-n-Take
DESCRIPTION:Children’s – Mother’s Day Make-n-Take
URL:https://themobmom.com/event/childrens-mothers-day-make-n-take/
LOCATION:Daphne Public Library\, Daphne\, Alabama\, 36526
END:VEVENT
BEGIN:VEVENT
DTSTART;TZID=UTC:20250501T180000
DTEND;TZID=UTC:20250501T210000
DTSTAMP:20260424T145946
CREATED:20250403T232753Z
LAST-MODIFIED:20250403T232753Z
UID:10463-1746122400-1746133200@themobmom.com
SUMMARY:Run Club @ Braided River | Every Thursday @ 6 pm
DESCRIPTION:This public run club is open to all levels and ability\, including walkers\, marathoners\, kids and even dogs. You can choose from a 5K or 1-mile route\, both of which take off from the taproom at 6 p.m. Join Downtown Runners United By Beer afterward in the taproom for raffles\, camaraderie and ice-cold craft beer!
URL:https://themobmom.com/event/run-club-braided-river-every-thursday-6-pm/
LOCATION:Braided River Brewing Co\, Mobile\, Alabama
END:VEVENT
BEGIN:VEVENT
DTSTART;TZID=UTC:20250501T163000
DTEND;TZID=UTC:20250501T173000
DTSTAMP:20260424T145946
CREATED:20250501T044830Z
LAST-MODIFIED:20250501T044830Z
UID:10768-1746117000-1746120600@themobmom.com
SUMMARY:Legoland in Saraland
DESCRIPTION:Let’s have fun in Legoland! \nLEGOs encourage kids to learn while having fun! Use your imagination & challenge your LEGO skills. We will even have Duplo blocks for toddlers.
URL:https://themobmom.com/event/legoland-in-saraland/
LOCATION:Saraland Public Library
END:VEVENT
BEGIN:VEVENT
DTSTART;TZID=UTC:20250501T160000
DTEND;TZID=UTC:20250501T190000
DTSTAMP:20260424T145946
CREATED:20250501T150025Z
LAST-MODIFIED:20250501T150025Z
UID:10801-1746115200-1746126000@themobmom.com
SUMMARY:BOARD GAME NIGHT ages 12 -18
DESCRIPTION:Ages 12 -18 are welcome to the SFPL every Thursday for \nBOARD GAME NIGHT\nChoose any of our board or card game selection and grab a table upstairs to sit down to a friendly competition 🙂 \nCurrent games include: \nABORETUM \nAPPLES TO APPLES \nCATAN & 5-6 PLAYER EXTENSION \nCATAN SCENARIO HELPERS EXPANSION \nCATAN SEAFARERS EXPANSION + 5-6 PLAYER EXTENSION \nCATAN CITIES & KNIGHTS = 5-6 PLAYER EXTENSION \nCATAN HISTORIES: MERCHANTS OF EUROPE \nCLUE \nCONNECT FOUR \nCOTTAGE GARDEN \nCONSTELLATIONS \nCROWNS \nDOCTOR DREADFUL \nDRAGONWOOD \nEVOLUTION: THE BEGINNING \nFLUXX \nHIVE \nJUMANJI \nKINGDOMINO \nKODAMA \nTHE LEGEND OF THE CHERRY TREE \nLOST CITIES \nMACHI KORO \nMEME THE GAME \nMUNCHKIN SHAKESPEARE \nONE NIGHT ULTIMATE WEREWOLF \nPERPETUAL COMMOTION \nPICTOPIA \nSCRABBLE \nSORRY \nTIDDLEDY WINKS \nTOSS YOUR COOKIES \nTRIOPOLY \nTRIVIAL PURSUIT: FAMILY EDITION \nTRIVIAL PURSUIT: TOTALLY 80s \nTRIVIAL PURSUIT: 90s TIME CAPSULE \nTSURO: THE GAME OF THE PATH \nVIRUS \nWILDCRAFT \nWOULD YOUR RATHER \nand more… \nParticipants are welcome to bring drink containers\, with a secure lid or top and mess-free\, non-greasy\, non-sticky snacks to keep you in the game! \nCome to the library\, meet new people\, bring your friends\, we’ll see you there!
URL:https://themobmom.com/event/board-game-night-ages-12-18/
LOCATION:Spanish Fort Public Library
END:VEVENT
BEGIN:VEVENT
DTSTART;TZID=UTC:20250501T160000
DTEND;TZID=UTC:20250501T170000
DTSTAMP:20260424T145946
CREATED:20250501T151208Z
LAST-MODIFIED:20250501T151208Z
UID:10810-1746115200-1746118800@themobmom.com
SUMMARY:Farmer’s Market Storytime – Outside
DESCRIPTION:Come see Ms. Grace behind Fairhope Public Library during the City of Fairhope’s Farmer’s Market for a very special outdoor storytime and activity
URL:https://themobmom.com/event/farmers-market-storytime-outside/
LOCATION:Fairhope Public Library
END:VEVENT
BEGIN:VEVENT
DTSTART;TZID=UTC:20250501T160000
DTEND;TZID=UTC:20250501T170000
DTSTAMP:20260424T145946
CREATED:20250501T044502Z
LAST-MODIFIED:20250501T044502Z
UID:10764-1746115200-1746118800@themobmom.com
SUMMARY:Choose Your Adventure Book Club: Sci-Fi
DESCRIPTION:Join our adventurous book club! Ages 6-11 \nThe place to meet new friends\, talk about books\, play games\, and create fun bookish projects. Please read a book from each month’s designated category before each meeting. You don’t need to be an expert on the book to have fun! \n\n\n\n\nBlast into the future with thrilling tales of aliens\, robots\, and cosmic adventures! This month’s theme is “Sci-Fi!” Select any story about robots\, aliens\, futurism\, space adventures\, etc.
URL:https://themobmom.com/event/choose-your-adventure-book-club-sci-fi/
LOCATION:Ben May Main Library
END:VEVENT
BEGIN:VEVENT
DTSTART;TZID=UTC:20250501T160000
DTEND;TZID=UTC:20250501T164500
DTSTAMP:20260424T145946
CREATED:20250501T044630Z
LAST-MODIFIED:20250501T044630Z
UID:10766-1746115200-1746117900@themobmom.com
SUMMARY:Create it\, Build it\, Play it!
DESCRIPTION:Fun for children of all ages! \nJoin us in the Meeting Room at the Grand Bay Library for fun STEAM/STEM focused crafts and activities. Get creative and have fun socializing with others who love arts and crafts.
URL:https://themobmom.com/event/create-it-build-it-play-it/
LOCATION:Grand Bay Library
END:VEVENT
BEGIN:VEVENT
DTSTART;TZID=UTC:20250501T160000
DTEND;TZID=UTC:20250501T163000
DTSTAMP:20260424T145946
CREATED:20250501T045611Z
LAST-MODIFIED:20250501T045611Z
UID:10774-1746115200-1746117000@themobmom.com
SUMMARY:Rock n’ Storytime
DESCRIPTION:It’s story-time with a musical twist. \nExperience your favorite stories old and new\, come to life with narrator and\, guitarist Mr. Dave\, and of course\, you. Each meeting\, we’ll read a story together\, and perform one or two sing-alongs as well.
URL:https://themobmom.com/event/rock-n-storytime/
LOCATION:West Regional Library
END:VEVENT
BEGIN:VEVENT
DTSTART;TZID=UTC:20250501T153000
DTEND;TZID=UTC:20250501T163000
DTSTAMP:20260424T145946
CREATED:20250501T150543Z
LAST-MODIFIED:20250501T150543Z
UID:10805-1746113400-1746117000@themobmom.com
SUMMARY:Children's Afterschool Book Club
DESCRIPTION:Love reading with friends and making crafts? Join our Afterschool Book Club where everyone reads along in a reading circle and makes a book-themed craft afterwards! Book Club is for K-5th grades.
URL:https://themobmom.com/event/childrens-afterschool-book-club/
LOCATION:Daphne Public Library\, Daphne\, Alabama\, 36526
END:VEVENT
BEGIN:VEVENT
DTSTART;TZID=UTC:20250501T151500
DTEND;TZID=UTC:20250501T163000
DTSTAMP:20260424T145946
CREATED:20250501T045434Z
LAST-MODIFIED:20250501T045434Z
UID:10772-1746112500-1746117000@themobmom.com
SUMMARY:Great Movie Adventure (Trolls)
DESCRIPTION:Event Details\n\nJoin us at the Toulminville Branch for movies and snacks! \nJoin us for the feature film Trolls (2016)\, PG | 1 hr 35 min.; After a forest tribe of cotton-candy-colored\, shock-headed trolls discovers that they’re the new favorite gourmet treat for King Gristle\, the unlikely duo of bubbly Poppy and worrywart Branch must rescue their friends from the royals’ chef. \nRegistration is recommended! To register or for more information\, please email Melissa Davis at mdavis@mplonline.org or call 251-494-4892. \n\nDisclaimer(s)\n\n\n\nFood Allergies\n\nWe cannot guarantee that food served at this program has not come into contact with tree nuts\, soy or other allergens.
URL:https://themobmom.com/event/great-movie-adventure-trolls/
LOCATION:Virginia Dillard Smith/Toulminville Branch Library
END:VEVENT
BEGIN:VEVENT
DTSTART;TZID=UTC:20250501T150000
DTEND;TZID=UTC:20250501T180000
DTSTAMP:20260424T145946
CREATED:20250415T154940Z
LAST-MODIFIED:20250415T154940Z
UID:10640-1746111600-1746122400@themobmom.com
SUMMARY:Fairhope Farmers Market
DESCRIPTION:Join us for Fairhope’s Spring/Summer Farmers Market\, starting April 3rd! The market will be held every Thursday afternoon from 3 PM to 6 PM behind the Fairhope Public Library.\nDiscover a wide array of fresh produce\, homemade breads\, honey\, locally-raised beef\, and much more! There will also be face painting for the kids each week\, along with exciting giveaways!\nSupport your local farmers and small businesses by shopping at the Fairhope Farmers Market this spring!\nParking: Farmers market visitors can park on Magnolia Avenue in designated spots marked “farmers market parking only.” Additional parking is available in Arts Alley! You can also call the Downtown shuttle for a ride directly to the farmers market!
URL:https://themobmom.com/event/fairhope-farmers-market-6/
LOCATION:Fairhope Public Library
END:VEVENT
BEGIN:VEVENT
DTSTART;TZID=UTC:20250501T150000
DTEND;TZID=UTC:20250501T170000
DTSTAMP:20260424T145946
CREATED:20250501T045015Z
LAST-MODIFIED:20250501T045015Z
UID:10770-1746111600-1746118800@themobmom.com
SUMMARY:Chess Club for Everyone at Semmes
DESCRIPTION:Beginners and experienced players welcome! \nPlaying chess improves concentration and problem-solving skills. Join us at Semmes Library for chess club designed for ages 6 and up. \nAge Group:\nAges 6-11\, Teens \n 
URL:https://themobmom.com/event/chess-club-for-everyone-at-semmes/
LOCATION:Semmes Regional Library
END:VEVENT
BEGIN:VEVENT
DTSTART;TZID=UTC:20250501T143000
DTEND;TZID=UTC:20250501T153000
DTSTAMP:20260424T145946
CREATED:20250501T044311Z
LAST-MODIFIED:20250501T044311Z
UID:10762-1746109800-1746113400@themobmom.com
SUMMARY:Teen Takeover
DESCRIPTION:Event Details\n\nIt’s time for Teen Takeover at the Parkway Branch! \nCome hang out with us in the Parkway Meeting Room for some awesome teen fun! We’ll have video games\, board games\, crafts\, and so much more! Join the takeover every Thursday—it’s going to be a blast!
URL:https://themobmom.com/event/teen-takeover/
LOCATION:Parkway Branch
END:VEVENT
BEGIN:VEVENT
DTSTART;TZID=UTC:20250501T113000
DTEND;TZID=UTC:20250501T133000
DTSTAMP:20260424T145946
CREATED:20250501T150344Z
LAST-MODIFIED:20250501T150344Z
UID:10803-1746099000-1746106200@themobmom.com
SUMMARY:Brown Bag by the Bay Concert Series
DESCRIPTION:Join us for one of Daphne’s favorite events\, Brown Bag by the Bay Concert Series. Grab your lunch and meet us by the bay each Thursday 11:30 AM – 1:30 PM in April and May. \nLine-up coming soon!
URL:https://themobmom.com/event/brown-bag-by-the-bay-concert-series/
LOCATION:May Day Park\, Daphne
END:VEVENT
BEGIN:VEVENT
DTSTART;TZID=UTC:20250501T110000
DTEND;TZID=UTC:20250501T113000
DTSTAMP:20260424T145946
CREATED:20250501T050010Z
LAST-MODIFIED:20250501T050010Z
UID:10778-1746097200-1746099000@themobmom.com
SUMMARY:Listen & Learn Storytime
DESCRIPTION:Let’s Listen and Learn with fun stories and songs! \nStorytime has many benefits for children such as promoting early literacy\, language development\, help develop concentration\, social skills\, communication skills\, and encourages their imagination and creativity. Join us in the Storytime room at West Regional for fun stories and songs. Ideal for ages 3-5 years. \nFor more information\, please call (251)340-8571 or email West Regional Youth Services at westyou@mplonline.org.
URL:https://themobmom.com/event/listen-learn-storytime/
LOCATION:West Regional Library
END:VEVENT
BEGIN:VEVENT
DTSTART;TZID=UTC:20250501T100000
DTEND;TZID=UTC:20250501T103000
DTSTAMP:20260424T145946
CREATED:20250501T045753Z
LAST-MODIFIED:20250501T045753Z
UID:10776-1746093600-1746095400@themobmom.com
SUMMARY:Shake\, Rattle\, & Read Storytime at West
DESCRIPTION:Join us in the Meeting Room to enjoy books and a whole lot of music and grooving! \nEnjoy meeting other parents and their little ones and make new friends. These activities are designed to stimulate your child’s early literacy skills\, and there will be a whole lot of shakin’ going on! \nAges 0-5
URL:https://themobmom.com/event/shake-rattle-read-storytime-at-west/
LOCATION:West Regional Library
END:VEVENT
BEGIN:VEVENT
DTSTART;VALUE=DATE:20250501
DTEND;VALUE=DATE:20250504
DTSTAMP:20260424T145946
CREATED:20250425T163256Z
LAST-MODIFIED:20250425T163256Z
UID:10735-1746057600-1746316799@themobmom.com
SUMMARY:Gulf Coast Hot Air Balloon Festival
DESCRIPTION:It’s one of the coast’s favorite events—and it’s coming back to OWA May 1-3! Don’t miss the Gulf Coast Hot Air Balloon Festival’s three-day-long line-up of live entertainment & events. \nEach day of the festival offers kids’ activities\, lawn games\, arts & crafts vendors\, synchronized K9 shows and more. Live entertainment keeps the excitement going each day\, including the legendary Tip Tops Saturday night\, May 3rd. Weather permitting\, each evening will also feature a hot air balloon glow plus tethered rides (tickets available for purchase on-site). \nHow to make your visit even better? Tropic Falls is offering an event-exclusive Twilight Ticket at a $10 savings May 1-3! Get your tickets here: visitowa.com/plan-your-visit/tickets
URL:https://themobmom.com/event/gulf-coast-hot-air-balloon-festival/
LOCATION:OWA Parks & Resort
ATTACH;FMTTYPE=image/jpeg:https://themobmom.com/wp-content/uploads/2025/04/OWA_hot-air-balloon.jpg
END:VEVENT
BEGIN:VEVENT
DTSTART;TZID=UTC:20250429T190000
DTEND;TZID=UTC:20250429T200000
DTSTAMP:20260424T145946
CREATED:20250425T162956Z
LAST-MODIFIED:20250425T162956Z
UID:10733-1745953200-1745956800@themobmom.com
SUMMARY:Brandon Styles Variety Show
DESCRIPTION:A family-friendly\, impression\, comedy and magic show! Discover the many faces of Brandon Styles in this year-round Variety Show. Impressions from Frank Sinatra to Justin Bieber\, with 60 additional impressions in between! Sprinkled with just the right amount of comedy and magic to make this a great entertainment hour for all ages. Brandon Styles LIVE at OWA is a classy show that has something for the whole family! Brandon will awe you during his live performance of nearly 60 different celebrity singing & speaking impressions. To make this show unlike any other in the world\, he has incorporated the perfect amount of comedy\, magic\, dancing\, ventriloquism and audience participation in this fast-paced 60 minute show!
URL:https://themobmom.com/event/brandon-styles-variety-show-8/
LOCATION:OWA Parks & Resort
END:VEVENT
BEGIN:VEVENT
DTSTART;TZID=UTC:20250429T180000
DTEND;TZID=UTC:20250429T210000
DTSTAMP:20260424T145946
CREATED:20250404T014620Z
LAST-MODIFIED:20250404T014620Z
UID:10536-1745949600-1745960400@themobmom.com
SUMMARY:Musical Bingo at deMaiz Taco Cantina!
DESCRIPTION:Join us this Tuesday for a fun and unique twist on your usual bingo night! We’re bringing the beats to the patio at deMaiz Taco Cantina from 6:00 PM to 9:00 PM.\n FREE to play + family-friendly! Bring the kids and let’s have some fun! \n Fun prizes for Bingo winners\, and of course\, lots of laughs along the way! \n How it works: Instead of numbers\, you’ll mark off the songs you hear! Jessie will be your fabulous host\, playing all kinds of music – from throwbacks to the latest hits – and your job is to match the tunes on your bingo card. It’s all about the rhythm and the good vibes!\n Enjoy Taco Tuesday\, refreshing drinks\, and a whole lot of fun.\nBring your friends\, make it a night out\, and let’s see who will be the ultimate bingo champion! \n When: Tuesday\, 6-9 PM Where: deMaiz Taco Cantina (Patio)\nDon’t miss out – it’s going to be a blast! 
URL:https://themobmom.com/event/musical-bingo-at-demaiz-taco-cantina-3/
LOCATION:deMaiz- Taco Cantina (Cottage Hill Road)
END:VEVENT
BEGIN:VEVENT
DTSTART;TZID=UTC:20250427T180000
DTEND;TZID=UTC:20250427T193000
DTSTAMP:20260424T145946
CREATED:20250425T201610Z
LAST-MODIFIED:20250425T201610Z
UID:10749-1745776800-1745782200@themobmom.com
SUMMARY:Sunday Sunset Concert Series
DESCRIPTION:Join us for our SUNDAY SUNSET CONCERT SERIES at Daphne’s Bayfront Park!\nSunday\, April 27\, 2025 • 6:00 – 7:30 PM\n“City Rhythm Big Band”\nWe’re thrilled to have Tin-tins Rock & Roll Food Truck on site\, so bring your chairs/blankets and your loved ones to soak in the magic of music and community under the setting sun. Don’t miss out on this FREE event – see you there!
URL:https://themobmom.com/event/sunday-sunset-concert-series-2/
LOCATION:Bay Front Park (Daphne)
ATTACH;FMTTYPE=image/jpeg:https://themobmom.com/wp-content/uploads/2025/03/481660440_1051180343722958_2994122681739676469_n.jpg
END:VEVENT
BEGIN:VEVENT
DTSTART;TZID=UTC:20250426T190000
DTEND;TZID=UTC:20250426T200000
DTSTAMP:20260424T145946
CREATED:20250425T162835Z
LAST-MODIFIED:20250425T162835Z
UID:10731-1745694000-1745697600@themobmom.com
SUMMARY:Brandon Styles Variety Show
DESCRIPTION:A family-friendly\, impression\, comedy and magic show! Discover the many faces of Brandon Styles in this year-round Variety Show. Impressions from Frank Sinatra to Justin Bieber\, with 60 additional impressions in between! Sprinkled with just the right amount of comedy and magic to make this a great entertainment hour for all ages. Brandon Styles LIVE at OWA is a classy show that has something for the whole family! Brandon will awe you during his live performance of nearly 60 different celebrity singing & speaking impressions. To make this show unlike any other in the world\, he has incorporated the perfect amount of comedy\, magic\, dancing\, ventriloquism and audience participation in this fast-paced 60 minute show!
URL:https://themobmom.com/event/brandon-styles-variety-show-7/
LOCATION:OWA Parks & Resort
END:VEVENT
BEGIN:VEVENT
DTSTART;TZID=UTC:20250426T170000
DTEND;TZID=UTC:20250426T200000
DTSTAMP:20260424T145946
CREATED:20250425T042738Z
LAST-MODIFIED:20250425T042738Z
UID:10715-1745686800-1745697600@themobmom.com
SUMMARY:Inclusive Spring Gala
DESCRIPTION:MPRD Therapeutics has another exciting event to close out  Autism Awareness Month ! Join us at Dotch Community Center on Saturday\, April 26 for the annual  Inclusive Spring Gala !\nWe say it all the time\, and forgive our grammar\, but “Ain’t no party like a MPRD Therapeutics party!”  Rock your best formal attire and get ready to hit the floor for an evening of music and dancing!\nIn addition to a catered reception\, there will be a special step show performance by Disrupshun Service Organization\, a music solo by gospel artist Ora Sylvester and a fashion show by the MPRD Therapeutics crew!\nSponsored by Exclusive Residential Service Inc. We hope that you can make it out to celebrate with us!
URL:https://themobmom.com/event/inclusive-spring-gala/
LOCATION:Dotch Community Center
ATTACH;FMTTYPE=image/jpeg:https://themobmom.com/wp-content/uploads/2025/04/spring-gala.jpg
END:VEVENT
BEGIN:VEVENT
DTSTART;TZID=UTC:20250426T140000
DTEND;TZID=UTC:20250426T170000
DTSTAMP:20260424T145946
CREATED:20250425T164122Z
LAST-MODIFIED:20250425T164122Z
UID:10741-1745676000-1745686800@themobmom.com
SUMMARY:Dirty Dogs- A Dog Wash Fundraiser
DESCRIPTION:We are bringing one of our most requested events back! Bring your pooches down to Callaghan’s Irish Social Club on Saturday\, April 26th from 2-5pm for a dog wash fundraiser! For a $10 tax deductible donation\, your pooch will have the best bath of its life\, courtesy of our Delta Dogs volunteers. Owners\, you get to relax with a free beer courtesy of our dog loving friends at Bud-Busch Distributing. Nail trims and light grooming will be available for donations\, too!\nWe will also have live music and a silent auction with fantastic items from local businesses and artists\, and a lot of other fun! Stay tuned for more information!\nDelta Dogs is a nonprofit\, tax-exempt charitable organization (tax identification number 47-1605219) under Section 501(c)(3) of the Internal Revenue Code. We believe that a person’s ability to provide love and compassion to their pets is not based on their net worth. Our mission is to aid in providing free veterinary care and spay/neuters services to the treasured pets of people in need in the city of Mobile\, Alabama
URL:https://themobmom.com/event/dirty-dogs-a-dog-wash-fundraiser/
LOCATION:Callaghan’s Irish Social Club
END:VEVENT
BEGIN:VEVENT
DTSTART;TZID=UTC:20250426T130000
DTEND;TZID=UTC:20250426T170000
DTSTAMP:20260424T145946
CREATED:20250425T162009Z
LAST-MODIFIED:20250425T162009Z
UID:10725-1745672400-1745686800@themobmom.com
SUMMARY:Oyster City Market
DESCRIPTION:Oyster City Vendor Market– Saturday\, April 26th | 1-5PM\nJoin us at Oyster City Brewing Company on Saturday\, April 26th\, from 1-5PM for an afternoon of shopping\, sipping\, and supporting local makers!\nOur Oyster City Vendor Market brings together a fantastic lineup of local artists\, crafters\, and small businesses\, offering everything from handmade goods to unique finds.\nEnjoy a cold beer while you browse\, meet the talented vendors behind the products\, and soak in the vibrant community atmosphere. Whether you’re looking for the perfect gift or just want to treat yourself\, there’s something for everyone!\n Great Beer |  Local Vendors |  Good Vibes\nFood Trucks:TBD\nMark your calendar and bring your friends—this is a market you won’t want to miss!
URL:https://themobmom.com/event/oyster-city-market-2/
LOCATION:Oyster City Mobile
END:VEVENT
BEGIN:VEVENT
DTSTART;TZID=UTC:20250426T100000
DTEND;TZID=UTC:20250426T120000
DTSTAMP:20260424T145946
CREATED:20250425T043516Z
LAST-MODIFIED:20250425T043516Z
UID:10720-1745661600-1745668800@themobmom.com
SUMMARY:April 2025 Free Walking Tour | Colonial Fort Conde
DESCRIPTION:Colonial Fort Condé – “Living History Tour”Visit Colonial Fort Condé and experience three demonstrations: A black powder and gun presentation where a living history interpreter describes the process and history of the firearms used during the period\, a medicinal-based presentation in our Apothecary exhibit room and a colonial clothing presentation in the Tailor’s exhibit room.\nAll tours will begin at 10 a.m. each Saturday\, departing from the Visit Mobile Welcome Center (located inside the History Museum of Mobile) in Downtown Mobile.\nVisit Mobile is pleased to announce the return of free walking tours every Saturday in April 2025. Locals and visitors are invited to explore the city and enjoy a guided tour designed to educate participants on various topics involving Mobile culture\, cuisine\, history and more!
URL:https://themobmom.com/event/april-2025-free-walking-tour-colonial-fort-conde/
LOCATION:Colonial Fort Conde
END:VEVENT
BEGIN:VEVENT
DTSTART;TZID=UTC:20250426T080000
DTEND;TZID=UTC:20250426T120000
DTSTAMP:20260424T145946
CREATED:20250425T041342Z
LAST-MODIFIED:20250425T041626Z
UID:10706-1745654400-1745668800@themobmom.com
SUMMARY:Lope the Loop
DESCRIPTION:Mark your calendars!! Lope the Loop is coming back on Saturday\, April 26\, and no matter your experience level\, you’re invited to join us for this 3.5-mile romp!\n Runners\, walkers\, wheelchair users\, cyclists\, parents with children\, leashed dogs\, and others are welcome to participate in this fun and FREE community event\, hosted by the MPRD Fitness Department\, and in conjunction with the 100 Alabama Miles Challenge\, which encourages Alabamians to walk\, run\, hike\, bike\, swim\, paddle\, ride or roll 100 miles each year.\nOnline registration is now open! On-site registration will also be available on the day of the event\, beginning at 6:00 a.m. in the parking lot of the Ice Box on Broad Street. Click on the link below to pre-register:\n https://mprd.recdesk.com/Community/Program/Detail…\nThe race will start at 8:00 a.m. Participants can join the 100 Alabama Miles Challenge by logging their miles at https://100alabamamiles.org/.\nClick here for a video of the inaugural Lope the Loop event in 2023: https://www.youtube.com/watch?v=_QbUKjhcNEE
URL:https://themobmom.com/event/lope-the-loop/
LOCATION:The Ice Box Bar
ATTACH;FMTTYPE=image/jpeg:https://themobmom.com/wp-content/uploads/2025/04/lope-the-loop.jpg
END:VEVENT
END:VCALENDAR