BEGIN:VCALENDAR
VERSION:2.0
PRODID:-//MOB Moms - ECPv6.15.1.1//NONSGML v1.0//EN
CALSCALE:GREGORIAN
METHOD:PUBLISH
X-WR-CALNAME:MOB Moms
X-ORIGINAL-URL:https://themobmom.com
X-WR-CALDESC:Events for MOB Moms
REFRESH-INTERVAL;VALUE=DURATION:PT1H
X-Robots-Tag:noindex
X-PUBLISHED-TTL:PT1H
BEGIN:VTIMEZONE
TZID:UTC
BEGIN:STANDARD
TZOFFSETFROM:+0000
TZOFFSETTO:+0000
TZNAME:UTC
DTSTART:20250101T000000
END:STANDARD
END:VTIMEZONE
BEGIN:VEVENT
DTSTART;TZID=UTC:20250617T180000
DTEND;TZID=UTC:20250617T210000
DTSTAMP:20260425T135633
CREATED:20250612T215200Z
LAST-MODIFIED:20250612T215200Z
UID:11727-1750183200-1750194000@themobmom.com
SUMMARY:Sunset Sounds at Portside
DESCRIPTION:About\n\nJoin us every Tuesday for Sunset Sounds at Portside\, where live music meets waterfront vibes! Enjoy an evening of great tunes featuring face painting\, the Reptile Bus\, Cornhole boards\, giant Jenga + so much more. You don’t want to miss the stunning sunset views from the beautiful green space. Grab a drink\, relax with friends\, and let the music set the mood. \n\n\n\nWhere\nPortside on Main\n\n\nDate\nTuesday\, June 17\n\n\nTime\n6 pm – 9 pm\n\n\nEvent Schedule\n\n\nKids’ Activities + DJ Matt: 6-9 pm\nSPECTRA Laser Light Experience: 8:30\, 9 + 9:30 pm\n\n\n\n\nCost\n\nFREE admission + parking; some activities cost $5-10
URL:https://themobmom.com/event/sunset-sounds-at-portside-3/
LOCATION:The Wharf
ATTACH;FMTTYPE=image/jpeg:https://themobmom.com/wp-content/uploads/2025/05/sunset-sounds-at-portside.jpg
END:VEVENT
BEGIN:VEVENT
DTSTART;TZID=UTC:20250616T180000
DTEND;TZID=UTC:20250616T210000
DTSTAMP:20260425T135633
CREATED:20250612T214805Z
LAST-MODIFIED:20250612T214805Z
UID:11723-1750096800-1750107600@themobmom.com
SUMMARY:Main Street Beats
DESCRIPTION:We’re spinning more than just up town beats every Monday night during the summer season. Grab the kiddos and come out to enjoy entertainment and dance to the rhythm of the beat with DJ Matt\, experience the Reptile Bus or get your face painted all season long.
URL:https://themobmom.com/event/main-street-beats-2/
LOCATION:The Wharf- Main Street
ATTACH;FMTTYPE=image/jpeg:https://themobmom.com/wp-content/uploads/2025/05/main-street-beats.jpg
END:VEVENT
BEGIN:VEVENT
DTSTART;TZID=UTC:20250616T180000
DTEND;TZID=UTC:20250616T200000
DTSTAMP:20260425T135633
CREATED:20250522T150350Z
LAST-MODIFIED:20250522T150350Z
UID:11263-1750096800-1750104000@themobmom.com
SUMMARY:STEM for Kids
DESCRIPTION:STEM for Kids will be at the Loxley Civic Center June 16th at 6:00 p.m. They will offer a ‘Lego Robotics’ program for children ages 5 – 16 years. Each participant will build a Lego Robot! This program has limited space available and registration is required.\nCall the Loxley Public Library to register for this and our other great events! (251) 964-5695.
URL:https://themobmom.com/event/stem-for-kids/
LOCATION:Loxley Civic Center\, Loxley\, Alabama
ATTACH;FMTTYPE=image/jpeg:https://themobmom.com/wp-content/uploads/2025/05/498204698_1150675593764508_2645062771306531281_n.jpg
END:VEVENT
BEGIN:VEVENT
DTSTART;VALUE=DATE:20250616
DTEND;VALUE=DATE:20250620
DTSTAMP:20260425T135633
CREATED:20250612T155314Z
LAST-MODIFIED:20250612T160440Z
UID:11701-1750032000-1750377599@themobmom.com
SUMMARY:Summer Cooking Camps | Kung Fu Panda
DESCRIPTION:Suggested ages 6 and up. This week we will be making recipes from the Kung Fu Panda movie or inspired by the movie. \nIncludes:~2 servings of each dish (1 to enjoy at camp and 1 to take home to share)~Kitchen safety~Cooking tools & methods~Games\n\nCheck out our website for times & days offered.
URL:https://themobmom.com/event/morning-summer-cooking-camp-kung-fu-panda/
LOCATION:The Cookery Project
ATTACH;FMTTYPE=image/jpeg:https://themobmom.com/wp-content/uploads/2025/06/kung-fu-panda.jpg
END:VEVENT
BEGIN:VEVENT
DTSTART;TZID=UTC:20250615T153000
DTEND;TZID=UTC:20250615T173000
DTSTAMP:20260425T135633
CREATED:20250612T153806Z
LAST-MODIFIED:20250612T153806Z
UID:11698-1750001400-1750008600@themobmom.com
SUMMARY:Father's Day Sunday Cruise!
DESCRIPTION:Embark on an adventurous journey this Father’s Day aboard our majestic two-level\, climate-controlled steel riverboat\, The Perdido Queen! As you cruise along the scenic waterways\, prepare to be captivated by the breathtaking riverfront views – the perfect backdrop to celebrate the special dad in your life.
URL:https://themobmom.com/event/fathers-day-sunday-cruise/
LOCATION:Perdido Queen Dinner Cruise
ATTACH;FMTTYPE=image/jpeg:https://themobmom.com/wp-content/uploads/2025/06/fathers-day-cruise.jpg
END:VEVENT
BEGIN:VEVENT
DTSTART;TZID=UTC:20250614T190000
DTEND;TZID=UTC:20250614T210000
DTSTAMP:20260425T135633
CREATED:20250612T150323Z
LAST-MODIFIED:20250612T150323Z
UID:11689-1749927600-1749934800@themobmom.com
SUMMARY:Breakthrough Teen's Glow in the Dark Party
DESCRIPTION:Calling all teens! What better way to kickoff the summer than a pool party? Join Breakthrough Teens for an unforgettable night at their Glow in the Dark Pool Party\, taking place Saturday\, May 24 at the Hillsdale Community Center! \nThe fun begins at 7:00 p.m. Enjoy great food from food trucks\, groove to the beat with awesome music\, and get ready for games that will light up the night! \nDon’t miss out on the ultimate summer kickoff!  Tell your friends and turn your post notifications on\, and get ready to make memories that will shine all summer long!
URL:https://themobmom.com/event/breakthrough-teens-glow-in-the-dark-party-2/
LOCATION:Hillsdale Community Center & Park
ATTACH;FMTTYPE=image/jpeg:https://themobmom.com/wp-content/uploads/2025/06/glow-in-the-dark.jpg
END:VEVENT
BEGIN:VEVENT
DTSTART;TZID=UTC:20250614T150000
DTEND;TZID=UTC:20250614T180000
DTSTAMP:20260425T135633
CREATED:20250612T144819Z
LAST-MODIFIED:20250612T144819Z
UID:11678-1749913200-1749924000@themobmom.com
SUMMARY:Makers Market & Open House (Free MMOA Admission!)
DESCRIPTION:Join Mobile Museum of Art for an afternoon of local shopping\, live music\, food trucks\, art activities\, and free admission to the Museum.\nVendors will be offering a variety of handmade items\, such as jewelry\, pottery\, self-care products\, and more. Enjoy live\, local music\, and tasty treats will be available from a variety of food trucks.\nDuring the Open House\, the whole family can gather in our Education Wing to create an art project together.\nThe Museum will also have galleries full of masterworks by renowned artists in special exhibitions\, including JUAN LOGAN: Without Stopping\, Vuzumazulu: The Black Solarium — An Abantu Cultural Expose by Abaddon “Apollo” Ben Yakongo\, CRYPTIC UNDER WING: Glass and Mixed Media by Rachel Wright\, and Fantastical Forest.\nAdmission to the Museum will be free all day in addition to the afternoon activities.
URL:https://themobmom.com/event/makers-market-open-house-free-mmoa-admission/
LOCATION:Mobile Museum of Art
ATTACH;FMTTYPE=image/jpeg:https://themobmom.com/wp-content/uploads/2025/06/makers-market.jpg
END:VEVENT
BEGIN:VEVENT
DTSTART;TZID=UTC:20250614T150000
DTEND;TZID=UTC:20250614T153000
DTSTAMP:20260425T135633
CREATED:20250609T061859Z
LAST-MODIFIED:20250609T061859Z
UID:11593-1749913200-1749915000@themobmom.com
SUMMARY:Saturday Crafternoon (Paint an old record)
DESCRIPTION:Event Details\n\n\n\nLet’s enjoy making crafts together! \nJoin us every Saturday at the Theodore Oaks Branch to get creative and make a fun craft. \n\n\n\n\nThis Saturday\, we will paint an old record! \nThis program is ideal for children ages 6 – 11\, but all ages are welcome. Supplies and space are limited though\, and participation is on a first come\, first serve basis. For more information\, please email theocir@mplonline.org or call (251) 662-7674. \n\nDisclaimer(s)\n\n\n\nFood Allergies\n\nWe cannot guarantee that food served at this program has not come into contact with tree nuts\, soy or other allergens.
URL:https://themobmom.com/event/saturday-crafternoon-paint-an-old-record/
LOCATION:Mobile Public Library- Theodore Oaks Branch
ATTACH;FMTTYPE=image/png:https://themobmom.com/wp-content/uploads/2025/06/Calendar-Pics-LM-THEO-Saturday-Crafternoon.png
END:VEVENT
BEGIN:VEVENT
DTSTART;TZID=UTC:20250614T140000
DTEND;TZID=UTC:20250614T160000
DTSTAMP:20260425T135633
CREATED:20250609T061426Z
LAST-MODIFIED:20250609T061426Z
UID:11588-1749909600-1749916800@themobmom.com
SUMMARY:Chess Club for Everyone at Moorer
DESCRIPTION:Beginners and experienced players welcome! \nPlaying chess improves concentration and problem-solving skills. Join us at Monte L. Moorer/Spring Hill Branch for chess club designed for ages 6 and up.
URL:https://themobmom.com/event/chess-club-for-everyone-at-moorer-4/
LOCATION:Monte. L Moorer/Spring Hill Branch Library
END:VEVENT
BEGIN:VEVENT
DTSTART;TZID=UTC:20250614T113000
DTEND;TZID=UTC:20250614T133000
DTSTAMP:20260425T135633
CREATED:20250609T061319Z
LAST-MODIFIED:20250609T061319Z
UID:11586-1749900600-1749907800@themobmom.com
SUMMARY:Teen Dungeons and Dragons at Moorer Primary tabs
DESCRIPTION:Event Details\n\n\n\n“We must never stop failing\, because the minute we do\, we’ve failed.” -Dungeons and Dragons \nCome roll some dice and go on an epic adventure with D&D at the Moorer Branch Library! Teens ages 12-18 are invited to come create heroes and venture into the unknown in the popular table-top adventure game. \nRegistration is recommended! For more information\, please email Alec Broussard at abroussard@mplonline.org\, or call 251-494-4140. \n\n\n\nDisclaimer(s)\n\n\n\nFood Allergies\n\nWe cannot guarantee that food served at this program has not come into contact with tree nuts\, soy or other allergens
URL:https://themobmom.com/event/teen-dungeons-and-dragons-at-moorer-primary-tabs/
LOCATION:Monte. L Moorer/Spring Hill Branch Library
END:VEVENT
BEGIN:VEVENT
DTSTART;TZID=UTC:20250614T103000
DTEND;TZID=UTC:20250614T113000
DTSTAMP:20260425T135633
CREATED:20250609T061635Z
LAST-MODIFIED:20250609T061635Z
UID:11590-1749897000-1749900600@themobmom.com
SUMMARY:Snuggling Stories
DESCRIPTION:Morning snuggles with fun giggles! \nJoin us at the Saraland Public Library to enjoy fun stories\, songs\, movements\, and a craft.
URL:https://themobmom.com/event/snuggling-stories-3/
LOCATION:Saraland Public Library
ATTACH;FMTTYPE=image/png:https://themobmom.com/wp-content/uploads/2025/06/Snuggling-Stories-LM-Calendar.png
END:VEVENT
BEGIN:VEVENT
DTSTART;TZID=UTC:20250614T100000
DTEND;TZID=UTC:20250614T160000
DTSTAMP:20260425T135633
CREATED:20250612T145746Z
LAST-MODIFIED:20250612T145746Z
UID:11686-1749895200-1749916800@themobmom.com
SUMMARY:First Annual Car Show at Market at the Loop!
DESCRIPTION: Pop’s 1st Annual Car Show – A Father’s Day Weekend Celebration! \nJoin us on Saturday\, June 14th from 10 AM–4 PM at Pop’s Midtown for our very first classic car celebration!\nWe’re bringing the heat with: A stunning lineup of vintage + exotic rides Car competition with Grand Prize Winner A curated vendor market with local artists + makers Unique Father’s Day gifts for every kind of dad\nPlus all the flavor you expect from Pop’s: Homemade lemonade Hot popcorn Mouthwatering burgers from Burger Box Ice-cold snow cones from LuLu’s\n⸻\n Have a classic or exotic car you want to show off or think you can win it all?\nWe’d love to have you in the show! Email pop@popsmidtown.com to reserve your spot in the competition.\n Interested in becoming a vendor?\nWe’re looking for local makers\, artists\, and creators with top-tier setups and one-of-a-kind wares perfect for dad. Reach out to Malcolm at pop@popsmidtown.com with:• A description of what you sell• Photos of your booth at past events\n⸻\nLet’s make this a tradition\, y’all!\nFree to attend • Family-friendly • Full of flavor and fun!\nSee y’all at Pop’s!\n2103 Airport Blvd. 36606
URL:https://themobmom.com/event/first-annual-car-show-at-market-at-the-loop/
LOCATION:Pop’s Midtown
ATTACH;FMTTYPE=image/jpeg:https://themobmom.com/wp-content/uploads/2025/06/Pops-car-show.jpg
END:VEVENT
BEGIN:VEVENT
DTSTART;TZID=UTC:20250614T100000
DTEND;TZID=UTC:20250614T140000
DTSTAMP:20260425T135633
CREATED:20250612T145058Z
LAST-MODIFIED:20250612T145058Z
UID:11681-1749895200-1749909600@themobmom.com
SUMMARY:Second Saturday Earth & Art Market
DESCRIPTION:Introducing the city’s newest Farmers Market in the heart of Midtown. The Second Saturday of Every Month 10am-2pm!  Featuring fresh produce\, local artisans\, delicious food\, and all the good vibes to make your Saturday shine. Vendors Wanted
URL:https://themobmom.com/event/second-saturday-earth-art-market/
LOCATION:1260 Dauphin Street Mobile
ATTACH;FMTTYPE=image/jpeg:https://themobmom.com/wp-content/uploads/2025/06/second-saturday.jpg
END:VEVENT
BEGIN:VEVENT
DTSTART;TZID=UTC:20250614T100000
DTEND;TZID=UTC:20250614T120000
DTSTAMP:20260425T135633
CREATED:20250612T051044Z
LAST-MODIFIED:20250612T051044Z
UID:11662-1749895200-1749902400@themobmom.com
SUMMARY:Dad & Me Donuts
DESCRIPTION:SAVE THE DATE!!\nCelebrating Fathers’ Day… Donuts & games with Dad!\nTickets> https://hsa.regfox.com/daddy-me-donuts
URL:https://themobmom.com/event/dad-me-donuts/
LOCATION:Gather Kids Place
ATTACH;FMTTYPE=image/jpeg:https://themobmom.com/wp-content/uploads/2025/06/dad-donuts.jpg
END:VEVENT
BEGIN:VEVENT
DTSTART;TZID=UTC:20250614T100000
DTEND;TZID=UTC:20250614T113000
DTSTAMP:20260425T135633
CREATED:20250609T060712Z
LAST-MODIFIED:20250609T060712Z
UID:11577-1749895200-1749900600@themobmom.com
SUMMARY:Saturday Morning Cartoon
DESCRIPTION:Event Details\n\nLet’s enjoy a Saturday Morning Cartoon & have some fun at the Ben May Main Library!  \nJoin us for a movie\, crafting\, detective activities\, and book checkouts to kick off the weekend! We will watch the feature film The Great Mouse Detective (1986) G-1hr. 15mins.\, is a Tale of Basil of Baker Street\, an 1897 London rodent sleuth\, and his archenemy Professor Ratigan. \nFor more information\, please email Main’s Youth Desk at mainyou@mplonline.org or call 251-340-1325.
URL:https://themobmom.com/event/saturday-morning-cartoon/
LOCATION:Ben May Main Library
ATTACH;FMTTYPE=image/png:https://themobmom.com/wp-content/uploads/2025/06/Saturday-Morning-Cartoon.png
END:VEVENT
BEGIN:VEVENT
DTSTART;TZID=UTC:20250614T100000
DTEND;TZID=UTC:20250614T110000
DTSTAMP:20260425T135633
CREATED:20250609T060928Z
LAST-MODIFIED:20250609T060928Z
UID:11580-1749895200-1749898800@themobmom.com
SUMMARY:Mad Science
DESCRIPTION:We have fun down to a science! \nBring your Child or Teen to the Moorer Branch to explore science with fun and wacky crafts! We’ll be conducting all sorts of experiments. This is suitable for ages 8-14.
URL:https://themobmom.com/event/mad-science-2/
LOCATION:Monte. L Moorer/Spring Hill Branch Library
ATTACH;FMTTYPE=image/png:https://themobmom.com/wp-content/uploads/2025/06/Mad-Science-LM-Calendar_1.png
END:VEVENT
BEGIN:VEVENT
DTSTART;TZID=UTC:20250614T100000
DTEND;TZID=UTC:20250614T103000
DTSTAMP:20260425T135633
CREATED:20250609T061114Z
LAST-MODIFIED:20250609T061114Z
UID:11583-1749895200-1749897000@themobmom.com
SUMMARY:Chess Club for All Ages at Parkway
DESCRIPTION:Learn chess for all ages!  \nWhether you’re brand new to the game\, need a refresher\, or just want to talk about how to win checkmate\, come hang out with us at Parkway.
URL:https://themobmom.com/event/chess-club-for-all-ages-at-parkway-4/
LOCATION:Parkway Branch
ATTACH;FMTTYPE=image/png:https://themobmom.com/wp-content/uploads/2025/06/Chess-Club-for-All-Ages-LM-Calendar.png
END:VEVENT
BEGIN:VEVENT
DTSTART;TZID=UTC:20250614T090000
DTEND;TZID=UTC:20250614T140000
DTSTAMP:20260425T135633
CREATED:20250604T210344Z
LAST-MODIFIED:20250604T210344Z
UID:11414-1749891600-1749909600@themobmom.com
SUMMARY:Corn Festival
DESCRIPTION:The Coastal Alabama Farmers & Fishermen’s Market is hosting the the 9th Annual Corn Festival the Saturday before Father’s Day\, June 14.\nThe Corny Dad Cook-Off is returning with three local cooks\, who are also dads\, creating a delicious dish with corn as the main ingredient. Then YOU get to vote for who made the best one.\nDon’t forget to sign up for the corn-eating contest. There will be activities for the kids and of course all your favorite vendors selling the flavors of the season\, including\, you guessed it\, CORN!
URL:https://themobmom.com/event/corn-festival/
LOCATION:781 Farmers Market Lane\, Foley
END:VEVENT
BEGIN:VEVENT
DTSTART;TZID=UTC:20250614T070000
DTEND;TZID=UTC:20250614T120000
DTSTAMP:20260425T135633
CREATED:20250612T143320Z
LAST-MODIFIED:20250612T143320Z
UID:11665-1749884400-1749902400@themobmom.com
SUMMARY:Spring/Summer Market in the Park
DESCRIPTION:Shop locally grown\, locally produced and handmade items at Market in the Park!\nThis spring/summer\, Market in the Park will run every Saturday from April 26 through June 28. Explore a wide variety of fresh\, locally-grown produce\, artisanal goods\, and handcrafted items from local vendors while enjoying live entertainment in Cathedral Square. We’re proud to support our community with a selection of vendors who accept SNAP benefits\, making fresh\, healthy options accessible to all. \nEvery Saturday\, the market will open at Cathedral Square at 7:30 a.m. and close at noon.
URL:https://themobmom.com/event/spring-summer-market-in-the-park-7/
LOCATION:Cathedral Square\, Mobile\, Alabama
ATTACH;FMTTYPE=image/jpeg:https://themobmom.com/wp-content/uploads/2025/05/market-in-the-park.jpg
END:VEVENT
BEGIN:VEVENT
DTSTART;TZID=UTC:20250613T170000
DTEND;TZID=UTC:20250613T200000
DTSTAMP:20260425T135633
CREATED:20250612T152547Z
LAST-MODIFIED:20250612T152547Z
UID:11692-1749834000-1749844800@themobmom.com
SUMMARY:Satsuma Meals & Wheels Food Trucks
DESCRIPTION:5+ food trucks food trucks food variety for everyoneHOLLY JOLLY SNOWCONESCUPS FOR A CURE- LEMONADESHUX YALL FIRE ROASTED CORNSOUTHERN SWIGS- DIRTY SODAS & LOADED POTATOESJOJO’S WINGSLUCKY COW – ICE CREAM SANDWICHES AND MORE!\nANY FOOD TRUCKS INTERESTED IN ATTENDING PLEASE CONTACT CITY HALL 251-675-1440
URL:https://themobmom.com/event/satsuma-meals-wheels-food-trucks/
LOCATION:5464 Old Hwy 43 Satsuma
ATTACH;FMTTYPE=image/jpeg:https://themobmom.com/wp-content/uploads/2025/06/wheels-and-meals.jpg
END:VEVENT
BEGIN:VEVENT
DTSTART;TZID=UTC:20250613T150000
DTEND;TZID=UTC:20250613T170000
DTSTAMP:20260425T135633
CREATED:20250612T153140Z
LAST-MODIFIED:20250612T153140Z
UID:11696-1749826800-1749834000@themobmom.com
SUMMARY:Book Signing Party with Story Time & Live Character Drawing
DESCRIPTION:If you missed the first one\, now is your chance to come again! Scott and Savanna will be selling their book\, “Po the Penguin: Po Finds Out She’s Different” Friday June 13th at Mokas Coffee House in Saraland. Come see us to get a copy of the book\, hear the story read\, and have a live character drawing too. Grab a coffee\, a book\, and have a great time! See you then!
URL:https://themobmom.com/event/book-signing-party-with-story-time-live-character-drawing/
LOCATION:Moka’s Coffee House
END:VEVENT
BEGIN:VEVENT
DTSTART;TZID=UTC:20250613T133000
DTEND;TZID=UTC:20250613T163000
DTSTAMP:20260425T135633
CREATED:20250604T205726Z
LAST-MODIFIED:20250604T205726Z
UID:11411-1749821400-1749832200@themobmom.com
SUMMARY:Father's Day Make-N-Take
DESCRIPTION:Stop by the community room to make a special gift for the best joke-teller you know – DAD!
URL:https://themobmom.com/event/fathers-day-make-n-take/
LOCATION:Daphne Public Library\, Daphne\, Alabama\, 36526
ATTACH;FMTTYPE=image/jpeg:https://themobmom.com/wp-content/uploads/2025/06/502422779_732361402634756_2422590519517489769_n.jpg
END:VEVENT
BEGIN:VEVENT
DTSTART;TZID=UTC:20250613T130000
DTEND;TZID=UTC:20250613T140000
DTSTAMP:20260425T135633
CREATED:20250609T060230Z
LAST-MODIFIED:20250609T060230Z
UID:11574-1749819600-1749823200@themobmom.com
SUMMARY:Family Fun Friday
DESCRIPTION:Time with your family you can enjoy with us at the Moorer Branch! \nBring your family or friends to the Moorer Branch Library to join us in tabletop games\, puzzles\, and other family fun games every Friday. \nFor more information\, please email Moorer’s reference desk at mlmref@mplonline.org or 251-494-4140.
URL:https://themobmom.com/event/family-fun-friday/
LOCATION:Monte. L Moorer/Spring Hill Branch Library
ATTACH;FMTTYPE=image/png:https://themobmom.com/wp-content/uploads/2025/06/Family-Fun-Friday-LM-Calendar.png
END:VEVENT
BEGIN:VEVENT
DTSTART;TZID=UTC:20250613T120000
DTEND;TZID=UTC:20250613T130000
DTSTAMP:20260425T135633
CREATED:20250612T145332Z
LAST-MODIFIED:20250612T145332Z
UID:11684-1749816000-1749819600@themobmom.com
SUMMARY:The Mama Village - Monthly Meetup
DESCRIPTION:The Mama Village is a FREE motherhood support group for mamas with babies aged 0-2.The group is facilitated by perinatal therapist Morgan Bradwell\, LICSW\, PMH-C of Village Therapy Collective & perinatal chiropractor Dr. Tiffany Jones\, DC of Liberation Chiropractic & Wellness.\nWe meet once a month on Fridays from 12-1pm at Redbar Espresso. Buying a coffee\, smoothie\, or lunch from Redbar is encouraged as a way of thanking them for freely offering us a space to meet. Pro tip – get to Redbar a few minutes early to place your order before their lunch rush!\nBabies welcome!! If you have a toddler\, we do suggest bringing some small activities for them to play with. But of course\, no judgment if you’d rather come solo and have a self-care hour without baby \n* Disclaimer – This group is not psychotherapy or chiropractic care\, nor is it a replacement for psychotherapy or chiropractic care. *
URL:https://themobmom.com/event/the-mama-village-monthly-meetup/
LOCATION:Redbar Espresso & Market LLC
ATTACH;FMTTYPE=image/jpeg:https://themobmom.com/wp-content/uploads/2025/04/mama-village-monthly-meet-up.jpg
END:VEVENT
BEGIN:VEVENT
DTSTART;TZID=UTC:20250612T180000
DTEND;TZID=UTC:20250612T210000
DTSTAMP:20260425T135633
CREATED:20250513T134801Z
LAST-MODIFIED:20250513T135417Z
UID:11003-1749751200-1749762000@themobmom.com
SUMMARY:Bubble Bash
DESCRIPTION:Get ready for a bubbly good time because Thursdays are about to be Poppin’. Come early and enjoy entertainment from DJ Matt\, camel rides\, cornhole games\, face painting + more! Dance to the beats\, dive into kid-friendly fun\, and splash around the Bubble Truck because things are about to get poppin’ all season long!\nDate + Time: Thursdays; June 5 – July 31 | 6-9 pm (event will not be held on May 29\, July 3 or 10)Where: Main Street\nFREE admission + parking; some activities cost $5-10Schedule:– Kids’ Activities + DJ Matt: 6-9 pm– Bubble Truck: 6:30-8:30 pm / Last 30 min – GLOW Bubbles– SPECTRA Laser Light Experience: 8:30\, 9 + 9:30 pm\n**Don’t forget a swimsuit + towel for the water activities! Giant 15 ft water slide on July 17 + 24
URL:https://themobmom.com/event/bubble-bash/
LOCATION:The Wharf
ATTACH;FMTTYPE=image/jpeg:https://themobmom.com/wp-content/uploads/2025/05/494192880_1100802165417426_3502658218596864536_n.jpg
END:VEVENT
BEGIN:VEVENT
DTSTART;TZID=UTC:20250612T163000
DTEND;TZID=UTC:20250612T173000
DTSTAMP:20260425T135633
CREATED:20250609T054952Z
LAST-MODIFIED:20250609T054952Z
UID:11557-1749745800-1749749400@themobmom.com
SUMMARY:Legoland in Saraland
DESCRIPTION:Let’s have fun in Legoland! \nLEGOs encourage kids to learn while having fun! Use your imagination & challenge your LEGO skills. We will even have Duplo blocks for toddlers.
URL:https://themobmom.com/event/legoland-in-saraland-3/
LOCATION:Saraland Public Library
ATTACH;FMTTYPE=image/png:https://themobmom.com/wp-content/uploads/2025/06/Legoland-in-saralandLM-calendar.png
END:VEVENT
BEGIN:VEVENT
DTSTART;TZID=UTC:20250612T160000
DTEND;TZID=UTC:20250612T164500
DTSTAMP:20260425T135633
CREATED:20250609T054301Z
LAST-MODIFIED:20250609T054301Z
UID:11549-1749744000-1749746700@themobmom.com
SUMMARY:Create it\, Build it\, Play it!
DESCRIPTION:Fun for children of all ages! \nJoin us in the Meeting Room at the Grand Bay Library for fun STEAM/STEM focused crafts and activities. Get creative and have fun socializing with others who love arts and crafts.
URL:https://themobmom.com/event/create-it-build-it-play-it-3/
LOCATION:Grand Bay Library
ATTACH;FMTTYPE=image/png:https://themobmom.com/wp-content/uploads/2025/06/Create-it-Build-it-Play-it-LM-Calendar.png
END:VEVENT
BEGIN:VEVENT
DTSTART;TZID=UTC:20250612T160000
DTEND;TZID=UTC:20250612T163000
DTSTAMP:20260425T135633
CREATED:20250609T055825Z
LAST-MODIFIED:20250609T055825Z
UID:11568-1749744000-1749745800@themobmom.com
SUMMARY:Rock n’ Storytime
DESCRIPTION:It’s story-time with a musical twist. \nExperience your favorite stories old and new\, come to life with narrator and\, guitarist Mr. Dave\, and of course\, you. Each meeting\, we’ll read a story together\, and perform one or two sing-alongs as well.
URL:https://themobmom.com/event/rock-n-storytime-4/
LOCATION:West Regional Library
ATTACH;FMTTYPE=image/png:https://themobmom.com/wp-content/uploads/2025/06/Rock-n-Storytime-LM-Calendar.png
END:VEVENT
BEGIN:VEVENT
DTSTART;TZID=UTC:20250612T153000
DTEND;TZID=UTC:20250612T170000
DTSTAMP:20260425T135633
CREATED:20250609T060036Z
LAST-MODIFIED:20250609T060036Z
UID:11571-1749742200-1749747600@themobmom.com
SUMMARY:Throwdown Thursday (Teens)
DESCRIPTION:Event Details\n\n\n\nAfterschool in the Teen Space at West Regional Library! \nThis is a laid-back meetup to unwind playing games with other teens. We play lots of video games\, both new and classic – Playstation\, Nintendo and Xbox available. We also have board games and other tabletop activities. There are computers to play on as well if you enjoy PC games. It’s all about unwinding and having fun after school. \n\n\n\nDisclaimer(s)\n\n\n\nFood Allergies\n\nWe cannot guarantee that food served at this program has not come into contact with tree nuts\, soy or other allergens.
URL:https://themobmom.com/event/throwdown-thursday-teens/
LOCATION:West Regional Library
ATTACH;FMTTYPE=image/png:https://themobmom.com/wp-content/uploads/2025/06/Throwdown-Thursday-at-West-LM-Calendar.png
END:VEVENT
BEGIN:VEVENT
DTSTART;TZID=UTC:20250612T150000
DTEND;TZID=UTC:20250612T170000
DTSTAMP:20260425T135633
CREATED:20250609T054609Z
LAST-MODIFIED:20250609T054609Z
UID:11554-1749740400-1749747600@themobmom.com
SUMMARY:Chess Club for Everyone at Semmes
DESCRIPTION:Beginners and experienced players welcome! \nPlaying chess improves concentration and problem-solving skills. Join us at Semmes Library for chess club designed for ages 6 and up.
URL:https://themobmom.com/event/chess-club-for-everyone-at-semmes-5/
LOCATION:Semmes Regional Library
END:VEVENT
END:VCALENDAR