BEGIN:VCALENDAR
VERSION:2.0
PRODID:-//MOB Moms - ECPv6.15.1.1//NONSGML v1.0//EN
CALSCALE:GREGORIAN
METHOD:PUBLISH
X-WR-CALNAME:MOB Moms
X-ORIGINAL-URL:https://themobmom.com
X-WR-CALDESC:Events for MOB Moms
REFRESH-INTERVAL;VALUE=DURATION:PT1H
X-Robots-Tag:noindex
X-PUBLISHED-TTL:PT1H
BEGIN:VTIMEZONE
TZID:UTC
BEGIN:STANDARD
TZOFFSETFROM:+0000
TZOFFSETTO:+0000
TZNAME:UTC
DTSTART:20250101T000000
END:STANDARD
END:VTIMEZONE
BEGIN:VEVENT
DTSTART;TZID=UTC:20250531T100000
DTEND;TZID=UTC:20250531T103000
DTSTAMP:20260425T141059
CREATED:20250528T131133Z
LAST-MODIFIED:20250528T131133Z
UID:11363-1748685600-1748687400@themobmom.com
SUMMARY:Chess Club for All Ages at Parkway
DESCRIPTION:Learn chess for all ages!  \nWhether you’re brand new to the game\, need a refresher\, or just want to talk about how to win checkmate\, come hang out with us at Parkway.
URL:https://themobmom.com/event/chess-club-for-all-ages-at-parkway-3/
LOCATION:Parkway Branch
END:VEVENT
BEGIN:VEVENT
DTSTART;TZID=UTC:20250531T080000
DTEND;TZID=UTC:20250531T123000
DTSTAMP:20260425T141059
CREATED:20250602T215020Z
LAST-MODIFIED:20250602T215020Z
UID:11405-1748678400-1748694600@themobmom.com
SUMMARY:Family Fun Day
DESCRIPTION:Join us for a family fun event that will delight the kids. There will be food\, games\, face paint\, and more!
URL:https://themobmom.com/event/family-fun-day-3/
LOCATION:Medal of Honor Park
ATTACH;FMTTYPE=image/jpeg:https://themobmom.com/wp-content/uploads/2025/06/unnamed.jpg
END:VEVENT
BEGIN:VEVENT
DTSTART;TZID=UTC:20250531T073000
DTEND;TZID=UTC:20250531T120000
DTSTAMP:20260425T141059
CREATED:20250530T152401Z
LAST-MODIFIED:20250530T152401Z
UID:11387-1748676600-1748692800@themobmom.com
SUMMARY:Spring/Summer Market in the Park
DESCRIPTION:Shop locally grown\, locally produced and handmade items at Market in the Park!\nThis spring/summer\, Market in the Park will run every Saturday from April 26 through June 28. Explore a wide variety of fresh\, locally-grown produce\, artisanal goods\, and handcrafted items from local vendors while enjoying live entertainment in Cathedral Square. We’re proud to support our community with a selection of vendors who accept SNAP benefits\, making fresh\, healthy options accessible to all. \nEvery Saturday\, the market will open at Cathedral Square at 7:30 a.m. and close at noon.
URL:https://themobmom.com/event/spring-summer-market-in-the-park-6/
LOCATION:Cathedral Square\, Mobile\, Alabama
ATTACH;FMTTYPE=image/jpeg:https://themobmom.com/wp-content/uploads/2025/05/market-in-the-park.jpg
END:VEVENT
BEGIN:VEVENT
DTSTART;VALUE=DATE:20250531
DTEND;VALUE=DATE:20250602
DTSTAMP:20260425T141059
CREATED:20250530T151016Z
LAST-MODIFIED:20250530T151016Z
UID:11377-1748649600-1748822399@themobmom.com
SUMMARY:2025 Ballin' On The Bay Showcase Tournament
DESCRIPTION:Ballin’ On The Bay Showcase Tournament has become one of the top youth tournaments in the Southeast! More than 100 teams (boys and girls\, grades 3-12) from across the Gulf Coast will compete on multiple courts at the Mobile Convention Center. Each team is guaranteed three games. Pool play on May 31. Championship play on June 1.\nSchedule:\nSaturday\, May 31 – Doors open at 7 am; Tournament play is 8 am – 10 pmSunday\, June 1 – Doors open at 7 am; Tournament play is 8 am – 5 pm\nTickets are priced as follows:\nDaily Pass – $25 (ages 7 & up); $15 (ages 4-6)
URL:https://themobmom.com/event/2025-ballin-on-the-bay-showcase-tournament/
LOCATION:Mobile Convention Center\, Mobile\, Alabama
ATTACH;FMTTYPE=image/jpeg:https://themobmom.com/wp-content/uploads/2025/05/ballin-on-the-bay.jpg
END:VEVENT
BEGIN:VEVENT
DTSTART;TZID=UTC:20250530T180000
DTEND;TZID=UTC:20250530T200000
DTSTAMP:20260425T141059
CREATED:20250530T155900Z
LAST-MODIFIED:20250530T155900Z
UID:11393-1748628000-1748635200@themobmom.com
SUMMARY:Dauphin Island Ultimate Summer Games
DESCRIPTION:
URL:https://themobmom.com/event/dauphin-island-ultimate-summer-games/
LOCATION:East End Beach\, Dauphin Island
ATTACH;FMTTYPE=image/jpeg:https://themobmom.com/wp-content/uploads/2025/05/ultimate-summer-games.jpg
END:VEVENT
BEGIN:VEVENT
DTSTART;TZID=UTC:20250530T160000
DTEND;TZID=UTC:20250530T170000
DTSTAMP:20260425T141059
CREATED:20250528T125539Z
LAST-MODIFIED:20250528T125539Z
UID:11348-1748620800-1748624400@themobmom.com
SUMMARY:Beginner Guitar Lessons for Kids
DESCRIPTION:ign up at Semmes for Guitar Lesson! \nIs your child interested in learning to play the guitar? Now’s their chance! Join us in the Semmes Meeting Room for FREE lessons. Lesson books will be available. However\, Please bring your own guitar. For children ages 6-11. \nRegistration is required.  To register and for more information\, please call 251-494-4935 or email Callie Kelley at ckelley@mplonline.org.
URL:https://themobmom.com/event/beginner-guitar-lessons-for-kids/
LOCATION:Semmes Regional Library
END:VEVENT
BEGIN:VEVENT
DTSTART;VALUE=DATE:20250530
DTEND;VALUE=DATE:20250531
DTSTAMP:20260425T141100
CREATED:20250530T153011Z
LAST-MODIFIED:20250530T153011Z
UID:11389-1748563200-1748649599@themobmom.com
SUMMARY:Free Family Beach Movies
DESCRIPTION:Our very popular Free Family Movie Nights are once again sponsored by our friends at Greer’s Markets and kick off on May 22 featuring Madagascar. Movies are held at East End Beach and begin at dusk (weather permitting). Bring beach chairs\, blankets and bug spray (just in case). \nThe remaining summer line up is May 23- Luca\, May 29- The Secret Life of Pets\, May 30- Toy Story\, June 5- The Incredibles\, June 6- Frozen\, June 12- How to Train a Dragon\, June 13- Night at the Museum\, June 19- Tangled\, June 20- Cars\, June 26- Despicable Me\, June 27- Princess and the Frog\, July 3- Jaws\, July 4- Jaws\, July 10- Lilo & Stitch\, July 11- The Little Mermaid\, July 24- Shark Tale\, July 25- Finding Nemo\, July 31- Moana\, August 1- Lyle\, Lyle\, Crocodile\, August 7-Dr. Dolittle\, August 8- Yes Day. Great family fun!
URL:https://themobmom.com/event/free-family-beach-movies/
LOCATION:East End Beach\, Dauphin Island
ATTACH;FMTTYPE=image/jpeg:https://themobmom.com/wp-content/uploads/2025/05/DI-movie-night.jpg
END:VEVENT
BEGIN:VEVENT
DTSTART;TZID=UTC:20250529T170000
DTEND;TZID=UTC:20250529T180000
DTSTAMP:20260425T141100
CREATED:20250528T131554Z
LAST-MODIFIED:20250528T131554Z
UID:11367-1748538000-1748541600@themobmom.com
SUMMARY:Teen Kindergarten Night – Teen Services
DESCRIPTION:Our semiannual celebration of silliness! \nJoin us as we revisit our childhood to celebrate the end of the school year!
URL:https://themobmom.com/event/teen-kindergarten-night-teen-services/
LOCATION:Fairhope Public Library
END:VEVENT
BEGIN:VEVENT
DTSTART;TZID=UTC:20250529T163000
DTEND;TZID=UTC:20250529T173000
DTSTAMP:20260425T141100
CREATED:20250528T125413Z
LAST-MODIFIED:20250528T125413Z
UID:11346-1748536200-1748539800@themobmom.com
SUMMARY:Legoland in Saraland
DESCRIPTION:Let’s have fun in Legoland! \nLEGOs encourage kids to learn while having fun! Use your imagination & challenge your LEGO skills. We will even have Duplo blocks for toddlers.
URL:https://themobmom.com/event/legoland-in-saraland-2/
LOCATION:Saraland Public Library
END:VEVENT
BEGIN:VEVENT
DTSTART;TZID=UTC:20250529T160000
DTEND;TZID=UTC:20250529T200000
DTSTAMP:20260425T141100
CREATED:20250312T144253Z
LAST-MODIFIED:20250312T144253Z
UID:10172-1748534400-1748548800@themobmom.com
SUMMARY:Food Truck Festival @MMofA
DESCRIPTION:Join us for a delicious evening at Mobile Museum of Art’s Food Truck Night! Free EntryEnjoy a variety of local flavors from some of the best food trucks in the area\, all set against the backdrop of art and community. Bring your appetite and come hang out with us for a night of great food and good vibes!
URL:https://themobmom.com/event/food-truck-festival-mmofa/
LOCATION:Mobile Museum of Art
ATTACH;FMTTYPE=image/jpeg:https://themobmom.com/wp-content/uploads/2025/03/481570377_1189491189846511_5456375509750888829_n.jpg
END:VEVENT
BEGIN:VEVENT
DTSTART;TZID=UTC:20250529T160000
DTEND;TZID=UTC:20250529T170000
DTSTAMP:20260425T141100
CREATED:20250528T125247Z
LAST-MODIFIED:20250528T125247Z
UID:11344-1748534400-1748538000@themobmom.com
SUMMARY:Create it\, Build it\, Play it!
DESCRIPTION:Fun for children of all ages! \nJoin us in the Meeting Room at the Grand Bay Library for fun STEAM/STEM focused crafts and activities. Get creative and have fun socializing with others who love arts and crafts.
URL:https://themobmom.com/event/create-it-build-it-play-it-2/
LOCATION:Grand Bay Library
END:VEVENT
BEGIN:VEVENT
DTSTART;TZID=UTC:20250529T153000
DTEND;TZID=UTC:20250529T170000
DTSTAMP:20260425T141100
CREATED:20250528T125124Z
LAST-MODIFIED:20250528T125124Z
UID:11342-1748532600-1748538000@themobmom.com
SUMMARY:Throwdown Thursday for Teens
DESCRIPTION:Event Details\n\n\n\nAfterschool in the Teen Space at West Regional Library! \nThis is a laid-back meetup to unwind playing games with other teens. We play lots of video games\, both new and classic – Playstation\, Nintendo and Xbox available. We also have board games and other tabletop activities. There are computers to play on as well if you enjoy PC games. It’s all about unwinding and having fun after school. \n\n\n\nDisclaimer(s)\n\n\n\nFood Allergies\n\nWe cannot guarantee that food served at this program has not come into contact with tree nuts\, soy or other allergens.
URL:https://themobmom.com/event/throwdown-thursday-for-teens-4/
LOCATION:West Regional Library
END:VEVENT
BEGIN:VEVENT
DTSTART;TZID=UTC:20250529T150000
DTEND;TZID=UTC:20250529T180000
DTSTAMP:20260425T141100
CREATED:20250518T080337Z
LAST-MODIFIED:20250518T080337Z
UID:11190-1748530800-1748541600@themobmom.com
SUMMARY:Fairhope Farmers Market
DESCRIPTION:Join us for Fairhope’s Spring/Summer Farmers Market\, starting April 3rd! The market will be held every Thursday afternoon from 3 PM to 6 PM behind the Fairhope Public Library.\nDiscover a wide array of fresh produce\, homemade breads\, honey\, locally-raised beef\, and much more! There will also be face painting for the kids each week\, along with exciting giveaways!\nSupport your local farmers and small businesses by shopping at the Fairhope Farmers Market this spring!\nParking: Farmers market visitors can park on Magnolia Avenue in designated spots marked “farmers market parking only.” Additional parking is available in Arts Alley! You can also call the Downtown shuttle for a ride directly to the farmers market!
URL:https://themobmom.com/event/fairhope-farmers-market-8/
LOCATION:Fairhope Public Library
ATTACH;FMTTYPE=image/jpeg:https://themobmom.com/wp-content/uploads/2025/05/fairhope-farmers-market.jpg
END:VEVENT
BEGIN:VEVENT
DTSTART;TZID=UTC:20250529T150000
DTEND;TZID=UTC:20250529T170000
DTSTAMP:20260425T141100
CREATED:20250528T125016Z
LAST-MODIFIED:20250528T125016Z
UID:11340-1748530800-1748538000@themobmom.com
SUMMARY:Chess Club for Everyone at Semmes
DESCRIPTION:Beginners and experienced players welcome! \nPlaying chess improves concentration and problem-solving skills. Join us at Semmes Library for chess club designed for ages 6 and up.
URL:https://themobmom.com/event/chess-club-for-everyone-at-semmes-4/
LOCATION:Semmes Regional Library
END:VEVENT
BEGIN:VEVENT
DTSTART;TZID=UTC:20250529T113000
DTEND;TZID=UTC:20250529T133000
DTSTAMP:20260425T141100
CREATED:20250528T132126Z
LAST-MODIFIED:20250528T132126Z
UID:11369-1748518200-1748525400@themobmom.com
SUMMARY:Brown Bag by the Bay Concert Series
DESCRIPTION:Join us for one of Daphne’s favorite events\, Brown Bag by the Bay Concert Series. Grab your lunch and meet us by the bay each Thursday 11:30 AM – 1:30 PM in April and May. \nLine-up coming soon!
URL:https://themobmom.com/event/brown-bag-by-the-bay-concert-series-3/
LOCATION:May Day Park\, Daphne
END:VEVENT
BEGIN:VEVENT
DTSTART;TZID=UTC:20250529T100000
DTEND;TZID=UTC:20250529T110000
DTSTAMP:20260425T141100
CREATED:20250528T131316Z
LAST-MODIFIED:20250528T131316Z
UID:11365-1748512800-1748516400@themobmom.com
SUMMARY:Spanish Fort Public Library Storytime
DESCRIPTION:Join us Thursday mornings at 10:00AM in the Spanish Fort Public Library children’s section for Storytime at the library! \nThursday morning storytimes are structured for ages 2 – 5 years (Pre-K).
URL:https://themobmom.com/event/spanish-fort-public-library-storytime/
LOCATION:Spanish Fort Public Library
END:VEVENT
BEGIN:VEVENT
DTSTART;TZID=UTC:20250529T100000
DTEND;TZID=UTC:20250529T103000
DTSTAMP:20260425T141100
CREATED:20250528T124900Z
LAST-MODIFIED:20250528T124900Z
UID:11338-1748512800-1748514600@themobmom.com
SUMMARY:Shake\, Rattle\, & Read Storytime at West
DESCRIPTION:Join us in the Meeting Room to enjoy books and a whole lot of music and grooving! \nEnjoy meeting other parents and their little ones and make new friends. These activities are designed to stimulate your child’s early literacy skills\, and there will be a whole lot of shakin’ going on!
URL:https://themobmom.com/event/shake-rattle-read-storytime-at-west-7/
LOCATION:West Regional Library
END:VEVENT
BEGIN:VEVENT
DTSTART;TZID=UTC:20250528T180000
DTEND;TZID=UTC:20250528T213000
DTSTAMP:20260425T141100
CREATED:20250518T074622Z
LAST-MODIFIED:20250518T074622Z
UID:11175-1748455200-1748467800@themobmom.com
SUMMARY:Pepsi Summer Adventure
DESCRIPTION:Attention\, Scouts! Gather your patrol and embark on an epic summer adventure every Wednesday at The Wharf. Your mission? To navigate the great Pepsi Summer Adventure Quest! Start your journey by reporting to the Pepsi Outpost\, where you’ll receive your official adventure map. Then\, set out on a thrilling scavenger hunt\, following the trail to uncover hidden waypoints and complete your quest. \nOnce you’ve checked off every challenge\, return to Base Camp where “X” marks the spot to claim your well-earned reward! \nAfter your adventure\, stick around to enjoy music from DJ Matt and witness the SPECTRA Laser Light Experience. Ready your maps and sharpen your skills—it’s time to blaze the trail for a great cause.
URL:https://themobmom.com/event/pepsi-summer-adventure/
LOCATION:The Wharf
ATTACH;FMTTYPE=image/jpeg:https://themobmom.com/wp-content/uploads/2025/05/pepsi-summer-adventure.jpg
END:VEVENT
BEGIN:VEVENT
DTSTART;TZID=UTC:20250528T113000
DTEND;TZID=UTC:20250528T120000
DTSTAMP:20260425T141100
CREATED:20250528T124740Z
LAST-MODIFIED:20250528T124740Z
UID:11336-1748431800-1748433600@themobmom.com
SUMMARY:Good Listener Storytime at Moorer
DESCRIPTION:Join us at the Moorer Branch for stories\, songs\, and fun! \nEarly reading ignites creativity\, sparks curiosity\, and stimulates the imagination in young children. This program is designed to help promote their passion for learning.
URL:https://themobmom.com/event/good-listener-storytime-at-moorer-6/
LOCATION:Monte. L Moorer/Spring Hill Branch Library
END:VEVENT
BEGIN:VEVENT
DTSTART;TZID=UTC:20250528T103000
DTEND;TZID=UTC:20250528T110000
DTSTAMP:20260425T141100
CREATED:20250528T124639Z
LAST-MODIFIED:20250528T124639Z
UID:11334-1748428200-1748430000@themobmom.com
SUMMARY:Tales & Tunes with Mrs. Tori
DESCRIPTION:Let’s listen while moving & grooving in our fun storytime! \nJoin Mrs. Tori for an interactive session of storytelling\, singing\, and using egg shakers or scarves. We will also be making a craft. \nIdeal for ages 0-12.
URL:https://themobmom.com/event/tales-tunes-with-mrs-tori-3/
LOCATION:Saraland Public Library
END:VEVENT
BEGIN:VEVENT
DTSTART;TZID=UTC:20250528T103000
DTEND;TZID=UTC:20250528T110000
DTSTAMP:20260425T141100
CREATED:20250528T124522Z
LAST-MODIFIED:20250528T124522Z
UID:11332-1748428200-1748430000@themobmom.com
SUMMARY:Good Listeners Storytime at Semmes
DESCRIPTION:Every Wednesday! \nJoin us in the Semmes meeting room for fun storytime\, songs\, movements and crafts. This half-hour program is designed for children ages 3-6 and will help ignite their creativity\, spark curiosity\, and stimulate their imaginations! \nFor more information\, please call 251-494-4935 or email Callie Kelley at ckelley@mplonline.org.
URL:https://themobmom.com/event/good-listeners-storytime-at-semmes-3/
LOCATION:Semmes Regional Library
END:VEVENT
BEGIN:VEVENT
DTSTART;TZID=UTC:20250528T100000
DTEND;TZID=UTC:20250528T103000
DTSTAMP:20260425T141100
CREATED:20250528T124349Z
LAST-MODIFIED:20250528T124349Z
UID:11330-1748426400-1748428200@themobmom.com
SUMMARY:Wonderful Wednesday Storytime at Theodore
DESCRIPTION:Join us for stories and songs and lots of fun!  \nStorytime’s act as an integral part of early literacy education by introducing young children to books\, rhymes\, music\, and more. This story time event is designed with preschool aged children in mind\, but all ages are welcome! \nSpace is limited; first come – first served. For more information\, please call (251)662-9676 or email the Theodore Oaks Circulation Desk at theocir@mplonline.org.
URL:https://themobmom.com/event/wonderful-wednesday-storytime-at-theodore-4/
LOCATION:Mobile Public Library- Theodore Oaks Branch
END:VEVENT
BEGIN:VEVENT
DTSTART;TZID=UTC:20250528T100000
DTEND;TZID=UTC:20250528T103000
DTSTAMP:20260425T141100
CREATED:20250528T124227Z
LAST-MODIFIED:20250528T124227Z
UID:11328-1748426400-1748428200@themobmom.com
SUMMARY:Shake\, Rattle\, & Read Storytime at West
DESCRIPTION:Join us in the Meeting Room to enjoy books and a whole lot of music and grooving! \nEnjoy meeting other parents and their little ones and make new friends. These activities are designed to stimulate your child’s early literacy skills\, and there will be a whole lot of shakin’ going on!
URL:https://themobmom.com/event/shake-rattle-read-storytime-at-west-6/
LOCATION:West Regional Library
END:VEVENT
BEGIN:VEVENT
DTSTART;TZID=UTC:20250528T100000
DTEND;TZID=UTC:20250528T103000
DTSTAMP:20260425T141100
CREATED:20250528T124111Z
LAST-MODIFIED:20250528T124111Z
UID:11326-1748426400-1748428200@themobmom.com
SUMMARY:Good Listener Storytime at Moorer
DESCRIPTION:Join us at the Moorer Branch for stories\, songs\, and fun! \nEarly reading ignites creativity\, sparks curiosity\, and stimulates the imagination in young children. This program is designed to help promote their passion for learning.
URL:https://themobmom.com/event/good-listener-storytime-at-moorer-5/
LOCATION:Monte. L Moorer/Spring Hill Branch Library
END:VEVENT
BEGIN:VEVENT
DTSTART;TZID=UTC:20250527T180000
DTEND;TZID=UTC:20250527T210000
DTSTAMP:20260425T141100
CREATED:20250518T075305Z
LAST-MODIFIED:20250518T075305Z
UID:11181-1748368800-1748379600@themobmom.com
SUMMARY:Sunset Sounds at Portside
DESCRIPTION:Sunset Sounds at Portside \nDescription: Join us every Tuesday for Sunset Sounds at Portside\, where live music meets waterfront vibes! Enjoy an evening of great tunes featuring face painting\, the Reptile Bus\, Cornhole boards\, giant Jenga + so much more. You don’t want to miss the stunning sunset views from the beautiful green space. Grab a drink\, relax with friends\, and let the music set the mood. \nDate + Time: Tuesdays; May 27 – July 29 | 6-9 pm \nWhere: Portside on Main \nCost: FREE admission + parking; some activities cost $5-10 \nSchedule:  \n–              Kids’ Activities + DJ Matt: 6-9 pm \n–              SPECTRA Laser Light Experience: 8:30\, 9 + 9:30 pm \nLink: Learn More (FB Event Page)
URL:https://themobmom.com/event/sunset-sounds-at-portside/
LOCATION:The Wharf
ATTACH;FMTTYPE=image/jpeg:https://themobmom.com/wp-content/uploads/2025/05/sunset-sounds-at-portside.jpg
END:VEVENT
BEGIN:VEVENT
DTSTART;TZID=UTC:20250526T180000
DTEND;TZID=UTC:20250526T210000
DTSTAMP:20260425T141100
CREATED:20250518T074937Z
LAST-MODIFIED:20250518T074937Z
UID:11178-1748282400-1748293200@themobmom.com
SUMMARY:Main Street Beats
DESCRIPTION: Main Street Beats \n  \nDescription: We’re spinning more than just up town beats every Monday night during the summer season. Grab the kiddos and come out to enjoy entertainment and dance to the rhythm of the beat with DJ Matt\, experience the Reptile Bus or get your face painted all season long. \nDate + Time: Mondays; May 26 – July 28 | 6-9 pm \nWhere: Main Street \nCost: FREE admission + parking; some activities cost $5-10 \nSchedule: \n–              DJ Matt: 6-9 pm \n–           Reptile Bus: 6-9 pm \n–              SPECTRA Laser Light Experience: 8:30\, 9 + 9:30 pm \nOther: May 26 – Fireworks + Bubble Truck 6:30-8:30 pm \nLink: Learn More (FB Event Page)
URL:https://themobmom.com/event/main-street-beats/
LOCATION:The Wharf- Main Street
ATTACH;FMTTYPE=image/jpeg:https://themobmom.com/wp-content/uploads/2025/05/main-street-beats.jpg
END:VEVENT
BEGIN:VEVENT
DTSTART;TZID=UTC:20250526T180000
DTEND;TZID=UTC:20250526T190000
DTSTAMP:20260425T141100
CREATED:20250525T160704Z
LAST-MODIFIED:20250525T160704Z
UID:11308-1748282400-1748286000@themobmom.com
SUMMARY:Baldwin Pops Memorial Day Concert
DESCRIPTION:The Baldwin Pops will present its annual Memorial Day Concert on Monday\, May 26th at Henry George Park\, on the bluff in Fairhope. \nJoin the Baldwin Pops for an exciting evening of music in honor of Memorial Day.\n Monday\, May 26th | 6pm | Henry George Park FairhopeFree Admission
URL:https://themobmom.com/event/baldwin-pops-memorial-day-concert/
LOCATION:Henry George Park @ Fairhope Pier
ATTACH;FMTTYPE=image/jpeg:https://themobmom.com/wp-content/uploads/2025/05/baldwin-pops-memorial-day.jpg
END:VEVENT
BEGIN:VEVENT
DTSTART;TZID=UTC:20250526T110000
DTEND;TZID=UTC:20250526T120000
DTSTAMP:20260425T141100
CREATED:20250525T160417Z
LAST-MODIFIED:20250525T160417Z
UID:11304-1748257200-1748260800@themobmom.com
SUMMARY:Memorial Day Flag Relay
DESCRIPTION:USS ALABAMA Battleship Memorial Park is proud to be the last stop for the Memorial Day Flag Relay. The relay will begin in West Mobile and end on the USS Alabama. Two Flag Carriers will carry the American Flag and POW/MIA flag for 1 mile along the 25-mile route.\nFor more information or to register for this free event\, please call 251-649-1430.\nSpectators who wish to be at the park should plan to arrive by 10:30 a.m. and must pay $5 to park vehicles at USS ALABAMA Battleship Memorial Park.
URL:https://themobmom.com/event/memorial-day-flag-relay/
LOCATION:Battleship Memorial Park
ATTACH;FMTTYPE=image/jpeg:https://themobmom.com/wp-content/uploads/2025/05/memorial-day-relay.jpg
END:VEVENT
BEGIN:VEVENT
DTSTART;TZID=UTC:20250526T070000
DTEND;TZID=UTC:20250526T080000
DTSTAMP:20260425T141100
CREATED:20250525T160930Z
LAST-MODIFIED:20250525T160930Z
UID:11311-1748242800-1748246400@themobmom.com
SUMMARY:Flag Lowering Ceremony
DESCRIPTION:Join us as we pause to remember those Americans who have given their all for our country and those veterans who have now left us. There will be a flag lowering ceremony at Vietnam Memorial.\nThe ceremony is open to the public and free to attend.
URL:https://themobmom.com/event/flag-lowering-ceremony/
LOCATION:USS Alabama Battleship Memorial Park
END:VEVENT
BEGIN:VEVENT
DTSTART;VALUE=DATE:20250525
DTEND;VALUE=DATE:20250527
DTSTAMP:20260425T141100
CREATED:20250525T161452Z
LAST-MODIFIED:20250525T161452Z
UID:11313-1748131200-1748303999@themobmom.com
SUMMARY:Memorial Weekend Celebration @ The Gulf
DESCRIPTION:🇺🇸 MEMORIAL WEEKEND CELEBRATION @ THE GULF 🇺🇸\nExperience Memorial Day Weekend at The Gulf—where cold cocktails\, Gulf Coast eats\, and sunshine vibes come together for the perfect long weekend. ☀️🍤🍹\n🎆 Fireworks – Friday at dusk\n🔱 Aperol Sundays with Live DJ – Sunday\, 5–9 PM\n✨ All-Day Fun – Monday\, 11 AM–9 PM\nKick off summer with us by the water. Whether you’re here with family and friends or just looking to relax\, we’ve got the Gulf Coast eats\, refreshing cocktails\, a live DJ\, and a view to make it unforgettable.\n👨‍👩‍👧‍👦 All ages welcome\n🍽️ Full menu served daily\n🍹 Handcrafted cocktails + laid-back vibes\n🏖️ Open-air seating\, Gulf breezes & room to roam\nNo tickets\, no fuss—just good food\, great views\, and the energy only The Gulf can serve up.\nSee you this weekend!
URL:https://themobmom.com/event/memorial-weekend-celebration-the-gulf/
LOCATION:The Gulf Orange Beach
ATTACH;FMTTYPE=image/jpeg:https://themobmom.com/wp-content/uploads/2025/05/the-gulf-memorial-day.jpg
END:VEVENT
END:VCALENDAR