BEGIN:VCALENDAR
VERSION:2.0
PRODID:-//MOB Moms - ECPv6.15.1.1//NONSGML v1.0//EN
CALSCALE:GREGORIAN
METHOD:PUBLISH
X-WR-CALNAME:MOB Moms
X-ORIGINAL-URL:https://themobmom.com
X-WR-CALDESC:Events for MOB Moms
REFRESH-INTERVAL;VALUE=DURATION:PT1H
X-Robots-Tag:noindex
X-PUBLISHED-TTL:PT1H
BEGIN:VTIMEZONE
TZID:UTC
BEGIN:STANDARD
TZOFFSETFROM:+0000
TZOFFSETTO:+0000
TZNAME:UTC
DTSTART:20250101T000000
END:STANDARD
END:VTIMEZONE
BEGIN:VEVENT
DTSTART;TZID=UTC:20250510T100000
DTEND;TZID=UTC:20250510T120000
DTSTAMP:20260425T145333
CREATED:20250509T170513Z
LAST-MODIFIED:20250509T170513Z
UID:10985-1746871200-1746878400@themobmom.com
SUMMARY:2nd Saturday Kids Fun Day
DESCRIPTION:Join us for our 2nd Kids Day! We’ll have Pastor Patti’s pet pig to pet\, sunflowers to plant\, and flower crafts to make. The event will take place from 10am-12pm on May 10th.
URL:https://themobmom.com/event/2nd-saturday-kids-fun-day/
LOCATION:McKenzie Farm Market\, Fairhope
ATTACH;FMTTYPE=image/jpeg:https://themobmom.com/wp-content/uploads/2025/05/493747193_1253859559892278_3367095964729606362_n.jpg
END:VEVENT
BEGIN:VEVENT
DTSTART;TZID=UTC:20250510T090000
DTEND;TZID=UTC:20250510T150000
DTSTAMP:20260425T145333
CREATED:20250509T164810Z
LAST-MODIFIED:20250509T164810Z
UID:10968-1746867600-1746889200@themobmom.com
SUMMARY:Mother's Day @ the Garden Center
DESCRIPTION:Join us for our 5th annual Mother’s Day Event at the Garden Center May 10th from 9am-3pm!We will have activities for the kids and sales going on!Make sure to press “interested” or “going” so you can receive notifications from the event!We can’t wait to see everyone!
URL:https://themobmom.com/event/mothers-day-the-garden-center/
LOCATION:The Garden Center\, Shelton Beach Road\, Saraland
ATTACH;FMTTYPE=image/jpeg:https://themobmom.com/wp-content/uploads/2025/05/494531093_1088884863048706_8153327015772855887_n.jpg
END:VEVENT
BEGIN:VEVENT
DTSTART;TZID=UTC:20250510T080000
DTEND;TZID=UTC:20250510T140000
DTSTAMP:20260425T145333
CREATED:20250509T164317Z
LAST-MODIFIED:20250509T164317Z
UID:10965-1746864000-1746885600@themobmom.com
SUMMARY:Mother's Day Market at the Loop
DESCRIPTION:Pop’s Midtown presents: Our 3rd Annual Mother’s Day Market at the Loop! \nCelebrate moms (and local makers!) with us at midtown’s favorite spring tradition featuring: Local vendors + artists Live music by Meredith Hicks to keep it breezy Gorgeous plants for gifting (or keeping) Frosé on tap (yes please) Fresh popcorn & treats…and plenty of love for Mom!\n Free to attend — family-friendly\, photo-worthy\, & always a good time.
URL:https://themobmom.com/event/mothers-day-market-at-the-loop/
LOCATION:Pop’s Midtown
ATTACH;FMTTYPE=image/jpeg:https://themobmom.com/wp-content/uploads/2025/05/493023087_1214180617373448_2356647837545573771_n.jpg
END:VEVENT
BEGIN:VEVENT
DTSTART;TZID=UTC:20250510T073000
DTEND;TZID=UTC:20250510T120000
DTSTAMP:20260425T145333
CREATED:20250509T165051Z
LAST-MODIFIED:20250509T165051Z
UID:10972-1746862200-1746878400@themobmom.com
SUMMARY:Spring/Summer Market in the Park
DESCRIPTION:Shop locally grown\, locally produced and handmade items at Market in the Park! \nThis spring/summer\, Market in the Park will run every Saturday from April 26 through June 28. Explore a wide variety of fresh\, locally-grown produce\, artisanal goods\, and handcrafted items from local vendors while enjoying live entertainment in Cathedral Square.  We’re proud to support our community with a selection of vendors who accept SNAP benefits\, making fresh\, healthy options accessible to all.\nEvery Saturday\, the market will open at Cathedral Square at 7:30 a.m. and close at noon.
URL:https://themobmom.com/event/spring-summer-market-in-the-park-3/
LOCATION:Cathedral Square\, Mobile\, Alabama
ATTACH;FMTTYPE=image/jpeg:https://themobmom.com/wp-content/uploads/2025/05/488884682_992204126419453_7760596316720170802_n.jpg
END:VEVENT
BEGIN:VEVENT
DTSTART;VALUE=DATE:20250510
DTEND;VALUE=DATE:20250511
DTSTAMP:20260425T145333
CREATED:20250509T161107Z
LAST-MODIFIED:20250509T161107Z
UID:10947-1746835200-1746921599@themobmom.com
SUMMARY:Family Fun Day
DESCRIPTION:
URL:https://themobmom.com/event/family-fun-day-2/
LOCATION:Mobile Botanical Gardens
ATTACH;FMTTYPE=image/png:https://themobmom.com/wp-content/uploads/2025/05/family-fun-day-botanical-gardens.png
END:VEVENT
BEGIN:VEVENT
DTSTART;TZID=UTC:20250509T180000
DTEND;TZID=UTC:20250509T200000
DTSTAMP:20260425T145333
CREATED:20250509T162727Z
LAST-MODIFIED:20250509T162727Z
UID:10951-1746813600-1746820800@themobmom.com
SUMMARY:LODA Artwalk Celebrates National Scavenger Hunt Day
DESCRIPTION:Come out for artwalk and check out amazing local vendors while strolling through beautiful downtown Mobile.
URL:https://themobmom.com/event/loda-artwalk-celebrates-national-scavenger-hunt-day/
LOCATION:Downtown Mobile
ATTACH;FMTTYPE=image/jpeg:https://themobmom.com/wp-content/uploads/2025/05/492409523_1007521611554371_2862046915806835614_n.jpg
END:VEVENT
BEGIN:VEVENT
DTSTART;TZID=UTC:20250509T180000
DTEND;TZID=UTC:20250509T200000
DTSTAMP:20260425T145333
CREATED:20250320T034408Z
LAST-MODIFIED:20250320T034408Z
UID:10263-1746813600-1746820800@themobmom.com
SUMMARY:May Artwalk with Kristen Pike
DESCRIPTION:Join us for an Artwalk book signing on May 9\, 2024\, 6-8pm. In honor of National Foster Care Month\, we will welcome children’s author Kristen Pike with her latest release of If Only for a Little While. Pike is a foster care activist\, so what better way to honor acknowledge children in care and the awesome parents who provide them with safe and loving homes than with a picture book fit for every home library? \n_If Only for a Little While _is the story of a little girl entering a new foster home and the bond that forms between her and her caregiver over time. The caregiver lovingly observes the child’s routines and favorite activities\, and as time passes\, a strong familial bond develops. Eventually\, the time comes for them to part ways\, but the caregiver promises that the child will always hold a special place in their heart. This story captures themes of love\, care\, and the bittersweet nature of foster care. \nThis book can also serve as a keepsake\, featuring a special section where you can draw or place a picture of your favorite memory together. \nThis is a can’t-miss Artwalk at 9 S. Joachim St. Make sure to say hi to Mr. Bingley and browse all the books that haunt you. See you then!
URL:https://themobmom.com/event/may-artwalk-with-kristen-pike/
LOCATION:The Haunted Book Shop\, 9 S Joachim Street\, Mobile\, AL\, 36602\, United States
END:VEVENT
BEGIN:VEVENT
DTSTART;TZID=UTC:20250509T180000
DTEND;TZID=UTC:20250509T193000
DTSTAMP:20260425T145333
CREATED:20250509T170120Z
LAST-MODIFIED:20250509T170120Z
UID:10982-1746813600-1746819000@themobmom.com
SUMMARY:Roll Mobile
DESCRIPTION:Join us on the second Friday of March\, May and September for skate night!\nDuring LODA ArtWalk on March 14\, May 9 and September 12\, we’re turning the block along Bienville Square into a pop-up skating rink! Kids Only skating begins at 6 p.m. and ends at 7:30 p.m.\, and Adults Only skating begins at 7:30 p.m. and ends at 9 p.m.\nThe Roll Mobile skate rink entrace is located at the corner of Conception Street and Dauphin Street. Wristbands will be given out upon entry.\nThere will be FREE skate rentals available for the first 25 kids and 25 adults during all three dates. This includes roller skates\, socks and safety gear.\nSkateboards\, scooters\, hoverboards\, and bicycles are NOT allowed.
URL:https://themobmom.com/event/roll-mobile/
LOCATION:Bienville Square
ATTACH;FMTTYPE=image/jpeg:https://themobmom.com/wp-content/uploads/2025/05/488316605_991535443152988_2785987109107082883_n.jpg
END:VEVENT
BEGIN:VEVENT
DTSTART;TZID=UTC:20250509T150000
DTEND;TZID=UTC:20250509T163000
DTSTAMP:20260425T145333
CREATED:20250504T235735Z
LAST-MODIFIED:20250504T235735Z
UID:10916-1746802800-1746808200@themobmom.com
SUMMARY:Children's - Free Build!
DESCRIPTION:If you can dream it\, you can build it using building blocks during our open play Free Build program!
URL:https://themobmom.com/event/childrens-free-build/
LOCATION:Daphne Public Library\, Daphne\, Alabama\, 36526
END:VEVENT
BEGIN:VEVENT
DTSTART;TZID=UTC:20250509T091500
DTEND;TZID=UTC:20250509T120000
DTSTAMP:20260425T145333
CREATED:20250505T001652Z
LAST-MODIFIED:20250505T001652Z
UID:10938-1746782100-1746792000@themobmom.com
SUMMARY:Free Build
DESCRIPTION:All ages. \nOur Activity Room will be open and stocked with Lincoln logs\, blocks\, LEGOs\, and more. This is unstructured free play and exploration. Parents are required to directly supervise their children and help clean up. Stop by and see what you can build!
URL:https://themobmom.com/event/free-build/
LOCATION:Fairhope Public Library
END:VEVENT
BEGIN:VEVENT
DTSTART;TZID=UTC:20250508T160000
DTEND;TZID=UTC:20250508T190000
DTSTAMP:20260425T145333
CREATED:20250505T000759Z
LAST-MODIFIED:20250505T000759Z
UID:10928-1746720000-1746730800@themobmom.com
SUMMARY:Board Game Night
DESCRIPTION:Choose any of our board or card game selection and grab a table upstairs to sit down to a friendly competition 🙂 \nCurrent games include: \nABORETUM \nAPPLES TO APPLES \nCATAN & 5-6 PLAYER EXTENSION \nCATAN SCENARIO HELPERS EXPANSION \nCATAN SEAFARERS EXPANSION + 5-6 PLAYER EXTENSION \nCATAN CITIES & KNIGHTS = 5-6 PLAYER EXTENSION \nCATAN HISTORIES: MERCHANTS OF EUROPE \nCLUE \nCONNECT FOUR \nCOTTAGE GARDEN \nCONSTELLATIONS \nCROWNS \nDOCTOR DREADFUL \nDRAGONWOOD \nEVOLUTION: THE BEGINNING \nFLUXX \nHIVE \nJUMANJI \nKINGDOMINO \nKODAMA \nTHE LEGEND OF THE CHERRY TREE \nLOST CITIES \nMACHI KORO \nMEME THE GAME \nMUNCHKIN SHAKESPEARE \nONE NIGHT ULTIMATE WEREWOLF \nPERPETUAL COMMOTION \nPICTOPIA \nSCRABBLE \nSORRY \nTIDDLEDY WINKS \nTOSS YOUR COOKIES \nTRIOPOLY \nTRIVIAL PURSUIT: FAMILY EDITION \nTRIVIAL PURSUIT: TOTALLY 80s \nTRIVIAL PURSUIT: 90s TIME CAPSULE \nTSURO: THE GAME OF THE PATH \nVIRUS \nWILDCRAFT \nWOULD YOUR RATHER \nand more… \nParticipants are welcome to bring drink containers\, with a secure lid or top and mess-free\, non-greasy\, non-sticky snacks to keep you in the game! \nCome to the library\, meet new people\, bring your friends\, we’ll see you there!
URL:https://themobmom.com/event/board-game-night/
LOCATION:Spanish Fort Public Library
END:VEVENT
BEGIN:VEVENT
DTSTART;TZID=UTC:20250508T160000
DTEND;TZID=UTC:20250508T170000
DTSTAMP:20260425T145333
CREATED:20250505T001510Z
LAST-MODIFIED:20250505T001510Z
UID:10936-1746720000-1746723600@themobmom.com
SUMMARY:Farmer’s Market Storytime – Outside
DESCRIPTION:Come see Ms. Grace behind Fairhope Public Library during the City of Fairhope’s Farmer’s Market for a very special outdoor storytime and activity
URL:https://themobmom.com/event/farmers-market-storytime-outside-2/
LOCATION:Fairhope Public Library
END:VEVENT
BEGIN:VEVENT
DTSTART;TZID=UTC:20250508T160000
DTEND;TZID=UTC:20250508T170000
DTSTAMP:20260425T145333
CREATED:20250504T231845Z
LAST-MODIFIED:20250504T231845Z
UID:10879-1746720000-1746723600@themobmom.com
SUMMARY:Young Artist in Aprons Paint Club
DESCRIPTION:Calling young artists! \nIf you have a passion for painting\, join us at the Grand Bay Library for fun\, friends and paint projects. Pre-drawn canvases and paints are provided. \nAges 6-11
URL:https://themobmom.com/event/young-artist-in-aprons-paint-club/
LOCATION:Grand Bay Library
END:VEVENT
BEGIN:VEVENT
DTSTART;TZID=UTC:20250508T160000
DTEND;TZID=UTC:20250508T163000
DTSTAMP:20260425T145333
CREATED:20250504T233032Z
LAST-MODIFIED:20250504T233032Z
UID:10893-1746720000-1746721800@themobmom.com
SUMMARY:Rock n’ Storytime
DESCRIPTION:It’s story-time with a musical twist. \nExperience your favorite stories old and new\, come to life with narrator and\, guitarist Mr. Dave\, and of course\, you. Each meeting\, we’ll read a story together\, and perform one or two sing-alongs as well.
URL:https://themobmom.com/event/rock-n-storytime-2/
LOCATION:West Regional Library
END:VEVENT
BEGIN:VEVENT
DTSTART;TZID=UTC:20250508T153000
DTEND;TZID=UTC:20250508T170000
DTSTAMP:20260425T145333
CREATED:20250504T233208Z
LAST-MODIFIED:20250504T233208Z
UID:10895-1746718200-1746723600@themobmom.com
SUMMARY:Throwdown Thursday
DESCRIPTION:Afterschool in the Teen Space at West Regional Library! \nThis is a laid-back meetup to unwind playing games with other teens. We play lots of video games\, both new and classic – Playstation\, Nintendo and Xbox available. We also have board games and other tabletop activities. There are computers to play on as well if you enjoy PC games. It’s all about unwinding and having fun after school. \n\n\n\nDisclaimer(s)\n\n\n\nFood Allergies\n\nWe cannot guarantee that food served at this program has not come into contact with tree nuts\, soy or other allergens.
URL:https://themobmom.com/event/throwdown-thursday/
LOCATION:West Regional Library
END:VEVENT
BEGIN:VEVENT
DTSTART;TZID=UTC:20250508T153000
DTEND;TZID=UTC:20250508T163000
DTSTAMP:20260425T145333
CREATED:20250504T235550Z
LAST-MODIFIED:20250504T235550Z
UID:10914-1746718200-1746721800@themobmom.com
SUMMARY:Children's - Afterschool Book Club
DESCRIPTION:Love reading with friends and making crafts? Join our Afterschool Book Club where everyone reads along in a reading circle and makes a book-themed craft afterwards! Book Club is for K-5th grades.
URL:https://themobmom.com/event/childrens-afterschool-book-club-2/
LOCATION:Daphne Public Library\, Daphne\, Alabama\, 36526
END:VEVENT
BEGIN:VEVENT
DTSTART;TZID=UTC:20250508T151500
DTEND;TZID=UTC:20250508T163000
DTSTAMP:20260425T145333
CREATED:20250504T232906Z
LAST-MODIFIED:20250504T232906Z
UID:10891-1746717300-1746721800@themobmom.com
SUMMARY:Great Movie Adventure (Moana)
DESCRIPTION:Event Details\n\nJoin us at the Toulminville Branch for movies and snacks! \nJoin us for the feature film Moana (2016)\, PG | 1 hr 53 min.; Inexplicably drawn to the ocean\, Moana (voice of Auliʻi Cravalho) convinces the mighty demigod Maui (voice of Dwayne Johnson) to join her mission\, and he reluctantly helps her become a wayfinder like her ancestors who sailed before her. Together\, they voyage across the open ocean on an action-packed adventure\, encountering enormous monsters and impossible odds\, and along the way\, Moana fulfills her quest and discovers the one thing she’s always sought: her own identity. \nRegistration is recommended! To register or for more information\, please email Melissa Davis at mdavis@mplonline.org or call 251-494-4892.
URL:https://themobmom.com/event/great-movie-adventure-moana/
LOCATION:Virginia Dillard Smith/Toulminville Branch Library
END:VEVENT
BEGIN:VEVENT
DTSTART;TZID=UTC:20250508T150000
DTEND;TZID=UTC:20250508T170000
DTSTAMP:20260425T145333
CREATED:20250504T232127Z
LAST-MODIFIED:20250504T232127Z
UID:10883-1746716400-1746723600@themobmom.com
SUMMARY:Chess Club for Everyone at Semmes
DESCRIPTION:Beginners and experienced players welcome! \nPlaying chess improves concentration and problem-solving skills. Join us at Semmes Library for chess club designed for ages 6 and up.
URL:https://themobmom.com/event/chess-club-for-everyone-at-semmes-2/
LOCATION:Semmes Regional Library
END:VEVENT
BEGIN:VEVENT
DTSTART;TZID=UTC:20250508T143000
DTEND;TZID=UTC:20250508T153000
DTSTAMP:20260425T145333
CREATED:20250504T232015Z
LAST-MODIFIED:20250504T232015Z
UID:10881-1746714600-1746718200@themobmom.com
SUMMARY:Teen Takeover
DESCRIPTION:It’s time for Teen Takeover at the Parkway Branch! \nCome hang out with us in the Parkway Meeting Room for some awesome teen fun! We’ll have video games\, board games\, crafts\, and so much more! Join the takeover every Thursday—it’s going to be a blast!
URL:https://themobmom.com/event/teen-takeover-2/
LOCATION:Parkway Branch
END:VEVENT
BEGIN:VEVENT
DTSTART;TZID=UTC:20250508T113000
DTEND;TZID=UTC:20250508T133000
DTSTAMP:20260425T145333
CREATED:20250504T235228Z
LAST-MODIFIED:20250504T235228Z
UID:10912-1746703800-1746711000@themobmom.com
SUMMARY:Brown Bag by the Bay Concert Series
DESCRIPTION:Join us for one of Daphne’s favorite events\, Brown Bag by the Bay Concert Series. Grab your lunch and meet us by the bay each Thursday 11:30 AM – 1:30 PM in April and May. \nLine-up coming soon!
URL:https://themobmom.com/event/brown-bag-by-the-bay-concert-series-2/
LOCATION:May Day Park\, Daphne
END:VEVENT
BEGIN:VEVENT
DTSTART;TZID=UTC:20250508T110000
DTEND;TZID=UTC:20250508T113000
DTSTAMP:20260425T145333
CREATED:20250504T232522Z
LAST-MODIFIED:20250504T232522Z
UID:10887-1746702000-1746703800@themobmom.com
SUMMARY:Listen & Learn Storytime
DESCRIPTION:Let’s Listen and Learn with fun stories and songs! \nStorytime has many benefits for children such as promoting early literacy\, language development\, help develop concentration\, social skills\, communication skills\, and encourages their imagination and creativity. Join us in the Storytime room at West Regional for fun stories and songs. Ideal for ages 3-5 years. \nFor more information\, please call (251)340-8571 or email West Regional Youth Services at westyou@mplonline.org.
URL:https://themobmom.com/event/listen-learn-storytime-3/
LOCATION:West Regional Library
END:VEVENT
BEGIN:VEVENT
DTSTART;TZID=UTC:20250508T103000
DTEND;TZID=UTC:20250508T113000
DTSTAMP:20260425T145333
CREATED:20250504T235020Z
LAST-MODIFIED:20250504T235020Z
UID:10910-1746700200-1746703800@themobmom.com
SUMMARY:Children's - Pre-K Storytime
DESCRIPTION:
URL:https://themobmom.com/event/childrens-pre-k-storytime/
LOCATION:Daphne Public Library\, Daphne\, Alabama\, 36526
END:VEVENT
BEGIN:VEVENT
DTSTART;TZID=UTC:20250508T100000
DTEND;TZID=UTC:20250508T110000
DTSTAMP:20260425T145333
CREATED:20250505T000633Z
LAST-MODIFIED:20250505T000633Z
UID:10926-1746698400-1746702000@themobmom.com
SUMMARY:SFPL Storytime
DESCRIPTION:Join us Thursday mornings at 10:00AM in the Spanish Fort Public Library children’s section for Storytime at the library! \nThursday morning storytimes are structured for ages 2 – 5 years (Pre-K).
URL:https://themobmom.com/event/sfpl-storytime/
LOCATION:Spanish Fort Public Library
END:VEVENT
BEGIN:VEVENT
DTSTART;TZID=UTC:20250508T100000
DTEND;TZID=UTC:20250508T103000
DTSTAMP:20260425T145333
CREATED:20250504T232330Z
LAST-MODIFIED:20250504T232330Z
UID:10885-1746698400-1746700200@themobmom.com
SUMMARY:Shake\, Rattle\, & Read Storytime at West
DESCRIPTION:Join us in the Meeting Room to enjoy books and a whole lot of music and grooving! \nEnjoy meeting other parents and their little ones and make new friends. These activities are designed to stimulate your child’s early literacy skills\, and there will be a whole lot of shakin’ going on! \nAges 0-5
URL:https://themobmom.com/event/shake-rattle-read-storytime-at-west-3/
LOCATION:West Regional Library
END:VEVENT
BEGIN:VEVENT
DTSTART;TZID=UTC:20250507T160000
DTEND;TZID=UTC:20250507T170000
DTSTAMP:20260425T145333
CREATED:20250504T231407Z
LAST-MODIFIED:20250504T231407Z
UID:10877-1746633600-1746637200@themobmom.com
SUMMARY:Wonderful Wednesdays at West
DESCRIPTION:Afternoon Fun at the West Regional Library! \nStop by the library on the 1st and 3rd Wednesdays of the month for fun at the library! Each program features an engaging activity sure to make your Wednesday wonderful! \nAges 6-11
URL:https://themobmom.com/event/wonderful-wednesdays-at-west/
LOCATION:West Regional Library
END:VEVENT
BEGIN:VEVENT
DTSTART;TZID=UTC:20250507T160000
DTEND;TZID=UTC:20250507T170000
DTSTAMP:20260425T145333
CREATED:20250504T230139Z
LAST-MODIFIED:20250504T230139Z
UID:10867-1746633600-1746637200@themobmom.com
SUMMARY:What’s Up Wednesdays
DESCRIPTION:Event Details\n\nCome hang out and have some fun! \nYou never know what might happen on Wednesdays in the Youth Programming Room. Each week\, we’ll surprise you with fun activities! We might do arts and crafts\, play board games\, do silly experiments\, or watch movies. \n\nDisclaimer(s)\n\n\n\nFood Allergies\n\nWe cannot guarantee that food served at this program has not come into contact with tree nuts\, soy or other allergens.
URL:https://themobmom.com/event/whats-up-wednesdays/
LOCATION:Ben May Main Library
END:VEVENT
BEGIN:VEVENT
DTSTART;TZID=UTC:20250507T153000
DTEND;TZID=UTC:20250507T163000
DTSTAMP:20260425T145333
CREATED:20250504T231208Z
LAST-MODIFIED:20250504T231208Z
UID:10875-1746631800-1746635400@themobmom.com
SUMMARY:Memory Picture Game
DESCRIPTION:Test your memorization skills! \nLet’s have some fun testing your memorization skills. See how many items you can remember and draw for a chance to win a prize! Good luck!
URL:https://themobmom.com/event/memory-picture-game/
LOCATION:Virginia Dillard Smith/Toulminville Branch Library
END:VEVENT
BEGIN:VEVENT
DTSTART;TZID=UTC:20250507T140000
DTEND;TZID=UTC:20250507T150000
DTSTAMP:20260425T145333
CREATED:20250504T234844Z
LAST-MODIFIED:20250504T234844Z
UID:10908-1746626400-1746630000@themobmom.com
SUMMARY:Children's - Sensory Storytime
DESCRIPTION:Sensory story time is for ages 2-5.
URL:https://themobmom.com/event/childrens-sensory-storytime/
LOCATION:Daphne Public Library\, Daphne\, Alabama\, 36526
END:VEVENT
BEGIN:VEVENT
DTSTART;TZID=UTC:20250507T113000
DTEND;TZID=UTC:20250507T120000
DTSTAMP:20260425T145333
CREATED:20250504T225645Z
LAST-MODIFIED:20250504T225645Z
UID:10861-1746617400-1746619200@themobmom.com
SUMMARY:Good Listener Storytime at Moorer
DESCRIPTION:Join us at the Moorer Branch for stories\, songs\, and fun! \nEarly reading ignites creativity\, sparks curiosity\, and stimulates the imagination in young children. This program is designed to help promote their passion for learning. \nAges 0-5
URL:https://themobmom.com/event/good-listener-storytime-at-moorer-2/
LOCATION:Monte. L Moorer/Spring Hill Branch Library
END:VEVENT
BEGIN:VEVENT
DTSTART;TZID=UTC:20250507T110000
DTEND;TZID=UTC:20250507T113000
DTSTAMP:20260425T145333
CREATED:20250504T230814Z
LAST-MODIFIED:20250504T230814Z
UID:10873-1746615600-1746617400@themobmom.com
SUMMARY:Listen & Learn Storytime
DESCRIPTION:Let’s Listen and Learn with fun stories and songs! \nStorytime has many benefits for children such as promoting early literacy\, language development\, help develop concentration\, social skills\, communication skills\, and encourages their imagination and creativity. Join us in the Storytime room at West Regional for fun stories and songs. Ideal for ages 3-5 years. \nFor more information\, please call (251)340-8571 or email West Regional Youth Services at westyou@mplonline.org.
URL:https://themobmom.com/event/listen-learn-storytime-2/
LOCATION:West Regional Library
END:VEVENT
END:VCALENDAR