BEGIN:VCALENDAR
VERSION:2.0
PRODID:-//MOB Moms - ECPv6.15.1.1//NONSGML v1.0//EN
CALSCALE:GREGORIAN
METHOD:PUBLISH
X-WR-CALNAME:MOB Moms
X-ORIGINAL-URL:https://themobmom.com
X-WR-CALDESC:Events for MOB Moms
REFRESH-INTERVAL;VALUE=DURATION:PT1H
X-Robots-Tag:noindex
X-PUBLISHED-TTL:PT1H
BEGIN:VTIMEZONE
TZID:UTC
BEGIN:STANDARD
TZOFFSETFROM:+0000
TZOFFSETTO:+0000
TZNAME:UTC
DTSTART:20250101T000000
END:STANDARD
END:VTIMEZONE
BEGIN:VEVENT
DTSTART;TZID=UTC:20250521T113000
DTEND;TZID=UTC:20250521T120000
DTSTAMP:20260425T112624
CREATED:20250518T053117Z
LAST-MODIFIED:20250518T053117Z
UID:11081-1747827000-1747828800@themobmom.com
SUMMARY:Good Listener Storytime at Moorer
DESCRIPTION:Join us at the Moorer Branch for stories\, songs\, and fun! \nEarly reading ignites creativity\, sparks curiosity\, and stimulates the imagination in young children. This program is designed to help promote their passion for learning.
URL:https://themobmom.com/event/good-listener-storytime-at-moorer-4/
LOCATION:Monte. L Moorer/Spring Hill Branch Library
END:VEVENT
BEGIN:VEVENT
DTSTART;TZID=UTC:20250521T110000
DTEND;TZID=UTC:20250521T113000
DTSTAMP:20260425T112624
CREATED:20250518T054435Z
LAST-MODIFIED:20250518T054435Z
UID:11095-1747825200-1747827000@themobmom.com
SUMMARY:Listen & Learn Storytime
DESCRIPTION:Let’s Listen and Learn with fun stories and songs! \nStorytime has many benefits for children such as promoting early literacy\, language development\, help develop concentration\, social skills\, communication skills\, and encourages their imagination and creativity. Join us in the Storytime room at West Regional for fun stories and songs. Ideal for ages 3-5 years. \nFor more information\, please call (251)340-8571 or email West Regional Youth Services at westyou@mplonline.org.
URL:https://themobmom.com/event/listen-learn-storytime-4/
LOCATION:West Regional Library
END:VEVENT
BEGIN:VEVENT
DTSTART;TZID=UTC:20250521T103000
DTEND;TZID=UTC:20250521T110000
DTSTAMP:20260425T112624
CREATED:20250518T053948Z
LAST-MODIFIED:20250518T053948Z
UID:11089-1747823400-1747825200@themobmom.com
SUMMARY:Good Listeners Storytime at Semmes
DESCRIPTION:Every Wednesday! \nJoin us in the Semmes meeting room for fun storytime\, songs\, movements and crafts. This half-hour program is designed for children ages 3-6 and will help ignite their creativity\, spark curiosity\, and stimulate their imaginations! \nFor more information\, please call 251-494-4935 or email Callie Kelley at ckelley@mplonline.org.
URL:https://themobmom.com/event/good-listeners-storytime-at-semmes-2/
LOCATION:Semmes Regional Library
END:VEVENT
BEGIN:VEVENT
DTSTART;TZID=UTC:20250521T100000
DTEND;TZID=UTC:20250521T110000
DTSTAMP:20260425T112624
CREATED:20250518T061724Z
LAST-MODIFIED:20250518T061724Z
UID:11129-1747821600-1747825200@themobmom.com
SUMMARY:Preschool Story Time & Craft
DESCRIPTION:Event Details\n\nIf your kids love a craft the Wednesday Preschool Story Time is the one for your family. Wednesdays are extra fun because who doesn’t love songs\, books\, crafts\, and time to play with friends?! Join us Wednesday mornings at 10am.
URL:https://themobmom.com/event/preschool-story-time-craft/
LOCATION:Foley Public Library
END:VEVENT
BEGIN:VEVENT
DTSTART;TZID=UTC:20250521T100000
DTEND;TZID=UTC:20250521T110000
DTSTAMP:20260425T112624
CREATED:20250518T052624Z
LAST-MODIFIED:20250518T052624Z
UID:11076-1747821600-1747825200@themobmom.com
SUMMARY:Tales & Tunes with Mrs. Tori
DESCRIPTION:Let’s listen while moving & grooving in our fun storytime! \nJoin Mrs. Tori for an interactive session of storytelling\, singing\, and using egg shakers or scarves. We will also be making a craft. \nIdeal for ages 0-12.
URL:https://themobmom.com/event/tales-tunes-with-mrs-tori-2/
LOCATION:Saraland Public Library
END:VEVENT
BEGIN:VEVENT
DTSTART;TZID=UTC:20250521T100000
DTEND;TZID=UTC:20250521T103000
DTSTAMP:20260425T112624
CREATED:20250518T054252Z
LAST-MODIFIED:20250518T054252Z
UID:11093-1747821600-1747823400@themobmom.com
SUMMARY:Shake\, Rattle\, & Read Storytime at West
DESCRIPTION:Join us in the Meeting Room to enjoy books and a whole lot of music and grooving! \nEnjoy meeting other parents and their little ones and make new friends. These activities are designed to stimulate your child’s early literacy skills\, and there will be a whole lot of shakin’ going on!
URL:https://themobmom.com/event/shake-rattle-read-storytime-at-west-4/
LOCATION:West Regional Library
END:VEVENT
BEGIN:VEVENT
DTSTART;TZID=UTC:20250521T100000
DTEND;TZID=UTC:20250521T103000
DTSTAMP:20260425T112624
CREATED:20250518T054103Z
LAST-MODIFIED:20250518T054103Z
UID:11091-1747821600-1747823400@themobmom.com
SUMMARY:Wonderful Wednesday Storytime at Theodore
DESCRIPTION:Join us for stories and songs and lots of fun!  \nStorytime’s act as an integral part of early literacy education by introducing young children to books\, rhymes\, music\, and more. This story time event is designed with preschool aged children in mind\, but all ages are welcome! \nSpace is limited; first come – first served. For more information\, please call (251)662-9676 or email the Theodore Oaks Circulation Desk at theocir@mplonline.org.
URL:https://themobmom.com/event/wonderful-wednesday-storytime-at-theodore-3/
LOCATION:Mobile Public Library- Theodore Oaks Branch
END:VEVENT
BEGIN:VEVENT
DTSTART;TZID=UTC:20250521T100000
DTEND;TZID=UTC:20250521T103000
DTSTAMP:20260425T112624
CREATED:20250518T052958Z
LAST-MODIFIED:20250518T052958Z
UID:11079-1747821600-1747823400@themobmom.com
SUMMARY:Wonderful Wednesday Storytime at Theodore
DESCRIPTION:Join us for stories and songs and lots of fun!  \nStorytime’s act as an integral part of early literacy education by introducing young children to books\, rhymes\, music\, and more. This story time event is designed with preschool aged children in mind\, but all ages are welcome! \nSpace is limited; first come – first served. For more information\, please call (251)662-9676 or email the Theodore Oaks Circulation Desk at theocir@mplonline.org.
URL:https://themobmom.com/event/wonderful-wednesday-storytime-at-theodore-2/
LOCATION:Mobile Public Library- Theodore Oaks Branch
END:VEVENT
BEGIN:VEVENT
DTSTART;TZID=UTC:20250521T100000
DTEND;TZID=UTC:20250521T103000
DTSTAMP:20260425T112624
CREATED:20250518T052507Z
LAST-MODIFIED:20250518T052507Z
UID:11074-1747821600-1747823400@themobmom.com
SUMMARY:Good Listener Storytime at Moorer
DESCRIPTION:Join us at the Moorer Branch for stories\, songs\, and fun! \nEarly reading ignites creativity\, sparks curiosity\, and stimulates the imagination in young children. This program is designed to help promote their passion for learning.
URL:https://themobmom.com/event/good-listener-storytime-at-moorer-3/
LOCATION:Monte. L Moorer/Spring Hill Branch Library
END:VEVENT
BEGIN:VEVENT
DTSTART;TZID=UTC:20250520T170000
DTEND;TZID=UTC:20250520T180000
DTSTAMP:20260425T112624
CREATED:20250518T051118Z
LAST-MODIFIED:20250518T051118Z
UID:11061-1747760400-1747764000@themobmom.com
SUMMARY:Teen Graphics & Novels Book Club
DESCRIPTION:Calling all teen readers!  \nDo you love comics\, manga\, and YA novels? Join us to discuss some of your favorite stories\, mix and mingle with people of common interest\, and become introduced to new stories. \nRegistration is recommended. To register or for more information\, please email Fatima Dupree at fdupree@mplonline.org or call 251-494-2207.
URL:https://themobmom.com/event/teen-graphics-novels-book-club/
LOCATION:Grand Bay Library
END:VEVENT
BEGIN:VEVENT
DTSTART;TZID=UTC:20250520T163000
DTEND;TZID=UTC:20250520T193000
DTSTAMP:20260425T112624
CREATED:20250518T062626Z
LAST-MODIFIED:20250518T062626Z
UID:11139-1747758600-1747769400@themobmom.com
SUMMARY:Family Board Game Nights 
DESCRIPTION:Family Board Game Nights\nBring the family or bring your friends (or bring both!) to SFPL on Tuesday evenings! Pull up a chair and enjoy playing one of the many board and card games we have available for use. \nWe can’t wait to see you at the library!
URL:https://themobmom.com/event/family-board-game-nights-2/
LOCATION:Spanish Fort Public Library
END:VEVENT
BEGIN:VEVENT
DTSTART;TZID=UTC:20250520T160000
DTEND;TZID=UTC:20250520T180000
DTSTAMP:20260425T112624
CREATED:20250518T051310Z
LAST-MODIFIED:20250518T051310Z
UID:11063-1747756800-1747764000@themobmom.com
SUMMARY:Teen Dungeons and Dragons at Moorer
DESCRIPTION:“We must never stop failing\, because the minute we do\, we’ve failed.” -Dungeons and Dragons \nCome roll some dice and go on an epic adventure with D&D at the Moorer Branch Library! Teens ages 12-18 are invited to come create heroes and venture into the unknown in the popular table-top adventure game. \nRegistration is recommended! For more information\, please email Alec Broussard at abroussard@mplonline.org\, or call 251-494-4140. \n\n\n\nDisclaimer(s)\n\n\n\nFood Allergies\n\nWe cannot guarantee that food served at this program has not come into contact with tree nuts\, soy or other allergens.
URL:https://themobmom.com/event/teen-dungeons-and-dragons-at-moorer-3/
LOCATION:Monte. L Moorer/Spring Hill Branch Library
END:VEVENT
BEGIN:VEVENT
DTSTART;TZID=UTC:20250520T160000
DTEND;TZID=UTC:20250520T170000
DTSTAMP:20260425T112624
CREATED:20250518T052242Z
LAST-MODIFIED:20250518T052242Z
UID:11072-1747756800-1747760400@themobmom.com
SUMMARY:Lego Club at West
DESCRIPTION:Lego-building fun ideal for ages 6 to 11! \nJoin us in the Meeting Room for our monthly LEGO Club. Use your imagination and challenge your building skills! \n\n\n\n\nIf you have questions or need additional information\, please email West Regional Youth Services at westyou@mplonline.org or call (251) 340-8571.
URL:https://themobmom.com/event/lego-club-at-west/
LOCATION:West Regional Library
END:VEVENT
BEGIN:VEVENT
DTSTART;TZID=UTC:20250520T160000
DTEND;TZID=UTC:20250520T170000
DTSTAMP:20260425T112624
CREATED:20250518T051911Z
LAST-MODIFIED:20250518T051911Z
UID:11068-1747756800-1747760400@themobmom.com
SUMMARY:LEGO Fun Tuesday at Semmes
DESCRIPTION:Join us at Semmes Regional Library!  \nUse your imagination and challenge your building skills with Lego activities! This program is designed for children ages 6 – 18.
URL:https://themobmom.com/event/lego-fun-tuesday-at-semmes-2/
LOCATION:Semmes Regional Library
END:VEVENT
BEGIN:VEVENT
DTSTART;TZID=UTC:20250520T153000
DTEND;TZID=UTC:20250520T163000
DTSTAMP:20260425T112624
CREATED:20250518T052101Z
LAST-MODIFIED:20250518T052101Z
UID:11070-1747755000-1747758600@themobmom.com
SUMMARY:Make-A-Craft Day
DESCRIPTION:Show your creative side! \nJoin us at the Touminville Branch for a fun craft activity to make and take home. Ideal for age 6-11.
URL:https://themobmom.com/event/make-a-craft-day-2/
LOCATION:Virginia Dillard Smith/Toulminville Branch Library
END:VEVENT
BEGIN:VEVENT
DTSTART;TZID=UTC:20250520T153000
DTEND;TZID=UTC:20250520T160000
DTSTAMP:20260425T112624
CREATED:20250518T051732Z
LAST-MODIFIED:20250518T051732Z
UID:11066-1747755000-1747756800@themobmom.com
SUMMARY:Mrs. Tori Tales
DESCRIPTION:Listen\, groove & craft with Mrs. Tori and her tales! \nCome and Join Mrs. Tori for stories\, crafts\, and fun in the Saraland meeting room. This program is ideal for children ages 0 to 12. 
URL:https://themobmom.com/event/mrs-tori-tales-2/
LOCATION:Saraland Public Library
END:VEVENT
BEGIN:VEVENT
DTSTART;TZID=UTC:20250520T140000
DTEND;TZID=UTC:20250520T150000
DTSTAMP:20260425T112624
CREATED:20250518T061530Z
LAST-MODIFIED:20250518T061530Z
UID:11127-1747749600-1747753200@themobmom.com
SUMMARY:Story Time & Play
DESCRIPTION:Event Details\n\nStory Time is a fun way to get your child learning\, moving\, and socializing with other kids! During Story Time we sing songs\, read books\, and play. Join us Tuesday afternoons at 2pm. \n\nDisclaimer(s)\n\n\n\nAccompanying Adults\n\nThis program is designed for children and accompanying adults. Ages 15 and under require an accompanying adult.  Please plan to attend and be engaged with your child for this program. Drop offs will not be permitted.
URL:https://themobmom.com/event/story-time-play/
LOCATION:Foley Public Library
END:VEVENT
BEGIN:VEVENT
DTSTART;TZID=UTC:20250520T110000
DTEND;TZID=UTC:20250520T113000
DTSTAMP:20260425T112624
CREATED:20250518T050917Z
LAST-MODIFIED:20250518T050917Z
UID:11059-1747738800-1747740600@themobmom.com
SUMMARY:Tuesday Time Out Storytime
DESCRIPTION:Entertaining storytime designed for preschool-aged children! \nNeed some time out of the house? Join us in the Meeting Room at the Grand Bay Library for fun stories\, song and crafts. This program will ignite creativity\, spark curiosity\, and stimulate the imagination!
URL:https://themobmom.com/event/tuesday-time-out-storytime-2/
LOCATION:Grand Bay Library
END:VEVENT
BEGIN:VEVENT
DTSTART;TZID=UTC:20250520T100000
DTEND;TZID=UTC:20250520T110000
DTSTAMP:20260425T112624
CREATED:20250518T061344Z
LAST-MODIFIED:20250518T061344Z
UID:11125-1747735200-1747738800@themobmom.com
SUMMARY:Toddler Story Time & Play
DESCRIPTION:Toddler Story Time is a fun way to get your child learning\, moving\, and socializing with other toddlers! During Toddler Story Time we sing songs\, read books\, and play. Join us Tuesday mornings at 10am.
URL:https://themobmom.com/event/toddler-story-time-play/
LOCATION:Foley Public Library
END:VEVENT
BEGIN:VEVENT
DTSTART;TZID=UTC:20250520T100000
DTEND;TZID=UTC:20250520T104500
DTSTAMP:20260425T112624
CREATED:20250518T050658Z
LAST-MODIFIED:20250518T050658Z
UID:11057-1747735200-1747737900@themobmom.com
SUMMARY:Read & Play Storytime
DESCRIPTION:Join us in the youth programming room to enjoy storytime with books\, songs\, fingerplays\, and more! \nStimulate your baby’s developing senses and help them build listening and memory skills that can help your baby grow up to be a reader. Enjoy meeting other parents and their little ones and making new friends. This program is best suited for ages 0-3. \n  \n\n\n\n\nFor more information\, please call 251-340-1507 or email mainyou@mplonline.org.
URL:https://themobmom.com/event/read-play-storytime-2/
LOCATION:Ben May Main Library
END:VEVENT
BEGIN:VEVENT
DTSTART;TZID=UTC:20250519T153000
DTEND;TZID=UTC:20250519T170000
DTSTAMP:20260425T112624
CREATED:20250518T063702Z
LAST-MODIFIED:20250518T063702Z
UID:11146-1747668600-1747674000@themobmom.com
SUMMARY:Family Game Time at Fairhope Public Library
DESCRIPTION:All Ages: \n  \nBring your family and friends and enjoy our new program! \nWe’ll get out board games\, puzzles\, chess\, checkers\, and more for you to enjoy with the people you love!
URL:https://themobmom.com/event/family-game-time-at-fairhope-public-library/
LOCATION:Fairhope Public Library
END:VEVENT
BEGIN:VEVENT
DTSTART;TZID=UTC:20250519T153000
DTEND;TZID=UTC:20250519T170000
DTSTAMP:20260425T112624
CREATED:20250518T062458Z
LAST-MODIFIED:20250518T062458Z
UID:11137-1747668600-1747674000@themobmom.com
SUMMARY:Lego Free Build- Spanish Fort Library
DESCRIPTION:Every Monday 3:30 – 5 pm\, patrons are invited to the Spanish Fort Public Library to exercise their creativity and practice their engineering skills by constructing their very own LEGO® creation. \nThis program is limited to the amount of LEGO®base boards. Each participant must sign in at the front desk to receive their base. Bases will be passed out on a first come\, first served basis beginning at 3:30PM. Completed creations are labeled with the creator name and displayed in the library for the rest of the week. All displays are taken apart and bricks are returned to the bins on Saturdays in preparation for the next program. \n\nPlease do not bring in outside plastic bricks/LEGO®. Bricks/LEGO®used in this program are property of SFPL
URL:https://themobmom.com/event/lego-free-build-spanish-fort-library/
LOCATION:Spanish Fort Public Library
END:VEVENT
BEGIN:VEVENT
DTSTART;TZID=UTC:20250519T100000
DTEND;TZID=UTC:20250519T110000
DTSTAMP:20260425T112624
CREATED:20250518T061124Z
LAST-MODIFIED:20250518T061124Z
UID:11122-1747648800-1747652400@themobmom.com
SUMMARY:Baby Story Time
DESCRIPTION:Baby story time is such a sweet time for families! Join us Monday mornings at 10am for songs\, books\, and activities designed for our youngest patrons. \n\nDisclaimer(s)\n\n\n\nAccompanying Adults\n\nThis program is designed for children and accompanying adults. Ages 15 and under require an accompanying adult.  Please plan to attend and be engaged with your child for this program. Drop offs will not be permitted.
URL:https://themobmom.com/event/baby-story-time/
LOCATION:Foley Public Library
END:VEVENT
BEGIN:VEVENT
DTSTART;TZID=UTC:20250519T091500
DTEND;TZID=UTC:20250519T120000
DTSTAMP:20260425T112624
CREATED:20250518T063449Z
LAST-MODIFIED:20250518T063449Z
UID:11144-1747646100-1747656000@themobmom.com
SUMMARY:Free Build Activity Room Fairhope Public Library
DESCRIPTION:All ages. \nOur Activity Room will be open and stocked with Lincoln logs\, blocks\, LEGOs\, and more. This is unstructured free play and exploration. Parents are required to directly supervise their children and help clean up. Stop by and see what you can build!
URL:https://themobmom.com/event/free-build-activity-room-fairhope-public-library/
LOCATION:Fairhope Public Library
END:VEVENT
BEGIN:VEVENT
DTSTART;TZID=UTC:20250518T180000
DTEND;TZID=UTC:20250518T193000
DTSTAMP:20260425T112624
CREATED:20250312T150817Z
LAST-MODIFIED:20250312T150817Z
UID:10188-1747591200-1747596600@themobmom.com
SUMMARY:Sunday Sunset Concert Series
DESCRIPTION:Join us for our SUNDAY SUNSET CONCERT SERIES at Daphne’s Bayfront Park!\nSunday\, May 18\, 2025 • 6:00 – 7:30 PM“Everybody’s Here”\nBring your chairs\, picnic snacks and your loved ones to soak in the magic of music and community under the setting sun. Don’t miss out on this FREE event – see you there!
URL:https://themobmom.com/event/sunday-sunset-concert-series/
LOCATION:Bayfront Park
ATTACH;FMTTYPE=image/jpeg:https://themobmom.com/wp-content/uploads/2025/03/481660440_1051180343722958_2994122681739676469_n.jpg
END:VEVENT
BEGIN:VEVENT
DTSTART;TZID=UTC:20250518T123000
DTEND;TZID=UTC:20250518T141500
DTSTAMP:20260425T112624
CREATED:20250515T222453Z
LAST-MODIFIED:20250515T222453Z
UID:11028-1747571400-1747577700@themobmom.com
SUMMARY:$7 Open Jump at Pump it Up
DESCRIPTION:Open Jump for CHEAP?? YES PLEASE! Join us for our most affordable jump at the end of your week! Only $7 + tax per child and parents are free.
URL:https://themobmom.com/event/7-open-jump-at-pump-it-up-2/
LOCATION:Pump it Up Mobile
END:VEVENT
BEGIN:VEVENT
DTSTART;TZID=UTC:20250517T170000
DTEND;TZID=UTC:20250517T210000
DTSTAMP:20260425T112624
CREATED:20250515T224009Z
LAST-MODIFIED:20250515T224103Z
UID:11038-1747501200-1747515600@themobmom.com
SUMMARY:Movie Night at the Pool
DESCRIPTION: MOANA 2 MOVIE NIGHT! \nJoin us at the pool for a night of fun in the sun (or stars!)  Come dressed in your Hawaiian best for a costume contest at 5:30 PM (winner gets a $5 snack bar credit!). \n May 17 | 5–9 PM | Guests Welcome for $5!\n Let’s make waves together—see you there! 
URL:https://themobmom.com/event/movie-night-at-the-pool/
LOCATION:Oakwood Swim & Racquet Club
ATTACH;FMTTYPE=image/jpeg:https://themobmom.com/wp-content/uploads/2025/05/movie-night-at-the-pool.jpg
END:VEVENT
BEGIN:VEVENT
DTSTART;TZID=UTC:20250517T170000
DTEND;TZID=UTC:20250517T210000
DTSTAMP:20260425T112624
CREATED:20250513T141626Z
LAST-MODIFIED:20250513T141626Z
UID:11014-1747501200-1747515600@themobmom.com
SUMMARY:North Baldwin Chamber Crawfish Cookoff
DESCRIPTION:Join us Saturday\, May 17th\, and enjoy crawfish\, corn\, potatoes\, cold drinks\, live music\, and more in a team challenge cook-off competition!Bring the kids and enjoy the afternoon as this unique event is fun for the whole family. This time-honored event offers something for everyone. This is a relaxed\, fun environment to kick off summer in North Baldwin….. You don’t want to miss this!
URL:https://themobmom.com/event/north-baldwin-chamber-crawfish-cookoff/
LOCATION:Halliday Park- Bay Minette
ATTACH;FMTTYPE=image/jpeg:https://themobmom.com/wp-content/uploads/2025/05/491977673_1116690783833295_4076722188697829635_n.jpg
END:VEVENT
BEGIN:VEVENT
DTSTART;TZID=UTC:20250517T100000
DTEND;TZID=UTC:20250517T130000
DTSTAMP:20260425T112624
CREATED:20250513T135853Z
LAST-MODIFIED:20250513T135853Z
UID:11008-1747476000-1747486800@themobmom.com
SUMMARY:May Day Celebration 2025
DESCRIPTION:Mark your calendars for one of Daphne’s most beloved events!\nJoin us Saturday\, May 17th\, 2025 from 10:00 AM to 1:00 PM at May Day Park for a day filled with family fun and nostalgia!\nExperience the May Day magic with:• Carnival rides\, bungees\, and inflatables!• BBQ from our Daphne Police!• Crafts and activities for the kids!• Sweet treats from Ice Cream Social Serving Cammie’s Old Dutch Ice Cream and Tap and Pour!• Face painting!• Learn how to throw a cast net from 11:00 AM – 12:00 PM and much more!\nDid you know that Daphne’s May Day celebrations date back to 1911! Let’s keep this cherished tradition going in 2025!
URL:https://themobmom.com/event/may-day-celebration-2025/
LOCATION:May Day Park\, Daphne
ATTACH;FMTTYPE=image/jpeg:https://themobmom.com/wp-content/uploads/2025/05/491824087_1083659513808374_6863592368152167639_n.jpg
END:VEVENT
BEGIN:VEVENT
DTSTART;VALUE=DATE:20250517
DTEND;VALUE=DATE:20250518
DTSTAMP:20260425T112624
CREATED:20250515T225347Z
LAST-MODIFIED:20250515T225347Z
UID:11048-1747440000-1747526399@themobmom.com
SUMMARY:Spring/Summer Market in the Park
DESCRIPTION:Shop locally grown\, locally produced and handmade items at Market in the Park! \nThis spring/summer\, Market in the Park will run every Saturday from April 26 through June 28. Explore a wide variety of fresh\, locally-grown produce\, artisanal goods\, and handcrafted items from local vendors while enjoying live entertainment in Cathedral Square.  We’re proud to support our community with a selection of vendors who accept SNAP benefits\, making fresh\, healthy options accessible to all.\nEvery Saturday\, the market will open at Cathedral Square at 7:30 a.m. and close at noon.
URL:https://themobmom.com/event/spring-summer-market-in-the-park-4/
LOCATION:Cathedral Square\, Mobile\, Alabama
ATTACH;FMTTYPE=image/jpeg:https://themobmom.com/wp-content/uploads/2025/05/market-in-the-park.jpg
END:VEVENT
END:VCALENDAR