BEGIN:VCALENDAR
VERSION:2.0
PRODID:-//MOB Moms - ECPv6.15.1.1//NONSGML v1.0//EN
CALSCALE:GREGORIAN
METHOD:PUBLISH
X-WR-CALNAME:MOB Moms
X-ORIGINAL-URL:https://themobmom.com
X-WR-CALDESC:Events for MOB Moms
REFRESH-INTERVAL;VALUE=DURATION:PT1H
X-Robots-Tag:noindex
X-PUBLISHED-TTL:PT1H
BEGIN:VTIMEZONE
TZID:UTC
BEGIN:STANDARD
TZOFFSETFROM:+0000
TZOFFSETTO:+0000
TZNAME:UTC
DTSTART:20250101T000000
END:STANDARD
END:VTIMEZONE
BEGIN:VEVENT
DTSTART;VALUE=DATE:20250424
DTEND;VALUE=DATE:20250429
DTSTAMP:20260425T125307
CREATED:20250418T184251Z
LAST-MODIFIED:20250418T184251Z
UID:10696-1745452800-1745884799@themobmom.com
SUMMARY:Chinese Lantern Festival
DESCRIPTION:Join us for the inaugural Gulf Coast Chinese Lantern Festival as Bellingrath Gardens & Home transforms into a breathtaking display of light and artistry.  As night falls\, the Gardens will turn into a luminous dreamscape\, where 41 towering\, handcrafted light sculptures glow with vibrant colors\, lighting the landscape with interactive artistry and imagination. Visitors will journey through the estate\, where each glowing display tells a story through plants\, animals\, and fantastical creatures\, blending ancient tradition with modern innovation. Many displays invite interaction—dance with vibrant figures\, play games\, and immerse yourself in the fun. Purchase Daily Tickets or Flex Passes. \nWhat to Expect \nAs you explore\, you’ll find endless opportunities for photos and laughter with awe-inspiring moments that will stay with you long after the night ends. Bring your whole family\, invite your friends\, and be part of this extraordinary festival—because some experiences are too wonderful to miss. \n \nPlan Your Visit\n\nDate: April 17 – June 15\, 2025 | Thursday – Sunday | Open Easter and Memorial Day\nTime: 5:00 – 10:00 PM\nWe are encouraging guests to purchase tickets online in advance. Limited on-site ticket sales will be available\, but an additional $8 per ticket charge will apply for purchases at the door. Flex tickets\, valid for any show night\, can be purchased for an extra $10 per ticket fee. Children 4 and under will be charged $2.\nGeneral admission tickets and Lantern Festival tickets are sold separately—there is no combined ticket option.\nBellingrath Gardens will close from 4:00 PM to 5:00 PM Thursday through Sunday during the Gulf Coast Chinese Lantern Festival\, with the last general admission ticket sold at 3:00 PM. General admission tickets for daytime entry and Lantern Festival tickets for the evening are sold separately. Please note that there is no combined ticket option available.\nThe Magnolia Café is open nightly from 5:00 to 8:00 PM.
URL:https://themobmom.com/event/chinese-lantern-festival-2/
LOCATION:Bellingrath Gardens & Home
ATTACH;FMTTYPE=image/webp:https://themobmom.com/wp-content/uploads/2025/04/chinese-lantern-festival.webp
END:VEVENT
END:VCALENDAR