BEGIN:VCALENDAR
VERSION:2.0
PRODID:-//MOB Moms - ECPv6.15.1.1//NONSGML v1.0//EN
CALSCALE:GREGORIAN
METHOD:PUBLISH
X-WR-CALNAME:MOB Moms
X-ORIGINAL-URL:https://themobmom.com
X-WR-CALDESC:Events for MOB Moms
REFRESH-INTERVAL;VALUE=DURATION:PT1H
X-Robots-Tag:noindex
X-PUBLISHED-TTL:PT1H
BEGIN:VTIMEZONE
TZID:UTC
BEGIN:STANDARD
TZOFFSETFROM:+0000
TZOFFSETTO:+0000
TZNAME:UTC
DTSTART:20250101T000000
END:STANDARD
END:VTIMEZONE
BEGIN:VEVENT
DTSTART;VALUE=DATE:20250531
DTEND;VALUE=DATE:20250602
DTSTAMP:20260424T083535
CREATED:20250530T151016Z
LAST-MODIFIED:20250530T151016Z
UID:11377-1748649600-1748822399@themobmom.com
SUMMARY:2025 Ballin' On The Bay Showcase Tournament
DESCRIPTION:Ballin’ On The Bay Showcase Tournament has become one of the top youth tournaments in the Southeast! More than 100 teams (boys and girls\, grades 3-12) from across the Gulf Coast will compete on multiple courts at the Mobile Convention Center. Each team is guaranteed three games. Pool play on May 31. Championship play on June 1.\nSchedule:\nSaturday\, May 31 – Doors open at 7 am; Tournament play is 8 am – 10 pmSunday\, June 1 – Doors open at 7 am; Tournament play is 8 am – 5 pm\nTickets are priced as follows:\nDaily Pass – $25 (ages 7 & up); $15 (ages 4-6)
URL:https://themobmom.com/event/2025-ballin-on-the-bay-showcase-tournament/
LOCATION:Mobile Convention Center\, Mobile\, Alabama
ATTACH;FMTTYPE=image/jpeg:https://themobmom.com/wp-content/uploads/2025/05/ballin-on-the-bay.jpg
END:VEVENT
BEGIN:VEVENT
DTSTART;TZID=UTC:20250531T073000
DTEND;TZID=UTC:20250531T120000
DTSTAMP:20260424T083535
CREATED:20250530T152401Z
LAST-MODIFIED:20250530T152401Z
UID:11387-1748676600-1748692800@themobmom.com
SUMMARY:Spring/Summer Market in the Park
DESCRIPTION:Shop locally grown\, locally produced and handmade items at Market in the Park!\nThis spring/summer\, Market in the Park will run every Saturday from April 26 through June 28. Explore a wide variety of fresh\, locally-grown produce\, artisanal goods\, and handcrafted items from local vendors while enjoying live entertainment in Cathedral Square. We’re proud to support our community with a selection of vendors who accept SNAP benefits\, making fresh\, healthy options accessible to all. \nEvery Saturday\, the market will open at Cathedral Square at 7:30 a.m. and close at noon.
URL:https://themobmom.com/event/spring-summer-market-in-the-park-6/
LOCATION:Cathedral Square\, Mobile\, Alabama
ATTACH;FMTTYPE=image/jpeg:https://themobmom.com/wp-content/uploads/2025/05/market-in-the-park.jpg
END:VEVENT
BEGIN:VEVENT
DTSTART;TZID=UTC:20250531T080000
DTEND;TZID=UTC:20250531T123000
DTSTAMP:20260424T083535
CREATED:20250602T215020Z
LAST-MODIFIED:20250602T215020Z
UID:11405-1748678400-1748694600@themobmom.com
SUMMARY:Family Fun Day
DESCRIPTION:Join us for a family fun event that will delight the kids. There will be food\, games\, face paint\, and more!
URL:https://themobmom.com/event/family-fun-day-3/
LOCATION:Medal of Honor Park
ATTACH;FMTTYPE=image/jpeg:https://themobmom.com/wp-content/uploads/2025/06/unnamed.jpg
END:VEVENT
BEGIN:VEVENT
DTSTART;TZID=UTC:20250531T100000
DTEND;TZID=UTC:20250531T103000
DTSTAMP:20260424T083535
CREATED:20250528T131133Z
LAST-MODIFIED:20250528T131133Z
UID:11363-1748685600-1748687400@themobmom.com
SUMMARY:Chess Club for All Ages at Parkway
DESCRIPTION:Learn chess for all ages!  \nWhether you’re brand new to the game\, need a refresher\, or just want to talk about how to win checkmate\, come hang out with us at Parkway.
URL:https://themobmom.com/event/chess-club-for-all-ages-at-parkway-3/
LOCATION:Parkway Branch
END:VEVENT
BEGIN:VEVENT
DTSTART;TZID=UTC:20250531T100000
DTEND;TZID=UTC:20250531T120000
DTSTAMP:20260424T083535
CREATED:20250528T130635Z
LAST-MODIFIED:20250528T130639Z
UID:11360-1748685600-1748692800@themobmom.com
SUMMARY:Summer Library Celebration: SLC Kickoff 2025
DESCRIPTION:Event Details\n\nA Palette of Possibilities! \nJoin us and our community partners as we kick off our Summer Library Celebration and celebrate our community with a mini-touch-a-truck\, music\, fun activities\, and much more! Our theme this summer is “Color Our World.” We are delighted to have groups from across Mobile planning to join us and engage with families of all ages to highlight what they do! \nMusic: DJ Herb \nFacepainter: Mary Miller \nMini Touch a Truck: Bookmobile & The Mobile Police Department \nVendors that will be in attendance:  \n\nAuburn University Head Start\nUSS Alabama Battleship Memorial Park\nBoys and Girls Club of South Alabama\nCarnival Museum\nCenter for Archaeological Studies\nExploreum\nGoodwill Easter Seals | Goodwill Gulf Coast\nNew Horizons Credit Union\nHelp Me Grow\nHistory Museum of Mobile\nLove Your Community\nMobile Arts Council\nMobile Ballet\nMobile Community Action Head Start\nMobile International Festival\nTelenutrition Center\, The University of Southern Mississippi\nTexas Road House\nUSA Literacy Center\n\nAll ages are welcome! \nFor more information\, please email the Main Youth Desk at mainyou@mplonline.org or call 251-340-1507. \n\nDisclaimer(s)\n\n\n\nFood Allergies\n\nWe cannot guarantee that food served at this program has not come into contact with tree nuts\, soy or other allergens.
URL:https://themobmom.com/event/summer-library-celebration-slc-kickoff-2025/
LOCATION:Ben May Main Library
ATTACH;FMTTYPE=image/png:https://themobmom.com/wp-content/uploads/2025/05/summer-library-celebration.png
END:VEVENT
BEGIN:VEVENT
DTSTART;TZID=UTC:20250531T103000
DTEND;TZID=UTC:20250531T113000
DTSTAMP:20260424T083535
CREATED:20250528T130412Z
LAST-MODIFIED:20250528T130412Z
UID:11358-1748687400-1748691000@themobmom.com
SUMMARY:Snuggling Stories
DESCRIPTION:Morning snuggles with fun giggles! \nJoin us at the Saraland Public Library to enjoy fun stories\, songs\, movements\, and a craft.
URL:https://themobmom.com/event/snuggling-stories-2/
LOCATION:Saraland Public Library
END:VEVENT
BEGIN:VEVENT
DTSTART;TZID=UTC:20250531T103000
DTEND;TZID=UTC:20250531T120000
DTSTAMP:20260424T083535
CREATED:20250518T064402Z
LAST-MODIFIED:20250518T064402Z
UID:11151-1748687400-1748692800@themobmom.com
SUMMARY:Splash Bash- Summer Reading Kick Off Party
DESCRIPTION:Kick off the 2025 Summer Reading Program with our annual Splash Bash! Join us for water slides\, a bouncy house\, splash pad\, crafts\, snowcones & more!\nAll ages are welcome!\nBring your swimsuit & join us for some fun!
URL:https://themobmom.com/event/splash-bash-summer-reading-kick-off-party/
LOCATION:Orange Beach Public Library\, 26267 Canal Road\, Orange Beach\, AL\, 36561
ATTACH;FMTTYPE=image/jpeg:https://themobmom.com/wp-content/uploads/2025/05/splash-bash.jpg
END:VEVENT
BEGIN:VEVENT
DTSTART;TZID=UTC:20250531T113000
DTEND;TZID=UTC:20250531T133000
DTSTAMP:20260424T083535
CREATED:20250528T130201Z
LAST-MODIFIED:20250528T130201Z
UID:11356-1748691000-1748698200@themobmom.com
SUMMARY:Teen Dungeons and Dragons at Moorer
DESCRIPTION:“We must never stop failing\, because the minute we do\, we’ve failed.” -Dungeons and Dragons \nCome roll some dice and go on an epic adventure with D&D at the Moorer Branch Library! Teens ages 12-18 are invited to come create heroes and venture into the unknown in the popular table-top adventure game. \nRegistration is recommended! For more information\, please email Alec Broussard at abroussard@mplonline.org\, or call 251-494-4140. \n\n\n\nDisclaimer(s)\n\n\n\nFood Allergies\n\nWe cannot guarantee that food served at this program has not come into contact with tree nuts\, soy or other allergens.
URL:https://themobmom.com/event/teen-dungeons-and-dragons-at-moorer-4/
LOCATION:Monte. L Moorer/Spring Hill Branch Library
END:VEVENT
BEGIN:VEVENT
DTSTART;TZID=UTC:20250531T140000
DTEND;TZID=UTC:20250531T160000
DTSTAMP:20260424T083535
CREATED:20250528T130007Z
LAST-MODIFIED:20250528T130007Z
UID:11354-1748700000-1748707200@themobmom.com
SUMMARY:Chess Club for Everyone at Moorer
DESCRIPTION:Beginners and experienced players welcome! \nPlaying chess improves concentration and problem-solving skills. Join us at Monte L. Moorer/Spring Hill Branch for chess club designed for ages 6 and up.
URL:https://themobmom.com/event/chess-club-for-everyone-at-moorer-3/
LOCATION:Monte. L Moorer/Spring Hill Branch Library
END:VEVENT
BEGIN:VEVENT
DTSTART;TZID=UTC:20250531T150000
DTEND;TZID=UTC:20250531T153000
DTSTAMP:20260424T083535
CREATED:20250528T125839Z
LAST-MODIFIED:20250528T125839Z
UID:11352-1748703600-1748705400@themobmom.com
SUMMARY:Saturday Crafternoon (Chalk Relief)
DESCRIPTION:Let’s enjoy making crafts together! \nJoin us every Saturday at the Theodore Oaks Branch to get creative and make a fun craft. \n\n\n\n\nThis Saturday\, let’s have fun creating and using chalk to make a shooting star together! \nThis program is ideal for children ages 6 – 11\, but all ages are welcome. Supplies and space are limited though\, and participation is on a first come\, first serve basis. For more information\, please email theocir@mplonline.org or call (251) 662-7674. \n\nDisclaimer(s)\n\n\n\nFood Allergies\n\nWe cannot guarantee that food served at this program has not come into contact with tree nuts\, soy or other allergens.
URL:https://themobmom.com/event/saturday-crafternoon-chalk-relief/
LOCATION:Mobile Public Library- Theodore Oaks Branch
END:VEVENT
BEGIN:VEVENT
DTSTART;TZID=UTC:20250531T150000
DTEND;TZID=UTC:20250531T163000
DTSTAMP:20260424T083535
CREATED:20250528T125716Z
LAST-MODIFIED:20250528T125716Z
UID:11350-1748703600-1748709000@themobmom.com
SUMMARY:Saraland Movie Adventure: Garfield Movie
DESCRIPTION:Event Details\n\nJoin us for a Saraland Movie Adventure! \nBring a friend and join us for popcorn and a movie as we watch Garfield Movie (2004) PG | 1 hr. 41mins. Bill Murray lends his voice to the orange fat-cat\, whose world unravels when his owner adopts a lovable dog. \n  \n\nDisclaimer(s)\n\n\n\nFood Allergies\n\nWe cannot guarantee that food served at this program has not come into contact with tree nuts\, soy or other allergens.
URL:https://themobmom.com/event/saraland-movie-adventure-garfield-movie/
LOCATION:Saraland Public Library
END:VEVENT
BEGIN:VEVENT
DTSTART;TZID=UTC:20250531T150000
DTEND;TZID=UTC:20250531T180000
DTSTAMP:20260424T083535
CREATED:20250530T151237Z
LAST-MODIFIED:20250530T151237Z
UID:11380-1748703600-1748714400@themobmom.com
SUMMARY:One Love Block Party
DESCRIPTION:Last year\, the Breakthrough Teens partnered with Reconnect Inc. to create a wonderful community event that highlighted local businesses\, resources\, and talent\, and featured several live performances\, activities\, and games. \nThis year\, “251 Teens” are back with Reconnect Inc. with an even bigger celebration!  Join the crew on Saturday\, May 31 for the Second Annual One Love Block Party! \nThis is a free event filled with kickball\, crafts\, inflatables\, and much more.  Be prepared to witness incredible local talent and of course\, food trucks will be on site offering a variety of delicious options\, from sweet treats to savory meals. \nFinally there will be a colorful assortment of vendors offering valuable products and services!\nNo registration required! Just click on “Going” and get yourselves prepared for a great time!
URL:https://themobmom.com/event/one-love-block-party/
LOCATION:Michael Dow Ampitheater
ATTACH;FMTTYPE=image/jpeg:https://themobmom.com/wp-content/uploads/2025/05/one-love-block-party.jpg
END:VEVENT
BEGIN:VEVENT
DTSTART;TZID=UTC:20250531T180000
DTEND;TZID=UTC:20250531T210000
DTSTAMP:20260424T083535
CREATED:20250530T152112Z
LAST-MODIFIED:20250530T152112Z
UID:11384-1748714400-1748725200@themobmom.com
SUMMARY:Gulf Coast Grooves
DESCRIPTION:We’re kicking off a brand-new\, free concert series at Mardi Gras Park on Saturday\, May 31! From 6 p.m. to 9 p.m.\, join us for good music\, good food\, good vibes\, and a night to remember. \nEntertainment Schedule \n\n6 p.m. – ALTO MOON (POP/R&B MIX)\n7:45 p.m. – CONOR CLEMMONS (COUNTRY/POP)\n\nChairs and blankets are allowed. Tents\, glass bottles\, and coolers are NOT allowed. \nFor more information\, please contact us by calling 251-208-1550 or emailing events@cityofmobile.org. By attending this event you agree to be photographed. \nThe deadline to register as a food truck vendor is May 24\, 2025. Register now!
URL:https://themobmom.com/event/gulf-coast-grooves/
LOCATION:Mardi Gras Park
ATTACH;FMTTYPE=image/jpeg:https://themobmom.com/wp-content/uploads/2025/05/gulf-coast-grooves.jpg
END:VEVENT
BEGIN:VEVENT
DTSTART;TZID=UTC:20250602T090000
DTEND;TZID=UTC:20250728T150000
DTSTAMP:20260424T083535
CREATED:20250522T144538Z
LAST-MODIFIED:20250522T144538Z
UID:11252-1748854800-1753714800@themobmom.com
SUMMARY:Two Dolla Mondays
DESCRIPTION:Every Monday from 9am to 3pm enjoy $2 Bowling Games (price is per person / per game) and $2 shoes!\nWe are thinking Mondays should be deemed family day at Eastern Shore Lanes!\nFirst Come First Serve – No reservations
URL:https://themobmom.com/event/two-dolla-mondays/
LOCATION:Eastern Shore Lanes
ATTACH;FMTTYPE=image/jpeg:https://themobmom.com/wp-content/uploads/2025/05/497669524_1237671361702376_1685324287553650333_n.jpg
END:VEVENT
BEGIN:VEVENT
DTSTART;TZID=UTC:20250603T180000
DTEND;TZID=UTC:20250722T193000
DTSTAMP:20260424T083535
CREATED:20250522T151518Z
LAST-MODIFIED:20250522T151518Z
UID:11270-1748973600-1753212600@themobmom.com
SUMMARY:Mountain Bike Skills & Race Series - Daphne
DESCRIPTION:The Gulf Coast Youth Mountain Bike Association is hosting a fun and supportive weekly biking clinic for K-6th grade students. Weekly sessions beginning Tuesday\, June 3 for eight weeks; all for $50.\nJune: Skill-building sessions focused on the basics of trail ridingJuly: Short course races to practice what they’ve learned\nLet your child experience the fun of mountain biking while learning trail safety\, technique\, and teamwork!
URL:https://themobmom.com/event/mountain-bike-skills-race-series-daphne/
LOCATION:Daphne Sports Complex
ATTACH;FMTTYPE=image/jpeg:https://themobmom.com/wp-content/uploads/2025/05/494207033_1087972236688885_4763223912666161436_n.jpg
END:VEVENT
BEGIN:VEVENT
DTSTART;TZID=UTC:20250605T100000
DTEND;TZID=UTC:20250724T230000
DTSTAMP:20260424T083535
CREATED:20250522T152507Z
LAST-MODIFIED:20250522T152507Z
UID:11277-1749117600-1753398000@themobmom.com
SUMMARY:Summer Reading at Foley Public Library
DESCRIPTION:Every Thursday at Foley Public Library is a BIG deal for little ones! Join us at the Foley Civic Center for stories and surprises designed just for kids of all ages! Each week is a new adventure—don’t miss out!Thursdays10:00AMFOLEY CIVIC CENTERFREE! No registration needed
URL:https://themobmom.com/event/summer-reading-at-foley-public-library/
LOCATION:Foley Civic Center
ATTACH;FMTTYPE=image/jpeg:https://themobmom.com/wp-content/uploads/2025/05/494969815_695563172979701_4922448185245291738_n.jpg
END:VEVENT
BEGIN:VEVENT
DTSTART;TZID=UTC:20250605T180000
DTEND;TZID=UTC:20250605T210000
DTSTAMP:20260424T083535
CREATED:20250513T135113Z
LAST-MODIFIED:20250513T135113Z
UID:11006-1749146400-1749157200@themobmom.com
SUMMARY:Bubble Bash
DESCRIPTION:Get ready for a bubbly good time because Thursdays are about to be Poppin’. Come early and enjoy entertainment from DJ Matt\, camel rides\, cornhole games\, face painting + more! Dance to the beats\, dive into kid-friendly fun\, and splash around the Bubble Truck because things are about to get poppin’ all season long!\nDate + Time: Thursdays; June 5 – July 31 | 6-9 pm (event will not be held on May 29\, July 3 or 10)Where: Main Street\nFREE admission + parking; some activities cost $5-10Schedule:– Kids’ Activities + DJ Matt: 6-9 pm– Bubble Truck: 6:30-8:30 pm / Last 30 min – GLOW Bubbles– SPECTRA Laser Light Experience: 8:30\, 9 + 9:30 pm\n**Don’t forget a swimsuit + towel for the water activities! Giant 15 ft water slide on July 17 + 24
URL:https://themobmom.com/event/bubble-bash-2/
LOCATION:The Wharf
ATTACH;FMTTYPE=image/jpeg:https://themobmom.com/wp-content/uploads/2025/05/494192880_1100802165417426_3502658218596864536_n.jpg
END:VEVENT
BEGIN:VEVENT
DTSTART;TZID=UTC:20250607T100000
DTEND;TZID=UTC:20250607T130000
DTSTAMP:20260424T083535
CREATED:20250523T150158Z
LAST-MODIFIED:20250523T150158Z
UID:11301-1749290400-1749301200@themobmom.com
SUMMARY:Paddle in the Park
DESCRIPTION: Make plans to join us on Saturday\, June 7 for a day of fun on the water as we kick off the lake restoration project at Langan Park! \nEnjoy free kayaking and canoeing\, hands-on STREAM activities for kids\, and learn about the science behind lake dredging through fun\, interactive stations. Pack a picnic or grab a bite to eat from local food trucks while you relax by the water. \nYou do not want to miss this family-friendly celebration of nature\, learning\, and community hosted by MPRD and Mobile Baykeepers\, with kayaks provided by Mobile Kayak Rental Co.  No registration required; we hope to see you there!\n**By attending this event you agree to be photographed. Free kayak and canoe rentals are first come\, first served.*
URL:https://themobmom.com/event/paddle-in-the-park/
LOCATION:Langan Municipal Park
ATTACH;FMTTYPE=image/jpeg:https://themobmom.com/wp-content/uploads/2025/05/paddle-in-the-park.jpg
END:VEVENT
BEGIN:VEVENT
DTSTART;TZID=UTC:20250607T150000
DTEND;TZID=UTC:20250607T190000
DTSTAMP:20260424T083535
CREATED:20250522T145146Z
LAST-MODIFIED:20250522T145146Z
UID:11255-1749308400-1749322800@themobmom.com
SUMMARY:Summer Bash 2025
DESCRIPTION:Summer Bash 2025. Are you ready? WABD live broadcast from 3 pm to 5 pm. Ballon artist and magician from 5 pm to 7 pm. Hotdogs\, pizza\, cotton candy\, snow cones\, popcorn\, waterslide\, slip and slide. LFPOA members and family enjoy free entry.
URL:https://themobmom.com/event/summer-bash-2025/
LOCATION:Lake Forest Swim and Racquet Club
ATTACH;FMTTYPE=image/jpeg:https://themobmom.com/wp-content/uploads/2025/05/499477582_1000357625629285_5808195014215347215_n.jpg
END:VEVENT
BEGIN:VEVENT
DTSTART;VALUE=DATE:20250609
DTEND;VALUE=DATE:20250614
DTSTAMP:20260424T083535
CREATED:20250609T063008Z
LAST-MODIFIED:20250609T063008Z
UID:11596-1749427200-1749859199@themobmom.com
SUMMARY:Daphne Library Storytimes
DESCRIPTION:
URL:https://themobmom.com/event/daphne-library-storytimes/
LOCATION:Daphne Public Library\, Daphne\, Alabama\, 36526
ATTACH;FMTTYPE=image/jpeg:https://themobmom.com/wp-content/uploads/2025/06/daphne-library-storytimes.jpg
END:VEVENT
BEGIN:VEVENT
DTSTART;TZID=UTC:20250609T091500
DTEND;TZID=UTC:20250609T120000
DTSTAMP:20260424T083535
CREATED:20250609T063229Z
LAST-MODIFIED:20250609T063229Z
UID:11599-1749460500-1749470400@themobmom.com
SUMMARY:Free Build – Activity Room
DESCRIPTION:All ages. \nOur Activity Room will be open and stocked with Lincoln logs\, blocks\, LEGOs\, and more. This is unstructured free play and exploration. Parents are required to directly supervise their children and help clean up. Stop by and see what you can build!
URL:https://themobmom.com/event/free-build-activity-room-2/
LOCATION:Fairhope Public Library
END:VEVENT
BEGIN:VEVENT
DTSTART;TZID=UTC:20250609T100000
DTEND;TZID=UTC:20250609T110000
DTSTAMP:20260424T083535
CREATED:20250608T230858Z
LAST-MODIFIED:20250608T230858Z
UID:11453-1749463200-1749466800@themobmom.com
SUMMARY:Special Performer: The Didgeridoo Down Under Show
DESCRIPTION:Event Details\n\nJoin us on a colorful adventure!  \nThe Didgeridoo Down Under Show is an energetic fusion of Australian music\, culture\, comedy\, character-building\, storytelling\, and audience participation. Join us on a colorful adventure to the Land Down Under\, where we’ll hear otherworldly sounds from the didgeridoo\, explore the Great Barrier Reef and the Outback\, learn about fascinating Aboriginal artwork\, marvel at amazing creatures like kangaroos and koalas\, and much more. The DDU Show is interactive\, educational\, motivational\, and super fun for all ages! \nGroups are required to register. To register or for more information\, call 251-675-2879 or email Victoria Mosteller at vmosteller@mplonline.org.
URL:https://themobmom.com/event/special-performer-the-didgeridoo-down-under-show/
LOCATION:Saraland Public Library
END:VEVENT
BEGIN:VEVENT
DTSTART;TZID=UTC:20250609T100000
DTEND;TZID=UTC:20250609T113000
DTSTAMP:20260424T083535
CREATED:20250608T231509Z
LAST-MODIFIED:20250608T231509Z
UID:11459-1749463200-1749468600@themobmom.com
SUMMARY:Create! Play! Learn!
DESCRIPTION:Event Details\n\n\n\nTime for some creative play at West Regional Library!  \nCreate! Play! Learn! at West Regional Library Time for some creative play! Join us in the Meeting Room for fun and learning! This program is designed with toddlers and preschoolers in mind and uses engaging activities to develop skills they will need when they start school! Wear your play clothes – it might get messy! \n\n\n\n\nIf you have questions or need additional information\, please email West Regional Youth Services at westyou@mplonline.org or call (251) 340-8571.
URL:https://themobmom.com/event/create-play-learn/
LOCATION:West Regional Library
CATEGORIES:Mobile
END:VEVENT
BEGIN:VEVENT
DTSTART;TZID=UTC:20250609T130000
DTEND;TZID=UTC:20250609T140000
DTSTAMP:20260424T083535
CREATED:20250608T231641Z
LAST-MODIFIED:20250608T231641Z
UID:11461-1749474000-1749477600@themobmom.com
SUMMARY:Special Performer: The Didgeridoo Down Under Show
DESCRIPTION:Join us on a colorful adventure!  \nThe Didgeridoo Down Under Show is an energetic fusion of Australian music\, culture\, comedy\, character-building\, storytelling\, and audience participation. Join us on a colorful adventure to the Land Down Under\, where we’ll hear otherworldly sounds from the didgeridoo\, explore the Great Barrier Reef and the Outback\, learn about fascinating Aboriginal artwork\, marvel at amazing creatures like kangaroos and koalas\, and much more. The DDU Show is interactive\, educational\, motivational\, and super fun for all ages! \nGroups are required to register. To register or for more information\, call 251-494-4935 or email Callie Kelley at ckelley@mplonline.org.
URL:https://themobmom.com/event/special-performer-the-didgeridoo-down-under-show-3/
LOCATION:Semmes Regional Library
CATEGORIES:Mobile
END:VEVENT
BEGIN:VEVENT
DTSTART;TZID=UTC:20250609T140000
DTEND;TZID=UTC:20250609T160000
DTSTAMP:20260424T083535
CREATED:20250609T063402Z
LAST-MODIFIED:20250609T063402Z
UID:11601-1749477600-1749484800@themobmom.com
SUMMARY:Movie Mondays for Kids – Giddens
DESCRIPTION:Ages 2-12 \nJune 2: Coco \nJune 9: Ratatouille \nJune 16: Harold & the Purple Crayon \nJune 23: Tangled \nJune 30: Trolls World Tour
URL:https://themobmom.com/event/movie-mondays-for-kids-giddens/
LOCATION:Fairhope Public Library
END:VEVENT
BEGIN:VEVENT
DTSTART;TZID=UTC:20250609T150000
DTEND;TZID=UTC:20250609T160000
DTSTAMP:20260424T083535
CREATED:20250608T231138Z
LAST-MODIFIED:20250608T231138Z
UID:11455-1749481200-1749484800@themobmom.com
SUMMARY:Special Performer: The Didgeridoo Down Under Show
DESCRIPTION:Event Details\n\nJoin us on a colorful adventure!  \nThe Didgeridoo Down Under Show is an energetic fusion of Australian music\, culture\, comedy\, character-building\, storytelling\, and audience participation. Join us on a colorful adventure to the Land Down Under\, where we’ll hear otherworldly sounds from the didgeridoo\, explore the Great Barrier Reef and the Outback\, learn about fascinating Aboriginal artwork\, marvel at amazing creatures like kangaroos and koalas\, and much more. The DDU Show is interactive\, educational\, motivational\, and super fun for all ages! \nGroups are required to register. To register or for more information\, call 251-494-4140 or email Jaime Lee (Ms. Lee) at jlee@mplonline.org.
URL:https://themobmom.com/event/special-performer-the-didgeridoo-down-under-show-2/
LOCATION:Saraland Public Library
CATEGORIES:Mobile,Storytime
END:VEVENT
BEGIN:VEVENT
DTSTART;TZID=UTC:20250609T150000
DTEND;TZID=UTC:20250609T170000
DTSTAMP:20260424T083535
CREATED:20250608T231823Z
LAST-MODIFIED:20250608T231823Z
UID:11463-1749481200-1749488400@themobmom.com
SUMMARY:Chess Club at West
DESCRIPTION:All ages club – beginners and experienced players welcome! \nJoin us in the Meeting Room every Monday to learn how to play or improve your skill at the game of chess! Playing chess improves concentration and problem-solving skills. No experience is necessary to join the club – just enthusiasm and good sportsmanship!
URL:https://themobmom.com/event/chess-club-at-west-2/
LOCATION:West Regional Library
CATEGORIES:Mobile
END:VEVENT
BEGIN:VEVENT
DTSTART;TZID=UTC:20250609T160000
DTEND;TZID=UTC:20250609T170000
DTSTAMP:20260424T083535
CREATED:20250608T231258Z
LAST-MODIFIED:20250608T231258Z
UID:11457-1749484800-1749488400@themobmom.com
SUMMARY:Chess Club at Saraland
DESCRIPTION:Event Details\n\nJoin us every Monday for an engaging and enjoyable chess session\, where you can learn the fundamentals of the game or enhance your existing skills. Whether you’re a beginner or looking to refine your strategies\, our friendly group welcomes players of all levels.
URL:https://themobmom.com/event/chess-club-at-saraland-2/
LOCATION:Saraland Public Library
END:VEVENT
BEGIN:VEVENT
DTSTART;TZID=UTC:20250609T170000
DTEND;TZID=UTC:20250609T180000
DTSTAMP:20260424T083535
CREATED:20250609T063513Z
LAST-MODIFIED:20250609T063513Z
UID:11603-1749488400-1749492000@themobmom.com
SUMMARY:Teen Crafternoon
DESCRIPTION:Ages 13-18: \n6/2: Kumihimo-Traditional Japanese Braiding \n6/9: Flower Bouquet Watercolor Painting \n6/16: Darn that Hole! Mending Techniques \n6/23: Fancy Camp Lamps \n6/30: Woven Bookmarks
URL:https://themobmom.com/event/teen-crafternoon/
LOCATION:Fairhope Public Library
END:VEVENT
BEGIN:VEVENT
DTSTART;TZID=UTC:20250609T180000
DTEND;TZID=UTC:20250609T190000
DTSTAMP:20260424T083535
CREATED:20250522T151818Z
LAST-MODIFIED:20250522T151818Z
UID:11274-1749492000-1749495600@themobmom.com
SUMMARY:Cirque Du Todd - Comedic Juggling Show
DESCRIPTION:The Loxley Public Library will be hosting Cirque du Todd June 9th at the Loxley Civic Center! Cirque du Todd combines juggling\, circus skills\, a little magic\, and just the right mix of comedy and reading encouragement for all ages.
URL:https://themobmom.com/event/cirque-du-todd-comedic-juggling-show/
LOCATION:Loxley Civic Center\, Loxley\, Alabama
ATTACH;FMTTYPE=image/jpeg:https://themobmom.com/wp-content/uploads/2025/05/498542546_1150671937098207_4305305974649966910_n.jpg
END:VEVENT
END:VCALENDAR