BEGIN:VCALENDAR
VERSION:2.0
PRODID:-//MOB Moms - ECPv6.15.1.1//NONSGML v1.0//EN
CALSCALE:GREGORIAN
METHOD:PUBLISH
X-ORIGINAL-URL:https://themobmom.com
X-WR-CALDESC:Events for MOB Moms
REFRESH-INTERVAL;VALUE=DURATION:PT1H
X-Robots-Tag:noindex
X-PUBLISHED-TTL:PT1H
BEGIN:VTIMEZONE
TZID:UTC
BEGIN:STANDARD
TZOFFSETFROM:+0000
TZOFFSETTO:+0000
TZNAME:UTC
DTSTART:20260101T000000
END:STANDARD
END:VTIMEZONE
BEGIN:VEVENT
DTSTART;TZID=UTC:20261008T100000
DTEND;TZID=UTC:20261011T170000
DTSTAMP:20260423T220830
CREATED:20260407T150936Z
LAST-MODIFIED:20260407T150936Z
UID:15020-1791453600-1791738000@themobmom.com
SUMMARY:53rd Annual National Shrimp Festival
DESCRIPTION: It’s food\, it’s art\, it’s music\, it’s Alabama’s ORIGINAL beach party.\nAll are invited to the 53rd edition of the Annual National Shrimp Festival. What started as a celebration of the local seafood industry has grown into a four day vacation destination.\nSince 1971 our festival has been FREE to attend\, overlooking the beautiful beaches of Gulf Shores\, Alabama. Come out and join over 100\,000 of your closest friends to see over 300+ food & art vendors along with two stages showcasing local & national entertainment acts.
URL:https://themobmom.com/event/53rd-annual-national-shrimp-festival/
LOCATION:101 Gulf Shores Pkwy
END:VEVENT
END:VCALENDAR