BEGIN:VCALENDAR
VERSION:2.0
PRODID:-//MOB Moms - ECPv6.15.1.1//NONSGML v1.0//EN
CALSCALE:GREGORIAN
METHOD:PUBLISH
X-ORIGINAL-URL:https://themobmom.com
X-WR-CALDESC:Events for MOB Moms
REFRESH-INTERVAL;VALUE=DURATION:PT1H
X-Robots-Tag:noindex
X-PUBLISHED-TTL:PT1H
BEGIN:VTIMEZONE
TZID:UTC
BEGIN:STANDARD
TZOFFSETFROM:+0000
TZOFFSETTO:+0000
TZNAME:UTC
DTSTART:20260101T000000
END:STANDARD
END:VTIMEZONE
BEGIN:VEVENT
DTSTART;VALUE=DATE:20260417
DTEND;VALUE=DATE:20260622
DTSTAMP:20260423T174952
CREATED:20260417T041244Z
LAST-MODIFIED:20260417T041244Z
UID:15209-1776384000-1782086399@themobmom.com
SUMMARY:2026 Gulf Coast Chinese Lantern Festival
DESCRIPTION:Join us for the 2026 Gulf Coast Chinese Lantern Festival\, an all new show filled with all new lanterns. As night falls\, the Gardens glow with more than 40 towering\, handcrafted light sculptures that transform the landscape into a vivid world of color and scale. Inspired by traditional Chinese lantern artistry and brought to life with modern design\, dazzling plants\, animals\, and imaginative creatures illuminate every path. Interactive displays invite you to move\, play\, and step into the experience. Explore the Gardens after dark and discover an unforgettable night of light\, energy\, and wonder for all ages\, with stunning photo moments at every turn.
URL:https://themobmom.com/event/2026-gulf-coast-chinese-lantern-festival/
LOCATION:Bellingrath Gardens & Home
ATTACH;FMTTYPE=image/jpeg:https://themobmom.com/wp-content/uploads/2026/04/chinese-lantern-festival.jpg
END:VEVENT
BEGIN:VEVENT
DTSTART;TZID=UTC:20260508T080000
DTEND;TZID=UTC:20260509T160000
DTSTAMP:20260423T174952
CREATED:20260421T153222Z
LAST-MODIFIED:20260421T153222Z
UID:15245-1778227200-1778342400@themobmom.com
SUMMARY:Mother's Day Plant Market
DESCRIPTION:Browse a vibrant selection of plants and garden-themed merchandise\, all conveniently located in the parking lot in front of the Café and Gift Shop. Members of our horticulture team will be on hand to answer your gardening questions and help you choose the perfect additions to your landscape. Don’t miss this opportunity to stock up on beautiful plants and gardening essentials for the season. This is a free event.
URL:https://themobmom.com/event/mothers-day-plant-market/
LOCATION:Bellingrath Gardens & Home
ATTACH;FMTTYPE=image/jpeg:https://themobmom.com/wp-content/uploads/2026/04/618493381_1214385914169564_7992120354430646894_n.jpg
END:VEVENT
BEGIN:VEVENT
DTSTART;TZID=UTC:20260508T160000
DTEND;TZID=UTC:20260509T190000
DTSTAMP:20260423T174952
CREATED:20260407T145649Z
LAST-MODIFIED:20260407T145649Z
UID:15011-1778256000-1778353200@themobmom.com
SUMMARY:Blueberry Festival - Pensacola
DESCRIPTION:Blueberry Festival at Gary’s Brewery & Biergarten! Join us for a berry sweet weekend of fun at Gary’s Brewery & Biergarten! May 8–9 Friday: 4 PM – 9 PM Saturday: 12 PM – 7 PM 208 Newman Ave\, Pensacola\, FL 32507Bring the whole family out to celebrate all things blueberry! We’ll have: Local vendors Delicious food trucks Lazy Day Farm’s petting zoo Craft beer from Gary’s Brewery Blueberry-themed treats & goodiesCome shop\, sip\, snack\, and enjoy a laid-back spring weekend filled with community fun. Whether you’re here for the brews\, the blueberries\, or the baby goats — there’s something for everyone!Tag your friends and make plans to join us!
URL:https://themobmom.com/event/blueberry-festival-pensacola/
LOCATION:Gary’s Brewery and Biergarten\, Pensacola\, Florida
ATTACH;FMTTYPE=image/jpeg:https://themobmom.com/wp-content/uploads/2026/04/637908765_1289081076618709_6955991885205052601_n.jpg
END:VEVENT
BEGIN:VEVENT
DTSTART;TZID=UTC:20260509T090000
DTEND;TZID=UTC:20260509T100000
DTSTAMP:20260423T174952
CREATED:20260421T143510Z
LAST-MODIFIED:20260421T143510Z
UID:15216-1778317200-1778320800@themobmom.com
SUMMARY:Welcome Back Monarchs Day
DESCRIPTION:We’re celebrating the monarch butterfly’s migration with our first-ever Welcome Back Monarchs event!\n Join us for a morning of education about monarch migration and native pollinator gardens. Take home a native milkweed plant or seed for your garden at home! Together\, we can protect monarch butterflies and essential native plant species.\n The event will begin in the Foley Civic Center with a presentation from Carmen Flammini\, Alabama Cooperative Extension System Agent. Following the presentation\, we’ll migrate to the Riviera Utilities Native Pollinator Garden next door for guided tours and a milkweed plant giveaway. Foley Public Library will host crafts and activities for kids at the Civic Center and outside at the Garden.\n Water and snacks will be provided. See you there!\n May 9\, 2026 9 – 10 a.m. Foley Civic Center 407 E Laurel Ave\, Foley\, AL Riviera Utilities Native Pollinator Garden 413 E Laurel Ave\, Foley\, AL
URL:https://themobmom.com/event/welcome-back-monarchs-day/
LOCATION:Foley Civic Center
ATTACH;FMTTYPE=image/jpeg:https://themobmom.com/wp-content/uploads/2026/04/658323696_932895412720015_7688414261472089913_n.jpg
END:VEVENT
BEGIN:VEVENT
DTSTART;TZID=UTC:20260510T100000
DTEND;TZID=UTC:20260510T150000
DTSTAMP:20260423T174952
CREATED:20260421T153422Z
LAST-MODIFIED:20260421T153422Z
UID:15248-1778407200-1778425200@themobmom.com
SUMMARY:Mother's Day Brunch
DESCRIPTION:Celebrate Mom with a relaxed and delicious Mother’s Day Brunch at the Magnolia Café featuring a comforting spread of Southern favorites. Enjoy creamy cheese grits\, fluffy scrambled eggs\, breakfast potatoes\, Conecuh sausage\, bacon\, and Southern biscuits served with rich sausage gravy. Sweet offerings include blueberry muffins\, assorted danishes\, fresh fruit\, and yogurt. To complement the meal\, guests will enjoy coffee\, tea\, lemonade\, and orange juice.\nGather your family\, slow down\, and treat the mothers in your life to a brunch filled with good food\, warm moments\, and heartfelt appreciation. As a special touch\, every mother will receive a beautiful rose in honor of her day.
URL:https://themobmom.com/event/mothers-day-brunch/
LOCATION:Bellingrath Gardens & Home
END:VEVENT
BEGIN:VEVENT
DTSTART;TZID=UTC:20260516T090000
DTEND;TZID=UTC:20260516T120000
DTSTAMP:20260423T174952
CREATED:20260421T155207Z
LAST-MODIFIED:20260421T155207Z
UID:15261-1778922000-1778932800@themobmom.com
SUMMARY:STREAM Saturday: Creepy Crawlies
DESCRIPTION:Creepy Crawly STREAM Saturday! \nGet ready to squirm\, explore\, and discover at our Creepy Crawly STREAM Saturday at the Mobile Museum of Art! Kids will dive into the fascinating world of insects\, spiders\, and other tiny critters through hands-on science experiments\, creative art projects\, and exciting outdoor exploration.\nFrom buzzing bugs to marvelous mini-beasts\, this fun-filled adventure blends Science\, Technology\, Reading\, Engineering\, Art\, and Math into an unforgettable learning experience. Perfect for curious kids who love to explore nature and get a little messy!\nCome ready to learn\, create\, and crawl into some fun—you won’t want to miss it! 
URL:https://themobmom.com/event/stream-saturday-creepy-crawlies/
LOCATION:Mobile Museum of Art
ATTACH;FMTTYPE=image/jpeg:https://themobmom.com/wp-content/uploads/2026/04/611975628_1347137354111396_3553046821987680377_n.jpg
END:VEVENT
BEGIN:VEVENT
DTSTART;TZID=UTC:20260516T090000
DTEND;TZID=UTC:20260516T150000
DTSTAMP:20260423T174952
CREATED:20260421T162358Z
LAST-MODIFIED:20260421T162358Z
UID:15281-1778922000-1778943600@themobmom.com
SUMMARY:Buzzin' About Nature
DESCRIPTION:Mobile Beekeepers Association is hosting this fun filled family event! \nFood Trucks\, Vendors\, Crafts\, Kids’ Zone\, Honey Tasting\, Animal Exhibits\, and more! \nCome learn about the hive and honey extraction.
URL:https://themobmom.com/event/buzzin-about-nature/
LOCATION:Environmental Studies Center
ATTACH;FMTTYPE=image/jpeg:https://themobmom.com/wp-content/uploads/2026/04/641611474_898222409630904_635678042794148738_n.jpg
END:VEVENT
BEGIN:VEVENT
DTSTART;TZID=UTC:20260521T080000
DTEND;TZID=UTC:20260523T170000
DTSTAMP:20260423T174952
CREATED:20260421T145453Z
LAST-MODIFIED:20260421T145453Z
UID:15229-1779350400-1779555600@themobmom.com
SUMMARY:Gulf Coast Caribbean Carnival 2026
DESCRIPTION:The Caribbean Culture on the Gulf Coast will be celebrated. With the backing of the backing of Mobile Parks and Recreation\, Level Up Entertainment\, and the Gulf Coast Caribbean Carnival Association\, the streets of Downtown Mobile will be the scene of beautiful caribbean costumes\, music\, and good clean family fun.\nA parade through downtown will end at Mardi Gras Park\, where Mobile County Parks and Recreation Department has approved the Gulf Coast Caribbean Carnival Festival. Its a festival celebrating the culture near and dear to our hearts. So come one come all May 21-23\, 2026 There will be vendors\, food\, music\, performances and good family fun!!!
URL:https://themobmom.com/event/gulf-coast-caribbean-carnival-2026/
LOCATION:Mardi Gras Park
ATTACH;FMTTYPE=image/jpeg:https://themobmom.com/wp-content/uploads/2026/04/518325450_744490702074286_999704857787626908_n.jpg
END:VEVENT
BEGIN:VEVENT
DTSTART;TZID=UTC:20260522T180000
DTEND;TZID=UTC:20260522T193000
DTSTAMP:20260423T174952
CREATED:20260421T155612Z
LAST-MODIFIED:20260421T155612Z
UID:15264-1779472800-1779478200@themobmom.com
SUMMARY:Spring Movies in the Park: Disney Pixar's Turning Red
DESCRIPTION:Movie Night Under the Stars – Final Feature! \nGather your friends and family for a magical evening beneath the stars as we wrap up our movie series with Disney Pixar’s  Turning Red ! This fun and heartfelt coming-of-age story introduces Mei Lee\, a confident\, delightfully dorky 13-year-old caught between being her mother’s dutiful daughter  and the unpredictable chaos of adolescence . It’s a relatable\, feel-good film that’s perfect for tweens and older children!\n What to Bring:• Blankets & lawn chairs• Snacks & drinks• Friends & family\n Event Details: Activities begin at 6:00 p.m. Movie starts promptly at dusk\n Don’t miss this exciting and heartwarming finale—an unforgettable night of family fun under the stars!
URL:https://themobmom.com/event/spring-movies-in-the-park-disney-pixars-turning-red/
LOCATION:Medal of Honor Park
ATTACH;FMTTYPE=image/jpeg:https://themobmom.com/wp-content/uploads/2026/04/611744918_1347948397363625_7778988479677540460_n.jpg
END:VEVENT
BEGIN:VEVENT
DTSTART;TZID=UTC:20260528T150000
DTEND;TZID=UTC:20260528T190000
DTSTAMP:20260423T174952
CREATED:20260421T150646Z
LAST-MODIFIED:20260421T150646Z
UID:15236-1779980400-1779994800@themobmom.com
SUMMARY:MMoA Food Truck Festival
DESCRIPTION:Get ready for an exciting\, family-friendly evening at MMoA’s Food Truck Fest! More than 15 food trucks will be serving up a wide variety of delicious dishes\, from savory Southern comfort food and spicy wings to Mexican favorites\, fresh corn on the cob\, refreshing snow cones\, and more. There’s something for everyone\, no matter what you’re craving!\nBut MMoA’s Food Truck Fest isn’t just about food — it’s a celebration of community\, culture\, fun\, and most importantly\, the kick-off to summer! Explore the Museum’s exhibitions as we stay open late\, giving you the chance to mix art and culture with your food adventure. We invite and encourage you to bring your picnic blankets and lawn chairs to enjoy your food in the beautiful park surroundings.\nThis event is FREE and open to the public\, so bring your family\, friends\, and neighbors to enjoy the festivities!
URL:https://themobmom.com/event/mmoa-food-truck-festival/
LOCATION:Mobile Museum of Art
ATTACH;FMTTYPE=image/jpeg:https://themobmom.com/wp-content/uploads/2026/04/656139259_1538700304925596_1039698753255284803_n.jpg
END:VEVENT
BEGIN:VEVENT
DTSTART;TZID=UTC:20260630T153000
DTEND;TZID=UTC:20260630T170000
DTSTAMP:20260423T174952
CREATED:20260407T140821Z
LAST-MODIFIED:20260407T140821Z
UID:14989-1782833400-1782838800@themobmom.com
SUMMARY:The Princess Concert
DESCRIPTION:The Princess Concert at Saenger Theatre in Mobile\, AL We invite you to an enchanting concert singing the magical music from Frozen\, Wicked\, Moana & More\nTICKETS ON SALE NOW princessconcert.com/Mobile\nPerforming the magical music of:FROZEN•WICKED•KPOP DEMON HUNTERSMOANA•TAYLOR SWIFT•WIZARD OF OZBEAUTY & THE BEAST•ALADDINANASTASIA•POCAHONTAS + MANY MORE\nPrincess Concert: a magical adventure awaits. Join us for the most enchanting concert of the year. Stunning songs from animated classics with uplifting & inspiring messages to unlock the Princess Era \nBreathtaking singing\, West End performers\, awe-inspiring aerial\, incredible dancers and so much more. From Frozen\, Wicked\, Moana\, KPOP Demon Hunters and more! A concert for all the family with memories to cherish forever \nThis show is suitable for all ages 
URL:https://themobmom.com/event/the-princess-concert/
LOCATION:Saenger Theatre
END:VEVENT
BEGIN:VEVENT
DTSTART;TZID=UTC:20260725T130000
DTEND;TZID=UTC:20260725T170000
DTSTAMP:20260423T174952
CREATED:20260421T151024Z
LAST-MODIFIED:20260421T151024Z
UID:15239-1784984400-1784998800@themobmom.com
SUMMARY:Monster Jam (Pensacola)
DESCRIPTION:Nothing compares to the one and only Monster Jam. With awesome trucks\, amazing stunts\, big air and action-packed excitement\, it’s the definition of fun for everyone! Watch as 12\,000lb trucks stand on two wheels and fly through the air. See the worlds most popular trucks like Grave Digger\, El Toro Loco\, Sparkle Smash and more only at Monster Jam. You can’t get this kind of wow just anywhere. Once you experience Monster Jam live\, you’ll become a fan for life!\nSale Dates and Times:\nPublic Onsale : Tue\, 17 Feb 2026 at 10:00 AM\nFeld Perferred Presale : Tue\, 10 Feb 2026 at 10:00 AM\nTM/Venue Presale : Thu\, 12 Feb 2026 at 10:00 AM
URL:https://themobmom.com/event/monster-jam-pensacola/
LOCATION:Pensacola Bay Center\, 201 E Gregory St\, Pensacola
ATTACH;FMTTYPE=image/jpeg:https://themobmom.com/wp-content/uploads/2026/04/631632986_1364658882369332_5238356270123558764_n.jpg
END:VEVENT
BEGIN:VEVENT
DTSTART;TZID=UTC:20261008T100000
DTEND;TZID=UTC:20261011T170000
DTSTAMP:20260423T174952
CREATED:20260407T150936Z
LAST-MODIFIED:20260407T150936Z
UID:15020-1791453600-1791738000@themobmom.com
SUMMARY:53rd Annual National Shrimp Festival
DESCRIPTION: It’s food\, it’s art\, it’s music\, it’s Alabama’s ORIGINAL beach party.\nAll are invited to the 53rd edition of the Annual National Shrimp Festival. What started as a celebration of the local seafood industry has grown into a four day vacation destination.\nSince 1971 our festival has been FREE to attend\, overlooking the beautiful beaches of Gulf Shores\, Alabama. Come out and join over 100\,000 of your closest friends to see over 300+ food & art vendors along with two stages showcasing local & national entertainment acts.
URL:https://themobmom.com/event/53rd-annual-national-shrimp-festival/
LOCATION:101 Gulf Shores Pkwy
END:VEVENT
END:VCALENDAR