BEGIN:VCALENDAR
VERSION:2.0
PRODID:-//MOB Moms - ECPv6.15.1.1//NONSGML v1.0//EN
CALSCALE:GREGORIAN
METHOD:PUBLISH
X-WR-CALNAME:MOB Moms
X-ORIGINAL-URL:https://themobmom.com
X-WR-CALDESC:Events for MOB Moms
REFRESH-INTERVAL;VALUE=DURATION:PT1H
X-Robots-Tag:noindex
X-PUBLISHED-TTL:PT1H
BEGIN:VTIMEZONE
TZID:UTC
BEGIN:STANDARD
TZOFFSETFROM:+0000
TZOFFSETTO:+0000
TZNAME:UTC
DTSTART:20250101T000000
END:STANDARD
END:VTIMEZONE
BEGIN:VEVENT
DTSTART;TZID=UTC:20250424T180000
DTEND;TZID=UTC:20250424T210000
DTSTAMP:20260424T114548
CREATED:20250403T232626Z
LAST-MODIFIED:20250403T232626Z
UID:10461-1745517600-1745528400@themobmom.com
SUMMARY:Run Club @ Braided River | Every Thursday @ 6 p.m.
DESCRIPTION:Braided River’s Run Club meets every Thursday at 6 p.m.!\nThis public run club is open to all levels and ability\, including walkers\, marathoners\, kids and even dogs. You can choose from a 5K or 1-mile route\, both of which take off from the taproom at 6 p.m. Join Downtown Runners United By Beer afterward in the taproom for raffles\, camaraderie and ice-cold craft beer!
URL:https://themobmom.com/event/run-club-braided-river-every-thursday-6-p-m/
LOCATION:Braided River Brewing Co\, Mobile\, Alabama
ATTACH;FMTTYPE=image/jpeg:https://themobmom.com/wp-content/uploads/2025/04/Run-Club-Thursdays.jpg
END:VEVENT
BEGIN:VEVENT
DTSTART;TZID=UTC:20250424T150000
DTEND;TZID=UTC:20250424T180000
DTSTAMP:20260424T114548
CREATED:20250415T154738Z
LAST-MODIFIED:20250415T154738Z
UID:10638-1745506800-1745517600@themobmom.com
SUMMARY:Fairhope Farmers Market
DESCRIPTION:Join us for Fairhope’s Spring/Summer Farmers Market\, starting April 3rd! The market will be held every Thursday afternoon from 3 PM to 6 PM behind the Fairhope Public Library.\nDiscover a wide array of fresh produce\, homemade breads\, honey\, locally-raised beef\, and much more! There will also be face painting for the kids each week\, along with exciting giveaways!\nSupport your local farmers and small businesses by shopping at the Fairhope Farmers Market this spring!\nParking: Farmers market visitors can park on Magnolia Avenue in designated spots marked “farmers market parking only.” Additional parking is available in Arts Alley! You can also call the Downtown shuttle for a ride directly to the farmers market!
URL:https://themobmom.com/event/fairhope-farmers-market-5/
LOCATION:Fairhope Public Library
END:VEVENT
BEGIN:VEVENT
DTSTART;VALUE=DATE:20250423
DTEND;VALUE=DATE:20250424
DTSTAMP:20260424T114548
CREATED:20250415T160030Z
LAST-MODIFIED:20250415T160030Z
UID:10647-1745366400-1745452799@themobmom.com
SUMMARY:Open Studio
DESCRIPTION:Pop in and create something fun from our Maker Menu! See you there! No Reservations required. 10 a.m. to 2 p.m.
URL:https://themobmom.com/event/open-studio-3/
LOCATION:Coastal Makers Art Studio
ATTACH;FMTTYPE=image/jpeg:https://themobmom.com/wp-content/uploads/2025/04/Open-Studio.jpg
END:VEVENT
END:VCALENDAR