BEGIN:VCALENDAR
VERSION:2.0
PRODID:-//MOB Moms - ECPv6.15.1.1//NONSGML v1.0//EN
CALSCALE:GREGORIAN
METHOD:PUBLISH
X-WR-CALNAME:MOB Moms
X-ORIGINAL-URL:https://themobmom.com
X-WR-CALDESC:Events for MOB Moms
REFRESH-INTERVAL;VALUE=DURATION:PT1H
X-Robots-Tag:noindex
X-PUBLISHED-TTL:PT1H
BEGIN:VTIMEZONE
TZID:UTC
BEGIN:STANDARD
TZOFFSETFROM:+0000
TZOFFSETTO:+0000
TZNAME:UTC
DTSTART:20250101T000000
END:STANDARD
END:VTIMEZONE
BEGIN:VEVENT
DTSTART;TZID=UTC:20250610T100000
DTEND;TZID=UTC:20250610T113000
DTSTAMP:20260425T023624
CREATED:20250608T234620Z
LAST-MODIFIED:20250608T234620Z
UID:11483-1749549600-1749555000@themobmom.com
SUMMARY:Make-A-Craft Day
DESCRIPTION:Show your creative side! \nJoin us at the Touminville Branch for a fun craft activity to make and take home. Ideal for age 6-11.
URL:https://themobmom.com/event/make-a-craft-day-3/
LOCATION:Mobile Public Library- Toulminville Branch
CATEGORIES:Mobile,Storytime
ATTACH;FMTTYPE=image/png:https://themobmom.com/wp-content/uploads/2025/06/TVLE-Make-A-Craft-LM-Claendar.png
END:VEVENT
END:VCALENDAR