BEGIN:VCALENDAR
VERSION:2.0
PRODID:-//MOB Moms - ECPv6.15.1.1//NONSGML v1.0//EN
CALSCALE:GREGORIAN
METHOD:PUBLISH
X-WR-CALNAME:MOB Moms
X-ORIGINAL-URL:https://themobmom.com
X-WR-CALDESC:Events for MOB Moms
REFRESH-INTERVAL;VALUE=DURATION:PT1H
X-Robots-Tag:noindex
X-PUBLISHED-TTL:PT1H
BEGIN:VTIMEZONE
TZID:UTC
BEGIN:STANDARD
TZOFFSETFROM:+0000
TZOFFSETTO:+0000
TZNAME:UTC
DTSTART:20250101T000000
END:STANDARD
END:VTIMEZONE
BEGIN:VEVENT
DTSTART;TZID=UTC:20250611T150000
DTEND;TZID=UTC:20250611T160000
DTSTAMP:20260425T144957
CREATED:20250609T051509Z
LAST-MODIFIED:20250609T051509Z
UID:11516-1749654000-1749657600@themobmom.com
SUMMARY:Special Performer: The Didgeridoo Down Under Show
DESCRIPTION:Join us on a colorful adventure!  \nThe Didgeridoo Down Under Show is an energetic fusion of Australian music\, culture\, comedy\, character-building\, storytelling\, and audience participation. Join us on a colorful adventure to the Land Down Under\, where we’ll hear otherworldly sounds from the didgeridoo\, explore the Great Barrier Reef and the Outback\, learn about fascinating Aboriginal artwork\, marvel at amazing creatures like kangaroos and koalas\, and much more. The DDU Show is interactive\, educational\, motivational\, and super fun for all ages! \nGroups are required to register. To register or for more information\, call 251-494-4454 or email Jade Gregory at jgregory@mplonline.org.
URL:https://themobmom.com/event/special-performer-the-didgeridoo-down-under-show-8/
LOCATION:Parkway Branch
CATEGORIES:Mobile
ATTACH;FMTTYPE=image/png:https://themobmom.com/wp-content/uploads/2025/06/The-Didgeridoo-Down-Under-Show-1_4.png
END:VEVENT
BEGIN:VEVENT
DTSTART;TZID=UTC:20250611T153000
DTEND;TZID=UTC:20250611T170000
DTSTAMP:20260425T144957
CREATED:20250609T013527Z
LAST-MODIFIED:20250609T013527Z
UID:11513-1749655800-1749661200@themobmom.com
SUMMARY:Teen Anime Hangout
DESCRIPTION:Event Details\n\n\n\nAnime newcomers are welcome! \nJoin us upstairs at the Main Library Teen Hangout for anime\, snacks\, and video games. \n\n\n\nDisclaimer(s)\n\n\n\nFood Allergies\n\nWe cannot guarantee that food served at this program has not come into contact with tree nuts\, soy or other allergens.
URL:https://themobmom.com/event/teen-anime-hangout/
LOCATION:Ben May Main Library
CATEGORIES:Mobile
ATTACH;FMTTYPE=image/png:https://themobmom.com/wp-content/uploads/2025/06/Teen-Anime-Hangout-LM-Calendar.png
END:VEVENT
BEGIN:VEVENT
DTSTART;TZID=UTC:20250611T160000
DTEND;TZID=UTC:20250611T170000
DTSTAMP:20260425T144957
CREATED:20250609T052913Z
LAST-MODIFIED:20250609T052913Z
UID:11532-1749657600-1749661200@themobmom.com
SUMMARY:Crafty Corner (Recycled T-shirt Bracelets)
DESCRIPTION:Event Details\n\n\n\nCome join us at the Semmes Regional Library to have fun making crafts together! \n\n\n\n\nFashion meets upcycling in this fun project!  We’ll use recycled t-shirts to create colorful bracelets you can show off anytime\, anywhere. This activity is ideal for ages 6-18.
URL:https://themobmom.com/event/crafty-corner-recycled-t-shirt-bracelets/
LOCATION:Semmes Regional Library
CATEGORIES:Mobile
ATTACH;FMTTYPE=image/png:https://themobmom.com/wp-content/uploads/2025/06/Crafty-Corner-at-Semmes-LM-Calendar-4_0.png
END:VEVENT
BEGIN:VEVENT
DTSTART;TZID=UTC:20250611T180000
DTEND;TZID=UTC:20250611T190000
DTSTAMP:20260425T144957
CREATED:20250609T053332Z
LAST-MODIFIED:20250609T053332Z
UID:11538-1749664800-1749668400@themobmom.com
SUMMARY:Anyone Can Draw
DESCRIPTION:Age Group:\nAll Ages\n\n\n\nRegistration is required for this event.\nRegistration will close on June 11\, 2025 @ 6:00pm.\nThis event is for registrants age 5 to Over 18.\n\n\n\nProgram Description\nEvent Details\n\nDo you think you can draw?  \nJoin us at West Regional Library in the AT&T Technology Center for simple exercises to draw expressive cartoon characters that anyone who can reasonably hold a pen can draw. We explore the psychology behind thinking that we can’t draw and prove that anyone can. \nAll ages are welcome!
URL:https://themobmom.com/event/anyone-can-draw/
LOCATION:West Regional Library
CATEGORIES:Mobile
END:VEVENT
BEGIN:VEVENT
DTSTART;TZID=UTC:20250612T100000
DTEND;TZID=UTC:20250612T110000
DTSTAMP:20260425T144957
CREATED:20250609T053658Z
LAST-MODIFIED:20250609T053658Z
UID:11540-1749722400-1749726000@themobmom.com
SUMMARY:Reader’s Theater at Main
DESCRIPTION:Event Details\n\nJoin us in the Youth Programming Room for a theatrical experience!  \nWe will become characters from classic stories by practicing our roles and learning to adjust our voices and mannerisms to match the characters’! There will be minimal props\, as this is a chance to act silly. There is no need to memorize. We will read right from the script! \nThis program is best suited for ages 8 – 12.  \nFor more information\, call 251-340-1325 or email Main’s Youth Desk at mainyou@mplonline.org.
URL:https://themobmom.com/event/readers-theater-at-main/
LOCATION:Ben May Main Library
CATEGORIES:Mobile
ATTACH;FMTTYPE=image/png:https://themobmom.com/wp-content/uploads/2025/06/Readers-Theater.png
END:VEVENT
BEGIN:VEVENT
DTSTART;TZID=UTC:20250612T130000
DTEND;TZID=UTC:20250612T140000
DTSTAMP:20260425T144957
CREATED:20250609T053900Z
LAST-MODIFIED:20250609T053900Z
UID:11543-1749733200-1749736800@themobmom.com
SUMMARY:Thrilling Thursdays at Main
DESCRIPTION:Let’s enjoy Thursdays with fun and exciting activities! \nEnjoy tons of fun each week in the Youth Programming Room! Each week will be a different silly experiment\, creative craft\, or wacky activity. We can’t tell you exactly what you will experience – but it will be thrilling! \nFor more information\, please call 251-340-1507 or email mainyou@mplonline.org.
URL:https://themobmom.com/event/thrilling-thursdays-at-main/
LOCATION:Ben May Main Library
CATEGORIES:Mobile
ATTACH;FMTTYPE=image/png:https://themobmom.com/wp-content/uploads/2025/06/Thrilling-Thursdays_0.png
END:VEVENT
END:VCALENDAR