BEGIN:VCALENDAR
VERSION:2.0
PRODID:-//MOB Moms - ECPv6.15.1.1//NONSGML v1.0//EN
CALSCALE:GREGORIAN
METHOD:PUBLISH
X-WR-CALNAME:MOB Moms
X-ORIGINAL-URL:https://themobmom.com
X-WR-CALDESC:Events for MOB Moms
REFRESH-INTERVAL;VALUE=DURATION:PT1H
X-Robots-Tag:noindex
X-PUBLISHED-TTL:PT1H
BEGIN:VTIMEZONE
TZID:UTC
BEGIN:STANDARD
TZOFFSETFROM:+0000
TZOFFSETTO:+0000
TZNAME:UTC
DTSTART:20260101T000000
END:STANDARD
END:VTIMEZONE
BEGIN:VEVENT
DTSTART;TZID=UTC:20260307T190000
DTEND;TZID=UTC:20260307T203000
DTSTAMP:20260423T210348
CREATED:20260305T163255Z
LAST-MODIFIED:20260305T163255Z
UID:14468-1772910000-1772915400@themobmom.com
SUMMARY:Brandon Styles Variety Show! Comedy\, Magic\, & 60 Impressions
DESCRIPTION:Don’t miss your chance to see Gulf Coast’s #1 Variety Show Every Tuesday & Saturday at 7:00 pm!\nThe Brandon Styles VARIETY SHOW is a performance by one man that you won’t want to miss! Get ready to be amazed by Brandon’s live performance\, where he impersonates nearly 60 different famous people\, from Frank Sinatra to Justin Bieber.\nThis show is unique because Brandon has added just the right amount of comedy\, magic\, dancing\, ventriloquism\, and audience participation to keep you entertained in a fast-paced 70-minute show!\nActivity Highlights→ Professional impressions from a Vegas-trained talent→ World competition award-winning magician→ Great for families or a date-night→ Indoor seating→ Audience participation→ *Exclusive discounts to participating restaurants at OWA (these offers will be included in your ticket confirmation.)\nClick on BrandonStyles.com to check availability or call 251-237-3330\nTicket Pricing:Child General Admission (Ages 4-12) $25.00Adult General Admission (Ages 13+) $35.00VIP Ticket (All Ages) $49.00*Age 3 and under are free if sitting on a parents lap.
URL:https://themobmom.com/event/brandon-styles-variety-show-comedy-magic-60-impressions/
LOCATION:Downtown OWA
CATEGORIES:Baldwin County
ATTACH;FMTTYPE=image/jpeg:https://themobmom.com/wp-content/uploads/2026/03/578256502_1369257075201934_8321256714638302182_n.jpg
END:VEVENT
BEGIN:VEVENT
DTSTART;TZID=UTC:20260307T100000
DTEND;TZID=UTC:20260308T180000
DTSTAMP:20260423T210348
CREATED:20260305T152310Z
LAST-MODIFIED:20260305T152310Z
UID:14428-1772877600-1772992800@themobmom.com
SUMMARY:Ballyhoo Festival of Fine Arts & Culture
DESCRIPTION:The Ballyhoo Fine Art & Culture Festival will kick it off at the beautiful Gulf State Park in Gulf Shores\, Alabama on Saturday\, March 7 and Sunday\, March 8.\nThe Ballyhoo Festival is a juried fine art festival displaying 110 artists nationwide. The festival features the Poarch Creek Indians\, the culture of Early Americana Appalachian music in the form of a fiddle/banjo competition\, and so much more!\nLive music\, food trucks\, and the beauty of the Alabama Gulf Coast make the Ballyhoo Festival a must-attend during festival season.\nThere will be shuttles available at the Gulf State Pier\, Gulf State Pavilion and Gulf Shores High School to take patrons to the festival. Handicapped parking will be inside the festival site.\nThis event is free to the public! We’ll see you March 7 & 8 at Lake Shelby located at 20110 AL-135\, Gulf Shores\, AL. Stay tuned for more!
URL:https://themobmom.com/event/ballyhoo-festival-of-fine-arts-culture/
LOCATION:Gulf State Park-Alabama
CATEGORIES:Baldwin County
ATTACH;FMTTYPE=image/jpeg:https://themobmom.com/wp-content/uploads/2026/03/625558409_1505412884920392_4325368380002012187_n.jpg
END:VEVENT
BEGIN:VEVENT
DTSTART;TZID=UTC:20260307T090000
DTEND;TZID=UTC:20260307T110000
DTSTAMP:20260423T210348
CREATED:20260305T153139Z
LAST-MODIFIED:20260305T153139Z
UID:14431-1772874000-1772881200@themobmom.com
SUMMARY:City of Daphne Youth Pickleball Clinic
DESCRIPTION:The Youth Pickleball Clinic is great for kids who are brand new or have some experience and want to improve their skills. Players will learn and build on the fundamentals of pickleball in a fun\, supportive environment.\nThe clinic will include:– Introduction to pickleball and rules– Paddle and ball contact drills– Serving and dinking– Match play\nPaddles and balls will be provided. Please wear non-marking tennis/court shoes. Snacks and water will be provided.\nAges: 7–16Clinic Date: Saturday\, March 7thClinic Time: 9:00 AM – 11:00 AM\nRegistration Fees:– Resident: $20 per participant– Non-Resident: $30 per participant
URL:https://themobmom.com/event/city-of-daphne-youth-pickleball-clinic/
LOCATION:Daphne Tennis & Pickleball Complex\, 2000 Main St\, Daphne\, AL\, 36526\, United States
CATEGORIES:Baldwin County
ATTACH;FMTTYPE=image/jpeg:https://themobmom.com/wp-content/uploads/2026/03/625223494_1257782389891364_9088121636072456871_n.jpg
END:VEVENT
BEGIN:VEVENT
DTSTART;TZID=UTC:20260306T100000
DTEND;TZID=UTC:20260306T170000
DTSTAMP:20260423T210348
CREATED:20260305T154354Z
LAST-MODIFIED:20260305T154354Z
UID:14439-1772791200-1772816400@themobmom.com
SUMMARY:Ruth's Book Nook Grand Opening
DESCRIPTION:Ruth’s book nook is officially opening its doors SO soon\nJoin us Friday\, March 6th anytime from 10:00am-5:00pm Created in loving memory of my great-grandmother Ruth\, this little shop is more than just books—it’s a cozy space for readers\, dreamers\, and our community to gather\, browse\, and feel at home\nCome shop new & used books\, gifts\, bookish accessories and SO much more Experience the magic we’ve been building!\nFollow along for a sneak peak countdown until opening day\nSupport small. Shop local. Read more\n34 Hand Ave\, Bay Minette AL 36507 Friday\, March 6th 10:00am- 5:00pm
URL:https://themobmom.com/event/ruths-book-nook-grand-opening/
LOCATION:Ruth’s Book Nook\, Bay Minette
CATEGORIES:Baldwin County
ATTACH;FMTTYPE=image/jpeg:https://themobmom.com/wp-content/uploads/2026/03/641202056_122113081941200893_6739656097373342835_n.jpg
END:VEVENT
BEGIN:VEVENT
DTSTART;TZID=UTC:20260227T190000
DTEND;TZID=UTC:20260228T220000
DTSTAMP:20260423T210348
CREATED:20260227T152029Z
LAST-MODIFIED:20260227T152029Z
UID:14417-1772218800-1772316000@themobmom.com
SUMMARY:Drive-In Laser Show
DESCRIPTION:The Most Spectacular Laser Show You’ll EVER See! Think drive-in movie … but cranked up to a whole new level. Bigger. Louder. Brighter. WAY better!\n Roll up in your coolest ride\, pop the tailgate\, and get ready for a weekend of mind-blowing light and music!\n⸻ What’s in the Show?Our Laser Light Shows are synced with your favorite music across the decades: 70’s\, 80’s\, 90’s\, Today’s Hits & Classic Rock All choreographed with cutting-edge effects\, high-powered lasers\, and giant-screen projections!\n⸻ Showtimes:• The Laser Show – 7:00 PM Fri & SatCurrent + Classic Pop & Country | Family-Friendly Fun• Classic Rock Laser Show – 9:00 PM Fri & SatRock anthems from the 70’s\, 80’s\, & 90’s\n⸻ Tailgate + Lasers = Unforgettable Fun• Tailgate by your car with your own snacks & drinks • Or grab a spot in the Infield Seating Area right up front — bring chairs & blankets for concert-quality sound!• Food vendors and more onsite\n⸻ TicketsOne low price: $35 per carload (pack it full — same price!)Perfect for a date night\, hangout with friends\, or family outing. One Weekend Only! \nDon’t miss this rare chance to catch our traveling Drive-In Laser Light Show in Baldwin County!
URL:https://themobmom.com/event/drive-in-laser-show/
CATEGORIES:Baldwin County
END:VEVENT
END:VCALENDAR