BEGIN:VCALENDAR
VERSION:2.0
PRODID:-//MOB Moms - ECPv6.15.1.1//NONSGML v1.0//EN
CALSCALE:GREGORIAN
METHOD:PUBLISH
X-ORIGINAL-URL:https://themobmom.com
X-WR-CALDESC:Events for MOB Moms
REFRESH-INTERVAL;VALUE=DURATION:PT1H
X-Robots-Tag:noindex
X-PUBLISHED-TTL:PT1H
BEGIN:VTIMEZONE
TZID:UTC
BEGIN:STANDARD
TZOFFSETFROM:+0000
TZOFFSETTO:+0000
TZNAME:UTC
DTSTART:20260101T000000
END:STANDARD
END:VTIMEZONE
BEGIN:VEVENT
DTSTART;TZID=UTC:20260227T190000
DTEND;TZID=UTC:20260228T220000
DTSTAMP:20260423T222752
CREATED:20260227T152029Z
LAST-MODIFIED:20260227T152029Z
UID:14417-1772218800-1772316000@themobmom.com
SUMMARY:Drive-In Laser Show
DESCRIPTION:The Most Spectacular Laser Show You’ll EVER See! Think drive-in movie … but cranked up to a whole new level. Bigger. Louder. Brighter. WAY better!\n Roll up in your coolest ride\, pop the tailgate\, and get ready for a weekend of mind-blowing light and music!\n⸻ What’s in the Show?Our Laser Light Shows are synced with your favorite music across the decades: 70’s\, 80’s\, 90’s\, Today’s Hits & Classic Rock All choreographed with cutting-edge effects\, high-powered lasers\, and giant-screen projections!\n⸻ Showtimes:• The Laser Show – 7:00 PM Fri & SatCurrent + Classic Pop & Country | Family-Friendly Fun• Classic Rock Laser Show – 9:00 PM Fri & SatRock anthems from the 70’s\, 80’s\, & 90’s\n⸻ Tailgate + Lasers = Unforgettable Fun• Tailgate by your car with your own snacks & drinks • Or grab a spot in the Infield Seating Area right up front — bring chairs & blankets for concert-quality sound!• Food vendors and more onsite\n⸻ TicketsOne low price: $35 per carload (pack it full — same price!)Perfect for a date night\, hangout with friends\, or family outing. One Weekend Only! \nDon’t miss this rare chance to catch our traveling Drive-In Laser Light Show in Baldwin County!
URL:https://themobmom.com/event/drive-in-laser-show/
CATEGORIES:Baldwin County
END:VEVENT
END:VCALENDAR