BEGIN:VCALENDAR
VERSION:2.0
PRODID:-//MOB Moms - ECPv6.15.1.1//NONSGML v1.0//EN
CALSCALE:GREGORIAN
METHOD:PUBLISH
X-ORIGINAL-URL:https://themobmom.com
X-WR-CALDESC:Events for MOB Moms
REFRESH-INTERVAL;VALUE=DURATION:PT1H
X-Robots-Tag:noindex
X-PUBLISHED-TTL:PT1H
BEGIN:VTIMEZONE
TZID:UTC
BEGIN:STANDARD
TZOFFSETFROM:+0000
TZOFFSETTO:+0000
TZNAME:UTC
DTSTART:20260101T000000
END:STANDARD
END:VTIMEZONE
BEGIN:VTIMEZONE
TZID:America/Chicago
BEGIN:DAYLIGHT
TZOFFSETFROM:-0600
TZOFFSETTO:-0500
TZNAME:CDT
DTSTART:20260308T080000
END:DAYLIGHT
BEGIN:STANDARD
TZOFFSETFROM:-0500
TZOFFSETTO:-0600
TZNAME:CST
DTSTART:20261101T070000
END:STANDARD
END:VTIMEZONE
BEGIN:VEVENT
DTSTART;VALUE=DATE:20260417
DTEND;VALUE=DATE:20260622
DTSTAMP:20260423T144912
CREATED:20260417T041244Z
LAST-MODIFIED:20260417T041244Z
UID:15209-1776384000-1782086399@themobmom.com
SUMMARY:2026 Gulf Coast Chinese Lantern Festival
DESCRIPTION:Join us for the 2026 Gulf Coast Chinese Lantern Festival\, an all new show filled with all new lanterns. As night falls\, the Gardens glow with more than 40 towering\, handcrafted light sculptures that transform the landscape into a vivid world of color and scale. Inspired by traditional Chinese lantern artistry and brought to life with modern design\, dazzling plants\, animals\, and imaginative creatures illuminate every path. Interactive displays invite you to move\, play\, and step into the experience. Explore the Gardens after dark and discover an unforgettable night of light\, energy\, and wonder for all ages\, with stunning photo moments at every turn.
URL:https://themobmom.com/event/2026-gulf-coast-chinese-lantern-festival/
LOCATION:Bellingrath Gardens & Home
ATTACH;FMTTYPE=image/jpeg:https://themobmom.com/wp-content/uploads/2026/04/chinese-lantern-festival.jpg
END:VEVENT
BEGIN:VEVENT
DTSTART;TZID=UTC:20260502T090000
DTEND;TZID=UTC:20260503T180000
DTSTAMP:20260423T144912
CREATED:20260421T151541Z
LAST-MODIFIED:20260421T151541Z
UID:15242-1777712400-1777831200@themobmom.com
SUMMARY:Friends of the Mobile Public Library Book Sale 2026
DESCRIPTION:Friends of the Library Book Sale – May 2–3\, 2026!\nWe’re excited to announce that the Friends of the Library Book Sale benefiting the Mobile Public Library is set for May 2–3\, 2026 at The Grounds (1035 Cody Road N.\, Mobile\, AL)!\nEach spring\, the Friends of the Mobile Public Library host one of the area’s most anticipated used book sales\, featuring thousands and thousands of books and audio-visual materials. All items are generously donated by community members or come from materials withdrawn from the library’s collection.
URL:https://themobmom.com/event/friends-of-the-mobile-public-library-book-sale-2026/
LOCATION:The Grounds
ATTACH;FMTTYPE=image/jpeg:https://themobmom.com/wp-content/uploads/2026/04/646376653_1335985468569715_9125755837825151166_n.jpg
END:VEVENT
BEGIN:VEVENT
DTSTART;TZID=America/Chicago:20260503T140000
DTEND;TZID=America/Chicago:20260503T170000
DTSTAMP:20260423T144912
CREATED:20260416T233858Z
LAST-MODIFIED:20260416T233858Z
UID:15201-1777816800-1777827600@themobmom.com
SUMMARY:Hope Blooms for Eleanor
DESCRIPTION:Our community is coming together to support our sweet Eleanor \nEleanor has Osteogenesis Imperfecta\, a rare condition that causes extremely fragile bones and frequent fractures. Recently her fractures and pain have increased\, and we are working to get her the specialized medical care she needs.\nBecause of the love and support from so many people in our community\, we are hosting Hope Blooms for Eleanor\, a family-friendly benefit event at beautiful Bella Sera Gardens.\nJoin us for an afternoon of fun while helping support Eleanor’s medical journey.\n Live Music Food Petting Zoo Bounce Houses Photo Booth Silent Auction & Raffles\nWe will have incredible raffle prizes including a CZ 712 12 gauge shotgun\, an Ashley Furniture recliner\, tattoo sessions\, professional photo sessions\, restaurant gift cards\, gift baskets\, and many more amazing items donated by local businesses.\nThis will be a family friendly community event\, so bring the kids\, invite your friends\, and come enjoy a beautiful day together while supporting Eleanor.\nI truly cannot put into words how grateful we are for the love our community has shown our family. Baldwin County has already shown up in such an incredible way for Eleanor\, and we will never forget that kindness.\nIf you are a local business interested in donating a raffle item\, gift card\, or sponsorship\, please message me. We would love to recognize and support the businesses that are helping make this event possible.\nPlease mark yourself “Going” and share this event to help us spread the word for Eleanor 
URL:https://themobmom.com/event/hope-blooms-for-eleanor/
LOCATION:Bella Sera Gardens\, 25049 County Rd 49\, Loxley\, Al
ATTACH;FMTTYPE=image/jpeg:https://themobmom.com/wp-content/uploads/2026/04/Hope-Blooms-for-Eleanor.jpg
END:VEVENT
END:VCALENDAR