BEGIN:VCALENDAR
VERSION:2.0
PRODID:-//MOB Moms - ECPv6.15.1.1//NONSGML v1.0//EN
CALSCALE:GREGORIAN
METHOD:PUBLISH
X-WR-CALNAME:MOB Moms
X-ORIGINAL-URL:https://themobmom.com
X-WR-CALDESC:Events for MOB Moms
REFRESH-INTERVAL;VALUE=DURATION:PT1H
X-Robots-Tag:noindex
X-PUBLISHED-TTL:PT1H
BEGIN:VTIMEZONE
TZID:UTC
BEGIN:STANDARD
TZOFFSETFROM:+0000
TZOFFSETTO:+0000
TZNAME:UTC
DTSTART:20260101T000000
END:STANDARD
END:VTIMEZONE
BEGIN:VEVENT
DTSTART;VALUE=DATE:20260417
DTEND;VALUE=DATE:20260622
DTSTAMP:20260423T144816
CREATED:20260417T041244Z
LAST-MODIFIED:20260417T041244Z
UID:15209-1776384000-1782086399@themobmom.com
SUMMARY:2026 Gulf Coast Chinese Lantern Festival
DESCRIPTION:Join us for the 2026 Gulf Coast Chinese Lantern Festival\, an all new show filled with all new lanterns. As night falls\, the Gardens glow with more than 40 towering\, handcrafted light sculptures that transform the landscape into a vivid world of color and scale. Inspired by traditional Chinese lantern artistry and brought to life with modern design\, dazzling plants\, animals\, and imaginative creatures illuminate every path. Interactive displays invite you to move\, play\, and step into the experience. Explore the Gardens after dark and discover an unforgettable night of light\, energy\, and wonder for all ages\, with stunning photo moments at every turn.
URL:https://themobmom.com/event/2026-gulf-coast-chinese-lantern-festival/
LOCATION:Bellingrath Gardens & Home
ATTACH;FMTTYPE=image/jpeg:https://themobmom.com/wp-content/uploads/2026/04/chinese-lantern-festival.jpg
END:VEVENT
BEGIN:VEVENT
DTSTART;TZID=UTC:20260430T160000
DTEND;TZID=UTC:20260502T213000
DTSTAMP:20260423T144816
CREATED:20260407T155015Z
LAST-MODIFIED:20260407T155015Z
UID:15028-1777564800-1777757400@themobmom.com
SUMMARY:22nd Annual Gulf Coast Hot Air Balloon Festival
DESCRIPTION:The Gulf Coast Hot Air Balloon Festival\, presented by Columbia Southern University\, is in its 22nd year of flying! Join us at OWA Parks & Resort for this exciting fun-filled event!\nEXPERIENCE THE MAGIC!Thursday & Friday: 4:00 pm – 9:30 pmSaturday: 10:00 – 9:30 pm\nFoley is your destination for family fun and adventure at the Gulf Coast Hot Air Balloon Festival! Explore daily entertainment\, vibrant arts and crafts displays\, and much more at the festival site.\nAdmission is FREE—don’t miss this magical experience!
URL:https://themobmom.com/event/22nd-annual-gulf-coast-hot-air-balloon-festival/
LOCATION:OWA Parks & Resort
ATTACH;FMTTYPE=image/jpeg:https://themobmom.com/wp-content/uploads/2026/04/640603666_1323520666478113_2238276023297504525_n.jpg
END:VEVENT
BEGIN:VEVENT
DTSTART;TZID=UTC:20260501T180000
DTEND;TZID=UTC:20260501T200000
DTSTAMP:20260423T144816
CREATED:20260421T145902Z
LAST-MODIFIED:20260421T145928Z
UID:15232-1777658400-1777665600@themobmom.com
SUMMARY:First Friday Art Walk with Sugarcane Jane
DESCRIPTION:Downtown Fairhope Friday\, May 1 6:00 PM to 8:00 PM\nJoin award-winning Gulf Coast Americana duo Sugarcane Jane for an evening of rootsy harmonies\, foot-stomping grooves\, and front-porch soul in the heart of Downtown Fairhope during the First Friday Art Walk.\nAnthony Crawford and Savana Lee will be bringing their signature duo show that feels like a full band complete with kick drum\, guitars\, bass\, harmonica\, looping\, and those unmistakable Sugarcane Jane harmonies you know and love.\nStroll the art walk\, grab a bite from your favorite local spot\, and settle in for a golden-hour soundtrack under the oaks.\nBring your lawn chairs and come stay awhile.\nFamily friendly and free to attend. See y’all downtown!
URL:https://themobmom.com/event/first-friday-artwalk-with-sugarcane-jane/
LOCATION:Downtown Fairhope
ATTACH;FMTTYPE=image/jpeg:https://themobmom.com/wp-content/uploads/2026/04/635180133_1410800427177855_663144144178774570_n.jpg
END:VEVENT
END:VCALENDAR