BEGIN:VCALENDAR
VERSION:2.0
PRODID:-//MOB Moms - ECPv6.15.1.1//NONSGML v1.0//EN
CALSCALE:GREGORIAN
METHOD:PUBLISH
X-ORIGINAL-URL:https://themobmom.com
X-WR-CALDESC:Events for MOB Moms
REFRESH-INTERVAL;VALUE=DURATION:PT1H
X-Robots-Tag:noindex
X-PUBLISHED-TTL:PT1H
BEGIN:VTIMEZONE
TZID:UTC
BEGIN:STANDARD
TZOFFSETFROM:+0000
TZOFFSETTO:+0000
TZNAME:UTC
DTSTART:20260101T000000
END:STANDARD
END:VTIMEZONE
BEGIN:VTIMEZONE
TZID:America/Chicago
BEGIN:DAYLIGHT
TZOFFSETFROM:-0600
TZOFFSETTO:-0500
TZNAME:CDT
DTSTART:20260308T080000
END:DAYLIGHT
BEGIN:STANDARD
TZOFFSETFROM:-0500
TZOFFSETTO:-0600
TZNAME:CST
DTSTART:20261101T070000
END:STANDARD
END:VTIMEZONE
BEGIN:VEVENT
DTSTART;TZID=UTC:20260413T090000
DTEND;TZID=UTC:20260417T150000
DTSTAMP:20260423T145805
CREATED:20260416T212907Z
LAST-MODIFIED:20260416T212907Z
UID:15173-1776070800-1776438000@themobmom.com
SUMMARY:Spring Break Bash!
DESCRIPTION: Spring Break Bash is HERE! \n April 13th – April 17th 9AM – 3PM Daily\nLooking for the ultimate Spring Break plan? We’ve got you covered!\n ONLY $22 Per Person includes: Unlimited Rotational Bowling 2 Admissions to Laser Tag $10 Bonus Arcade Card\nEach Day – Be one of the first 20 through the door to purchase the wristband special and get mini-golf or go-karts half off!\nThat’s hours of nonstop fun — all for one unbeatable price! \nBring the kids\, invite their friends\, and make Spring Break easy\, affordable\, and packed with excitement.\n Join us April 13–17 and let’s make it a break to remember
URL:https://themobmom.com/event/spring-break-bash/
LOCATION:Eastern Shore Lanes
ATTACH;FMTTYPE=image/jpeg:https://themobmom.com/wp-content/uploads/2026/04/spring-break-bash.jpg
END:VEVENT
BEGIN:VEVENT
DTSTART;VALUE=DATE:20260416
DTEND;VALUE=DATE:20260420
DTSTAMP:20260423T145805
CREATED:20260416T192846Z
LAST-MODIFIED:20260416T192846Z
UID:15162-1776297600-1776643199@themobmom.com
SUMMARY:Shrek the Musical
DESCRIPTION:We’re turning the stage into a swamp. \nJoin the Alabama School of the Arts for Shrek the Musical\, a high-energy\, laugh-out-loud production filled with heart\, humor\, and your favorite fairytale characters with a few unexpected twists.\nBring the whole family and experience the magic\, talent\, and storytelling of our ASOTA students live on stage.\n Performance Dates:• April 16 at 7:00 PM• April 17 at 7:00 PM• April 18 at 7:00 PM• April 19 at 3:00 PM\n Tickets available now at https://www.tix.com/ticket-sales/umobile/6745\nDon’t miss this ogre-the-top adventure. 
URL:https://themobmom.com/event/shrek-the-musical/
LOCATION:5860 College Parkway
END:VEVENT
BEGIN:VEVENT
DTSTART;VALUE=DATE:20260417
DTEND;VALUE=DATE:20260419
DTSTAMP:20260423T145805
CREATED:20260416T190854Z
LAST-MODIFIED:20260416T190854Z
UID:15153-1776384000-1776556799@themobmom.com
SUMMARY:2026 Mobile Improv Comedy Carnival - Presented by Oyster City Mobile
DESCRIPTION:Oyster City Mobile presents the 2026 Mobile Improv Comedy Carnival\, the first and only improv-only comedy festival to occur ever in the state of Alabama!\nThe 2026 MICC will feature 17 performances over two nights on one stage in the Mobile Carnival Museum\, including our headlining act: HERE the Improvised Musical\, from Columbus\, Ohio!\nCome see hilarious\, unscripted comedy from improv troupes from Mobile\, Birmingham\, Boston\, Florida\, Minnesota\, Seattle\, and more! Performances are Friday and Saturday night\, with improv workshops during the day on Saturday\, including free intro-to-improv workshops for the community!\nWeekend passes are available for purchase now! See the lineup\, get tickets\, and sign up for workshops on our website: improvcarnival.org
URL:https://themobmom.com/event/2026-mobile-improv-comedy-carnival-presented-by-oyster-city-mobile/
LOCATION:Mobile Carnival Museum
ATTACH;FMTTYPE=image/jpeg:https://themobmom.com/wp-content/uploads/2026/04/mobile-improv-comedy-carnival.jpg
END:VEVENT
BEGIN:VEVENT
DTSTART;VALUE=DATE:20260417
DTEND;VALUE=DATE:20260420
DTSTAMP:20260423T145805
CREATED:20260416T043258Z
LAST-MODIFIED:20260416T043258Z
UID:15119-1776384000-1776643199@themobmom.com
SUMMARY:Guys and Dolls at Joe Jefferson Playhouse
DESCRIPTION:JJP is proud to present Guys and Dolls! Running April 3rd through the 19th! Come roll the dice with us all month long! Try your luck with the return of our raffle basket as well as some other fun surprises up our sleeves!\nTickets available at:www.joejeffersonplayers.com\nPerformances Friday/Saturday @ 7:30p\, Sunday @ 2:00p\nGroup rates available for parties of 10 or more!!!\nAbout the Show :“Bustling with charm\, wit\, and toe-tapping tunes\, GUYS AND DOLLS is the golden-age Broadway musical that never goes out of style! Set in the glittering world of 1950s New York City\, this classic romantic comedy follows gambler Nathan Detroit\, high-roller Sky Masterson\, and the women who steal their hearts in a hilarious game of love and luck. Featuring Frank Loesser’s unforgettable score including “Luck Be a Lady\,” “A Bushel and a Peck\,” and “Sit Down\, You’re Rockin’ the Boat\,” this Tony Award-winning favorite is a high-stakes delight for audiences of all ages. A sure bet for the whole family!”
URL:https://themobmom.com/event/guys-and-dolls-at-joe-jefferson-playhouse/
LOCATION:Joe Jefferson Playhouse\, 11 S Carlen\, Mobile\, Alabama
ATTACH;FMTTYPE=image/jpeg:https://themobmom.com/wp-content/uploads/2026/04/Guys-Dolls.jpg
END:VEVENT
BEGIN:VEVENT
DTSTART;VALUE=DATE:20260417
DTEND;VALUE=DATE:20260622
DTSTAMP:20260423T145805
CREATED:20260417T041244Z
LAST-MODIFIED:20260417T041244Z
UID:15209-1776384000-1782086399@themobmom.com
SUMMARY:2026 Gulf Coast Chinese Lantern Festival
DESCRIPTION:Join us for the 2026 Gulf Coast Chinese Lantern Festival\, an all new show filled with all new lanterns. As night falls\, the Gardens glow with more than 40 towering\, handcrafted light sculptures that transform the landscape into a vivid world of color and scale. Inspired by traditional Chinese lantern artistry and brought to life with modern design\, dazzling plants\, animals\, and imaginative creatures illuminate every path. Interactive displays invite you to move\, play\, and step into the experience. Explore the Gardens after dark and discover an unforgettable night of light\, energy\, and wonder for all ages\, with stunning photo moments at every turn.
URL:https://themobmom.com/event/2026-gulf-coast-chinese-lantern-festival/
LOCATION:Bellingrath Gardens & Home
ATTACH;FMTTYPE=image/jpeg:https://themobmom.com/wp-content/uploads/2026/04/chinese-lantern-festival.jpg
END:VEVENT
BEGIN:VEVENT
DTSTART;TZID=UTC:20260417T093000
DTEND;TZID=UTC:20260417T113000
DTSTAMP:20260423T145805
CREATED:20260416T232308Z
LAST-MODIFIED:20260416T232308Z
UID:15193-1776418200-1776425400@themobmom.com
SUMMARY:Spring into Fun! Friday Open Play! with BLOOM Play Studio
DESCRIPTION:Join us this spring for exciting new weekly themed Open Play sessions at BLOOM! Each week we create a unique and fun play experience for you and your child to explore. Studio activities include spring themed sensory and messy play\, crafts\, slime\, kinetic sand\, sensory dough\, STEM projects\, purposeful play opportunities\, and exploration both inside the studio and on our newly renovated Play Patio! Leap into the fun at BLOOM as we welcome all things winter!
URL:https://themobmom.com/event/spring-into-fun-friday-open-play-with-bloom-play-studio/
LOCATION:Bloom Play Studio
ATTACH;FMTTYPE=image/webp:https://themobmom.com/wp-content/uploads/2026/01/Bloom-Play-Studio.webp
END:VEVENT
BEGIN:VEVENT
DTSTART;TZID=UTC:20260417T100000
DTEND;TZID=UTC:20260417T104500
DTSTAMP:20260423T145805
CREATED:20260416T192115Z
LAST-MODIFIED:20260416T192115Z
UID:15159-1776420000-1776422700@themobmom.com
SUMMARY:Music Class + Indoor Play
DESCRIPTION:Every Friday at 10am we will provide a 45 minute music class and one hour of play time for you and your child.\n$20 per child•$10 for any additional child\nYou can sign up today at Educational Classes – Winnie’s Play Cafe
URL:https://themobmom.com/event/music-class-indoor-play-2/
LOCATION:Winnie’s Play Cafe – Mobile\, 6366 Cottage Hill Road\, Mobile
ATTACH;FMTTYPE=image/jpeg:https://themobmom.com/wp-content/uploads/2026/04/music-class.jpg
END:VEVENT
BEGIN:VEVENT
DTSTART;TZID=America/Chicago:20260417T110000
DTEND;TZID=America/Chicago:20260417T190000
DTSTAMP:20260423T145805
CREATED:20260416T053924Z
LAST-MODIFIED:20260416T053924Z
UID:15139-1776423600-1776452400@themobmom.com
SUMMARY:Food Truck Friday in Semmes
DESCRIPTION:Food Truck Friday is every Friday in April at Semmes Honor Park! Bring your friends!\nFollow the event to find out who’s coming and when!
URL:https://themobmom.com/event/food-truck-friday-in-semmes/
LOCATION:City of Semmes Honor Park
ATTACH;FMTTYPE=image/jpeg:https://themobmom.com/wp-content/uploads/2026/04/Food-truck-friday-April.jpg
END:VEVENT
BEGIN:VEVENT
DTSTART;TZID=America/Chicago:20260417T120000
DTEND;TZID=America/Chicago:20260417T131500
DTSTAMP:20260423T145805
CREATED:20260416T060416Z
LAST-MODIFIED:20260416T060416Z
UID:15141-1776427200-1776431700@themobmom.com
SUMMARY:The Mama Village Monthly Meet Up
DESCRIPTION:he Mama Village is a FREE group for moms of kiddos aged 0-2! Hosted by perinatal therapist Morgan Bradwell\, LICSW\, PMH-C of Village Therapy Collective & Dr. Tiffany Jones\, DC of Liberation Chiropractic\, attendees can expect casual conversations about the ups & downs of motherhood with other mamas who are kind\, encouraging\, nonjudgmental\, & supportive. Babies are welcome to join\, or you can have a self-care hour to yourself — whatever you need
URL:https://themobmom.com/event/the-mama-village-monthly-meet-up-3/
LOCATION:Redbar Espresso & Market LLC
ATTACH;FMTTYPE=image/jpeg:https://themobmom.com/wp-content/uploads/2026/01/mama-village.jpg
END:VEVENT
BEGIN:VEVENT
DTSTART;TZID=America/Chicago:20260417T184500
DTEND;TZID=America/Chicago:20260417T200000
DTSTAMP:20260423T145805
CREATED:20260416T052531Z
LAST-MODIFIED:20260416T052531Z
UID:15131-1776451500-1776456000@themobmom.com
SUMMARY:DadCo Kicks off the Mobile Improv Comedy Carnival
DESCRIPTION:It’s official: Dad Company will be the first improv show of the first improv festival in Alabama history!\nIf you’ve liked our shows before\, this is a weekend you don’t want to miss\, and we’d love to have some hometown support as we kick off the state’s first improv festival! Buy a weekend pass and come see Dad Company and SIXTEEN other improv troupes from all over the country\, performing all kinds of improvised comedy\, made up from your suggestions and input!\nDadCo fans will know that our shows are family-friendly\, and our festival show is no different\, but the festival itself is also very family-accessible\, with general audience level shows each night from open to (and including) the night’s headliner\, with less content restrictions after the headliner until closed. It’ll be clearly marked\, so if you’ve got younger improv fans\, you can bring them out without worry!\nTickets are on sale in advance\, and the festival is expecting to sell out\, so grab tickets early!
URL:https://themobmom.com/event/dadco-kicks-off-the-mobile-improv-comedy-carnival/
LOCATION:Mobile Carnival Museum
ATTACH;FMTTYPE=image/jpeg:https://themobmom.com/wp-content/uploads/2026/04/dadco-improv.jpg
END:VEVENT
BEGIN:VEVENT
DTSTART;TZID=America/Chicago:20260417T190000
DTEND;TZID=America/Chicago:20260417T235900
DTSTAMP:20260423T145805
CREATED:20260416T051029Z
LAST-MODIFIED:20260416T051029Z
UID:15125-1776452400-1776470340@themobmom.com
SUMMARY:Spring Break: Late Skate
DESCRIPTION: SPRING BREAK LATE SKATE  Rambo’s Skateland\n Friday\, April 17th\, 2026 7:00 PM – 12:00 AM $20 Admission\n Get ready for an exciting night of skating\, music\, and fun! We’ll be hosting games and activities throughout the night for the kids \n All ages are welcome\, so bring your friends and family and come enjoy an unforgettable Spring Break night with us! \n 531 Saraland Blvd S Saraland\, AL 36571\nCome roll with us and make it a night to remembe
URL:https://themobmom.com/event/spring-break-late-skate/
LOCATION:Rambo’s Skateland\, Saraland
ATTACH;FMTTYPE=image/jpeg:https://themobmom.com/wp-content/uploads/2026/04/late-skate.jpg
END:VEVENT
END:VCALENDAR