BEGIN:VCALENDAR
VERSION:2.0
PRODID:-//MOB Moms - ECPv6.15.1.1//NONSGML v1.0//EN
CALSCALE:GREGORIAN
METHOD:PUBLISH
X-WR-CALNAME:MOB Moms
X-ORIGINAL-URL:https://themobmom.com
X-WR-CALDESC:Events for MOB Moms
REFRESH-INTERVAL;VALUE=DURATION:PT1H
X-Robots-Tag:noindex
X-PUBLISHED-TTL:PT1H
BEGIN:VTIMEZONE
TZID:UTC
BEGIN:STANDARD
TZOFFSETFROM:+0000
TZOFFSETTO:+0000
TZNAME:UTC
DTSTART:20260101T000000
END:STANDARD
END:VTIMEZONE
BEGIN:VEVENT
DTSTART;TZID=UTC:20260413T090000
DTEND;TZID=UTC:20260417T150000
DTSTAMP:20260423T150733
CREATED:20260416T212907Z
LAST-MODIFIED:20260416T212907Z
UID:15173-1776070800-1776438000@themobmom.com
SUMMARY:Spring Break Bash!
DESCRIPTION: Spring Break Bash is HERE! \n April 13th – April 17th 9AM – 3PM Daily\nLooking for the ultimate Spring Break plan? We’ve got you covered!\n ONLY $22 Per Person includes: Unlimited Rotational Bowling 2 Admissions to Laser Tag $10 Bonus Arcade Card\nEach Day – Be one of the first 20 through the door to purchase the wristband special and get mini-golf or go-karts half off!\nThat’s hours of nonstop fun — all for one unbeatable price! \nBring the kids\, invite their friends\, and make Spring Break easy\, affordable\, and packed with excitement.\n Join us April 13–17 and let’s make it a break to remember
URL:https://themobmom.com/event/spring-break-bash/
LOCATION:Eastern Shore Lanes
ATTACH;FMTTYPE=image/jpeg:https://themobmom.com/wp-content/uploads/2026/04/spring-break-bash.jpg
END:VEVENT
BEGIN:VEVENT
DTSTART;VALUE=DATE:20260416
DTEND;VALUE=DATE:20260420
DTSTAMP:20260423T150733
CREATED:20260416T192846Z
LAST-MODIFIED:20260416T192846Z
UID:15162-1776297600-1776643199@themobmom.com
SUMMARY:Shrek the Musical
DESCRIPTION:We’re turning the stage into a swamp. \nJoin the Alabama School of the Arts for Shrek the Musical\, a high-energy\, laugh-out-loud production filled with heart\, humor\, and your favorite fairytale characters with a few unexpected twists.\nBring the whole family and experience the magic\, talent\, and storytelling of our ASOTA students live on stage.\n Performance Dates:• April 16 at 7:00 PM• April 17 at 7:00 PM• April 18 at 7:00 PM• April 19 at 3:00 PM\n Tickets available now at https://www.tix.com/ticket-sales/umobile/6745\nDon’t miss this ogre-the-top adventure. 
URL:https://themobmom.com/event/shrek-the-musical/
LOCATION:5860 College Parkway
END:VEVENT
END:VCALENDAR