BEGIN:VCALENDAR
VERSION:2.0
PRODID:-//MOB Moms - ECPv6.15.1.1//NONSGML v1.0//EN
CALSCALE:GREGORIAN
METHOD:PUBLISH
X-ORIGINAL-URL:https://themobmom.com
X-WR-CALDESC:Events for MOB Moms
REFRESH-INTERVAL;VALUE=DURATION:PT1H
X-Robots-Tag:noindex
X-PUBLISHED-TTL:PT1H
BEGIN:VTIMEZONE
TZID:UTC
BEGIN:STANDARD
TZOFFSETFROM:+0000
TZOFFSETTO:+0000
TZNAME:UTC
DTSTART:20260101T000000
END:STANDARD
END:VTIMEZONE
BEGIN:VTIMEZONE
TZID:America/Chicago
BEGIN:DAYLIGHT
TZOFFSETFROM:-0600
TZOFFSETTO:-0500
TZNAME:CDT
DTSTART:20260308T080000
END:DAYLIGHT
BEGIN:STANDARD
TZOFFSETFROM:-0500
TZOFFSETTO:-0600
TZNAME:CST
DTSTART:20261101T070000
END:STANDARD
END:VTIMEZONE
BEGIN:VEVENT
DTSTART;VALUE=DATE:20260313
DTEND;VALUE=DATE:20260315
DTSTAMP:20260423T164415
CREATED:20260313T045339Z
LAST-MODIFIED:20260313T045339Z
UID:14609-1773360000-1773532799@themobmom.com
SUMMARY:Plantasia! Spring Plant Sale.
DESCRIPTION:Come shop a wide selection of unique plants suited for sustainable gardening on the Gulf Coast! We have 1000s of plants to choose from\, including unusual and hard-to-find varieties. Your plant sale purchases help support the Mobile Botanical Gardens so we can continue to grow a garden for everyone to enjoy.\nThe Spring Plant Sale is free and open to the public on March 13-14 from 9:00 to 4:00 each day.\nBYOW! Bring your own wagon! Wagons will be available but attendees are encouraged to bring their own\, as they can be in short supply during busy periods.\nPlant list coming soon!
URL:https://themobmom.com/event/plantasia-spring-plant-sale/
LOCATION:Mobile Botanical Gardens
ATTACH;FMTTYPE=image/jpeg:https://themobmom.com/wp-content/uploads/2026/03/plantasia.jpg
END:VEVENT
BEGIN:VEVENT
DTSTART;VALUE=DATE:20260313
DTEND;VALUE=DATE:20260315
DTSTAMP:20260423T164415
CREATED:20260313T045618Z
LAST-MODIFIED:20260313T045618Z
UID:14612-1773360000-1773532799@themobmom.com
SUMMARY:26th Annual PCA Rodeo
DESCRIPTION:Saddle up for an unforgettable night of heart-pounding rodeo action\, family fun\, and community spirit! Join us for a charitable rodeo event packed with thrilling bull riding\, bronc busting\, barrel racing\, and more—all while supporting a great cause. With entertainment for all ages\, delicious food\, and an electric atmosphere\, this is a full-family event you won’t want to miss. Come cheer\, laugh\, and make memories while giving back to our community!
URL:https://themobmom.com/event/26th-annual-pca-rodeo/
LOCATION:19477 FAIRGROUND RD ROBERTSDALE\, AL 36567
ATTACH;FMTTYPE=image/jpeg:https://themobmom.com/wp-content/uploads/2026/03/Rodeo.jpg
END:VEVENT
BEGIN:VEVENT
DTSTART;TZID=UTC:20260313T180000
DTEND;TZID=UTC:20260313T210000
DTSTAMP:20260423T164415
CREATED:20260313T043839Z
LAST-MODIFIED:20260314T000850Z
UID:14592-1773424800-1773435600@themobmom.com
SUMMARY:LODA ArtWalk Celebrates World Theater Day
DESCRIPTION:LODA ArtWalk is a free monthly event that showcases our visual\, performing\, and culinary arts community. This March\, we’re celebrating World Theater Day!\nJoin us to explore local vendors\, nonprofits\, live music\, and captivating art from 6 p.m. to 9 p.m. on March 13. There will be fun\, hands-on activities for all ages\, and Kids Zone will feature hands-on craft projects. Plus\, there will be live performances and music.
URL:https://themobmom.com/event/loda-artwalk-celebrates-world-theater-day/
LOCATION:Downtown Mobile
ATTACH;FMTTYPE=image/jpeg:https://themobmom.com/wp-content/uploads/2026/03/loda-artwalk.jpg
END:VEVENT
BEGIN:VEVENT
DTSTART;TZID=America/Chicago:20260313T180000
DTEND;TZID=America/Chicago:20260313T210000
DTSTAMP:20260423T164415
CREATED:20260313T153313Z
LAST-MODIFIED:20260313T153313Z
UID:14642-1773424800-1773435600@themobmom.com
SUMMARY:The Frenchman Market
DESCRIPTION:Bonjour Mobile!The Frenchmen Market is located at Bienville Square\, along Dauphin and Conception Streets.\nTHE FRENCHMEN MARKET celebrates Gulf Coast artists on Artwalk night\, 2nd Friday of each month. Don’t miss out on this artistic adventure in supporting the creative community.\nIn addition\, our new art gallery\, located at 222 Dauphin Street\, along with our new market location\, provides greater visibility for our exceptional vendors\, easier access for shoppers\, and an expanded platform to support the 100+ artists\, makers\, and small businesses that proudly call The Frenchmen home.\nHappening at The Frenchmen for March’s Artwalk\nART EXPERIENCE+ Walker Ladd Art – She Lifted Me Up (Women’s History)FACE PAINTER+ Cheyenne Steiner Fun And Face Painting\nARTIST OF THE MONTH+ Britney Taylor – Britney Taylor Art+ Shawn Smith – Glass Works by ShawnBOOK SIGNING AUTHOR+ Besty ChandlerGALLERY MUSICIAN+ Daniel OwensHOUSE SPIRITUALIST+ Barbie La Bruja\nOur new GALLERY EXTENSION+ Rachel Schwemin Rachel Schwemin’s ArtLocated at HomeStart with The Comingore-Parks Team CollectionAddress: 558 St Francis St\nSIDEWALK SESSIONS MUSICIANS+ Curtis Winn across from The Frenchmen+ Jay Stafford & Sam Hover at The Frenchmen Market+ Steven Christopher Johnson at The Frenchmen Market\n\nAre you a vendor or a non-profit organisation interested in joining us? Please click the link below to register:https://form.jotform.com/242396010515146(No food trucks allowed per city of mobile ordinances)\nWe encourage non-profit organisations to participate in this event to engage with the community and share the opportunities available through their organisation!
URL:https://themobmom.com/event/the-frenchman-market/
LOCATION:The Frenchman\, Mobile
ATTACH;FMTTYPE=image/jpeg:https://themobmom.com/wp-content/uploads/2026/03/frenchman-market.jpg
END:VEVENT
END:VCALENDAR