BEGIN:VCALENDAR
VERSION:2.0
PRODID:-//MOB Moms - ECPv6.15.1.1//NONSGML v1.0//EN
CALSCALE:GREGORIAN
METHOD:PUBLISH
X-ORIGINAL-URL:https://themobmom.com
X-WR-CALDESC:Events for MOB Moms
REFRESH-INTERVAL;VALUE=DURATION:PT1H
X-Robots-Tag:noindex
X-PUBLISHED-TTL:PT1H
BEGIN:VTIMEZONE
TZID:UTC
BEGIN:STANDARD
TZOFFSETFROM:+0000
TZOFFSETTO:+0000
TZNAME:UTC
DTSTART:20260101T000000
END:STANDARD
END:VTIMEZONE
BEGIN:VTIMEZONE
TZID:America/Chicago
BEGIN:DAYLIGHT
TZOFFSETFROM:-0600
TZOFFSETTO:-0500
TZNAME:CDT
DTSTART:20260308T080000
END:DAYLIGHT
BEGIN:STANDARD
TZOFFSETFROM:-0500
TZOFFSETTO:-0600
TZNAME:CST
DTSTART:20261101T070000
END:STANDARD
END:VTIMEZONE
BEGIN:VEVENT
DTSTART;TZID=UTC:20260306T090000
DTEND;TZID=UTC:20260306T220000
DTSTAMP:20260423T164256
CREATED:20260305T162251Z
LAST-MODIFIED:20260305T162251Z
UID:14460-1772787600-1772834400@themobmom.com
SUMMARY:Group For New & Pregnant Moms
DESCRIPTION:Come learn about supporting your mental and emotional health through pregnancy\, postpartum and beyond! Register at 251-923-3305 for a chance to win a door prize! Counts as 2 classes/ 12 points!
URL:https://themobmom.com/event/group-for-new-pregnant-moms/
LOCATION:Catholic Social Services\, Robertsdale
ATTACH;FMTTYPE=image/jpeg:https://themobmom.com/wp-content/uploads/2026/03/629681402_1397208942202069_2569807852398793835_n.jpg
END:VEVENT
BEGIN:VEVENT
DTSTART;TZID=America/Chicago:20260306T100000
DTEND;TZID=America/Chicago:20260306T114500
DTSTAMP:20260423T164256
CREATED:20260306T044346Z
LAST-MODIFIED:20260306T044346Z
UID:14474-1772791200-1772797500@themobmom.com
SUMMARY:$7 Open Jump
DESCRIPTION: End Your Week with a Bounce! Looking for an awesome way to kick off the weekend without breaking the bank? We’ve got you covered! Open Jump for CHEAP? YES PLEASE! Bring the whole crew and enjoy our most affordable jump session of the week\, just $7 + tax per child\, and parents jump FREE!Let the kids burn off some energy\, laugh\, and play while you relax or join in on the fun. It’s the perfect way to wrap up your week with smiles\, giggles\, and good vibes all around.\nDon’t miss out\, spots fill up fast\, so grab your friends and jump into the weekend with us! \nPRICE: $7 + tax per kid\nAll ages welcome! Groups of seven or more children must be pre-paid in advance and are non refundable or transferable.Spaces in open jumps are only held for the amount of children pre-paid for. All pre paid spaces are NON REFUNDABLE and NON TRANSFERABLE to another day/time.
URL:https://themobmom.com/event/7-open-jump/
LOCATION:Pump it Up Mobile
ATTACH;FMTTYPE=image/jpeg:https://themobmom.com/wp-content/uploads/2025/06/open-jump.jpg
END:VEVENT
BEGIN:VEVENT
DTSTART;TZID=UTC:20260306T100000
DTEND;TZID=UTC:20260306T170000
DTSTAMP:20260423T164256
CREATED:20260305T154354Z
LAST-MODIFIED:20260305T154354Z
UID:14439-1772791200-1772816400@themobmom.com
SUMMARY:Ruth's Book Nook Grand Opening
DESCRIPTION:Ruth’s book nook is officially opening its doors SO soon\nJoin us Friday\, March 6th anytime from 10:00am-5:00pm Created in loving memory of my great-grandmother Ruth\, this little shop is more than just books—it’s a cozy space for readers\, dreamers\, and our community to gather\, browse\, and feel at home\nCome shop new & used books\, gifts\, bookish accessories and SO much more Experience the magic we’ve been building!\nFollow along for a sneak peak countdown until opening day\nSupport small. Shop local. Read more\n34 Hand Ave\, Bay Minette AL 36507 Friday\, March 6th 10:00am- 5:00pm
URL:https://themobmom.com/event/ruths-book-nook-grand-opening/
LOCATION:Ruth’s Book Nook\, Bay Minette
CATEGORIES:Baldwin County
ATTACH;FMTTYPE=image/jpeg:https://themobmom.com/wp-content/uploads/2026/03/641202056_122113081941200893_6739656097373342835_n.jpg
END:VEVENT
BEGIN:VEVENT
DTSTART;TZID=UTC:20260306T180000
DTEND;TZID=UTC:20260306T210000
DTSTAMP:20260423T164256
CREATED:20260305T154741Z
LAST-MODIFIED:20260305T154741Z
UID:14443-1772820000-1772830800@themobmom.com
SUMMARY:First Friday Art Walk
DESCRIPTION:Eastern Shore Art Center Hosts First Friday Art Walk March 6\, 2026! Event sponsored by Blue Heron Realty. Live music inside by Eric and Karin Marrero.\nFree admission. Donations welcomed. Refreshments served.\nNEW EXHIBIT: Annual members’ Juried ShowThis exhibit showcases various work from the Artist Level members of the Eastern Shore Art Association. Artist Members and above are able to submit 3 original works for jurying done in any media\, including painting\, photography\, pottery and more..
URL:https://themobmom.com/event/first-friday-art-walk-2/
LOCATION:Eastern Shore Art Center
END:VEVENT
END:VCALENDAR