BEGIN:VCALENDAR
VERSION:2.0
PRODID:-//MOB Moms - ECPv6.15.1.1//NONSGML v1.0//EN
CALSCALE:GREGORIAN
METHOD:PUBLISH
X-WR-CALNAME:MOB Moms
X-ORIGINAL-URL:https://themobmom.com
X-WR-CALDESC:Events for MOB Moms
REFRESH-INTERVAL;VALUE=DURATION:PT1H
X-Robots-Tag:noindex
X-PUBLISHED-TTL:PT1H
BEGIN:VTIMEZONE
TZID:America/Chicago
BEGIN:DAYLIGHT
TZOFFSETFROM:-0600
TZOFFSETTO:-0500
TZNAME:CDT
DTSTART:20260308T080000
END:DAYLIGHT
BEGIN:STANDARD
TZOFFSETFROM:-0500
TZOFFSETTO:-0600
TZNAME:CST
DTSTART:20261101T070000
END:STANDARD
END:VTIMEZONE
BEGIN:VEVENT
DTSTART;TZID=America/Chicago:20260225T150000
DTEND;TZID=America/Chicago:20260228T120000
DTSTAMP:20260423T164012
CREATED:20260223T183948Z
LAST-MODIFIED:20260223T183948Z
UID:14324-1772031600-1772280000@themobmom.com
SUMMARY:Eastern Shore Kid's Market
DESCRIPTION:It’s timmmmmeeeeee! This is not a drill! Eastern Shore Kid’s Market SPRING/SUMMER Sale registration is now OPEN! February 25th\, 26th\, 27th & 28th at the Fairhope Civic Center!\nIt’s time to clean out your kids’ closets and earn $$$ on the items they have outgrown! This is the perfect time to free up closet space before the holidays!\nWe accept all things newborn-juniors! Clothing\, shoes\, toys\, homeschool\, strollers\, books\, games\, newborn essentials\, room decor\, sports\, swim\, bedding\, maternity & so more!\nWant to shop the exclusive PRE-SALE? Sign up to VOLUNTEER!!https://easternshorekidsmarket.com/volunteer/\nVolunteer Benefits:1.Earn up to 100% commission2.Be the FIRST to shop the PRE-SALE3.Best selection on all the best brands4.Get paid FIRST5.Choose a shift that fits your schedule6.Meet new mom friends\nPre-Sale Schedule: Wednesday\, February 25th3pm Pre-Sale: 10 Hour Volunteers4pm Pre-Sale: Set-Up\, Sat. Sorters & Pre-Sale Volunteers5pm Pre-Sale: 5 Hour Volunteers6pm Pre-Sale: Consignors\nPublic Shopping Schedule:Thursday\, February 26th\, 8am-8pmFriday\, February 27th\, 8am-6pm\, Many items 25% OFF!Saturday\, February 28th\, 8am-12pm\, Many items 50% OFF!\nFAIRHOPE CIVIC CENTER161 N. Section St\, Fairhope\, AL 36532\nPlease see our website to sign up!https://easternshorekidsmarket.com/consign/
URL:https://themobmom.com/event/eastern-shore-kids-market-2/
LOCATION:Fairhope Civic Center
ATTACH;FMTTYPE=image/jpeg:https://themobmom.com/wp-content/uploads/2026/02/eastern-shore-kids-market.jpg
END:VEVENT
BEGIN:VEVENT
DTSTART;TZID=America/Chicago:20260225T180000
DTEND;TZID=America/Chicago:20260225T200000
DTSTAMP:20260423T164012
CREATED:20260223T191030Z
LAST-MODIFIED:20260223T191030Z
UID:14344-1772042400-1772049600@themobmom.com
SUMMARY:Teen Cooking Class
DESCRIPTION: CALLING ALL YOUNG FOOD LOVERS!  Ages 13–18 \n Ready to turn up the heat in the kitchen? Join us for a fun\, hands-on culinary experience where creativity meets confidence!\n What You’ll Do: Learn essential kitchen & safety skills Master exciting new recipes Explore real cooking techniques Cook alongside other teens who love food\n Guided by experienced instructors\, you’ll gain the skills and confidence to shine in the kitchen—whether you’re just starting out or already dreaming big.\n No experience needed — just bring your appetite for learning!\n Come cook. Create. Connect.Let’s make something amazing together! \nREGISTRATION OPENS JANUARY 26 AT THE FOLLOWING LINK: https://mprd.recdesk.com/Community/Program/Detail…
URL:https://themobmom.com/event/teen-cooking-class/
LOCATION:The Continental Commissary Kitchen\, 260 Azalea Road\, Mobile\, Alabama
ATTACH;FMTTYPE=image/jpeg:https://themobmom.com/wp-content/uploads/2026/02/teen-cooking-class.jpg
END:VEVENT
BEGIN:VEVENT
DTSTART;TZID=America/Chicago:20260225T190000
DTEND;TZID=America/Chicago:20260225T210000
DTSTAMP:20260423T164012
CREATED:20260224T053415Z
LAST-MODIFIED:20260224T053415Z
UID:14365-1772046000-1772053200@themobmom.com
SUMMARY:Survivor Watch Party
DESCRIPTION:Mark your calendar\, rally your tribe\, and make Portside on Main your island for the night—because watching at home is fine\, but watching with a crowd is a whole different game.​ \nCome early to grab treats from Portside merchants\, stay for the drama\, and see who outlasts the rest when the credits roll. \nWith Special Guest Jonathan Young! \n\n\n\nWhere\nPortside on Main\n\n\n\nDate\nWednesday\, February 25\n\n\n\nTime\n7 pm\n\n\n\nCost\n\nFREE
URL:https://themobmom.com/event/survivor-watch-party/
LOCATION:Portside on Main (The Wharf)
END:VEVENT
END:VCALENDAR