BEGIN:VCALENDAR
VERSION:2.0
PRODID:-//MOB Moms - ECPv6.15.1.1//NONSGML v1.0//EN
CALSCALE:GREGORIAN
METHOD:PUBLISH
X-WR-CALNAME:MOB Moms
X-ORIGINAL-URL:https://themobmom.com
X-WR-CALDESC:Events for MOB Moms
REFRESH-INTERVAL;VALUE=DURATION:PT1H
X-Robots-Tag:noindex
X-PUBLISHED-TTL:PT1H
BEGIN:VTIMEZONE
TZID:America/Chicago
BEGIN:DAYLIGHT
TZOFFSETFROM:-0600
TZOFFSETTO:-0500
TZNAME:CDT
DTSTART:20260308T080000
END:DAYLIGHT
BEGIN:STANDARD
TZOFFSETFROM:-0500
TZOFFSETTO:-0600
TZNAME:CST
DTSTART:20261101T070000
END:STANDARD
END:VTIMEZONE
BEGIN:VTIMEZONE
TZID:UTC
BEGIN:STANDARD
TZOFFSETFROM:+0000
TZOFFSETTO:+0000
TZNAME:UTC
DTSTART:20260101T000000
END:STANDARD
END:VTIMEZONE
BEGIN:VEVENT
DTSTART;VALUE=DATE:20260118
DTEND;VALUE=DATE:20260225
DTSTAMP:20260423T180411
CREATED:20251225T064722Z
LAST-MODIFIED:20260119T061256Z
UID:13921-1768694400-1771977599@themobmom.com
SUMMARY:Dog Man The Musical!
DESCRIPTION:Based on the worldwide bestselling hit series by Dav Pilkey\, Dog Man: The Musical is a hilarious and heartwarming production following the chronicles of Dog Man\, who with the head of a dog and the body of a policeman\, loves to fight crime and chew on the furniture. But while trying his best to be a good boy\, can he save the city from Flippy the cyborg fish and his army of Beasty Buildings? Can he catch Petey\, the world’s most evil cat\, who has cloned himself to exact revenge on the doggy do-gooder? And will George and Harold finish their show before lunchtime?? Find out in this epic musical adventure featuring the hilarity and heart of beloved characters from Dav Pilkey\, the creator of Captain Underpants and Cat Kid Comic Club. Featuring an exciting book and lyrics by Kevin Del Aguila\, music by Brad Alexander\, and original direction and choreography by Jen Wineman. Recommended for ages 6+.
URL:https://themobmom.com/event/dog-man-the-musical/
LOCATION:Saenger Theatre
ATTACH;FMTTYPE=image/jpeg:https://themobmom.com/wp-content/uploads/2025/12/DogMan_Square.jpg
END:VEVENT
BEGIN:VEVENT
DTSTART;VALUE=DATE:20260220
DTEND;VALUE=DATE:20260223
DTSTAMP:20260423T180411
CREATED:20260103T003137Z
LAST-MODIFIED:20260123T165548Z
UID:14017-1771545600-1771804799@themobmom.com
SUMMARY:Arts and Crafts Festival
DESCRIPTION:Join us for OWA’s 6th Annual Arts & Crafts Festival on February 20th\, 21st\, & 22nd in Downtown OWA! This family-friendly festival features a variety of local artists\, vendors\, and small businesses showcasing their handmade goods. Take your time browsing the unique booths\, enjoy live music\, and find something special to take home. Bring the whole family and join us in supporting the talent and creativity of the community! \nThe Arts & Crafts Festival is free for guests to enjoy.
URL:https://themobmom.com/event/arts-and-crafts-festival/
LOCATION:Downtown OWA
ATTACH;FMTTYPE=image/jpeg:https://themobmom.com/wp-content/uploads/2026/01/Arts-and-Crafts_Web_Metadata-1536x804-2.jpg
END:VEVENT
BEGIN:VEVENT
DTSTART;VALUE=DATE:20260221
DTEND;VALUE=DATE:20260223
DTSTAMP:20260423T180411
CREATED:20260219T055005Z
LAST-MODIFIED:20260219T055005Z
UID:14308-1771632000-1771804799@themobmom.com
SUMMARY:Kids Free Weekend @ TrainTastic in Gulfport MS
DESCRIPTION: Kids Free Weekend at TrainTastic is BACK! \nMUSEUM HOURS:Sat. 10 AM – 5 PMSun. 1 PM – 5 PM\n• 50\,000 sq ft of train excitement• Over 25 train displays• 5 million LEGO bricks in LEGO Land• S.T.E.A.M. Shop Activities• Face Painting by Hues & Heart by: Cora (Additional cost; portion of proceeds benefits TrainTastic)• Plus\, outdoor train ride fun!\nBuy one (1) adult ticket\, get one (1) child (ages 3-17) admission FREE! Ages 2 & Under admit FREE!
URL:https://themobmom.com/event/kids-free-weekend-traintastic-in-gulfport-ms/
LOCATION:TrainTastic Interactive Model Railroad Museum\, Gulfport\, MS
ATTACH;FMTTYPE=image/webp:https://themobmom.com/wp-content/uploads/2026/02/Traintastic-Kids-Free-weekend.webp
END:VEVENT
BEGIN:VEVENT
DTSTART;VALUE=DATE:20260222
DTEND;VALUE=DATE:20260223
DTSTAMP:20260423T180411
CREATED:20260219T051332Z
LAST-MODIFIED:20260219T051332Z
UID:14297-1771718400-1771804799@themobmom.com
SUMMARY:10th Annual Vietnamese New Year Festival 2026
DESCRIPTION: Join us for the Vietnamese Tet Festival!  FREE ADMISSION \nLet’s come together to celebrate the Vietnamese New Year with joyous traditions\, authentic foods\, games for kids\, fireworks\, face painting\, lion dances\, concerts and live music\, and vibrant cultural performances. Bring your family and friends to experience the warmth and spirit of Tet. \nThe Vietnamese Tet Festival\, also known as Lunar New Year\, is the most important celebration in Vietnamese culture. It marks the arrival of spring and is a time for families to reunite\, reflect on the past year\, and prepare for the new one with renewed energy. People clean their homes\, prepare special foods\, and decorate with symbols of good luck\, such as apricot blossoms. It’s a beautiful blend of traditions and modern celebrations.\n Date: 11:30AM – 10PM February 22\, 2026\,  Location: St. Monica Catholic Church 1131 Dauphin Island Pkwy Mobile\, AL 36605\nDon’t miss this chance to be part of an unforgettable celebration. See you there!\n#TetFestival #LunarNewYear #VietnameseTradition #stmonicacatholicchurch #Mobilealabama\n#TetFestival #LunarNewYear #VietnameseTradition
URL:https://themobmom.com/event/10th-annual-vietnamese-new-year-festival-2026/
LOCATION:St. Monica Catholic Church of Mobile\, 1131 Dauphin Island Parkway
ATTACH;FMTTYPE=image/jpeg:https://themobmom.com/wp-content/uploads/2026/02/vietnamese-new-year.jpg
END:VEVENT
END:VCALENDAR