BEGIN:VCALENDAR
VERSION:2.0
PRODID:-//MOB Moms - ECPv6.15.1.1//NONSGML v1.0//EN
CALSCALE:GREGORIAN
METHOD:PUBLISH
X-ORIGINAL-URL:https://themobmom.com
X-WR-CALDESC:Events for MOB Moms
REFRESH-INTERVAL;VALUE=DURATION:PT1H
X-Robots-Tag:noindex
X-PUBLISHED-TTL:PT1H
BEGIN:VTIMEZONE
TZID:America/Chicago
BEGIN:DAYLIGHT
TZOFFSETFROM:-0600
TZOFFSETTO:-0500
TZNAME:CDT
DTSTART:20260308T080000
END:DAYLIGHT
BEGIN:STANDARD
TZOFFSETFROM:-0500
TZOFFSETTO:-0600
TZNAME:CST
DTSTART:20261101T070000
END:STANDARD
END:VTIMEZONE
BEGIN:VEVENT
DTSTART;VALUE=DATE:20260118
DTEND;VALUE=DATE:20260225
DTSTAMP:20260423T180906
CREATED:20251225T064722Z
LAST-MODIFIED:20260119T061256Z
UID:13921-1768694400-1771977599@themobmom.com
SUMMARY:Dog Man The Musical!
DESCRIPTION:Based on the worldwide bestselling hit series by Dav Pilkey\, Dog Man: The Musical is a hilarious and heartwarming production following the chronicles of Dog Man\, who with the head of a dog and the body of a policeman\, loves to fight crime and chew on the furniture. But while trying his best to be a good boy\, can he save the city from Flippy the cyborg fish and his army of Beasty Buildings? Can he catch Petey\, the world’s most evil cat\, who has cloned himself to exact revenge on the doggy do-gooder? And will George and Harold finish their show before lunchtime?? Find out in this epic musical adventure featuring the hilarity and heart of beloved characters from Dav Pilkey\, the creator of Captain Underpants and Cat Kid Comic Club. Featuring an exciting book and lyrics by Kevin Del Aguila\, music by Brad Alexander\, and original direction and choreography by Jen Wineman. Recommended for ages 6+.
URL:https://themobmom.com/event/dog-man-the-musical/
LOCATION:Saenger Theatre
ATTACH;FMTTYPE=image/jpeg:https://themobmom.com/wp-content/uploads/2025/12/DogMan_Square.jpg
END:VEVENT
BEGIN:VEVENT
DTSTART;TZID=America/Chicago:20260201T130000
DTEND;TZID=America/Chicago:20260201T170000
DTSTAMP:20260423T180906
CREATED:20260130T064137Z
LAST-MODIFIED:20260130T064137Z
UID:14260-1769950800-1769965200@themobmom.com
SUMMARY:Free First Sunday
DESCRIPTION:On Sunday\, February 1st\, visit any time from 1:00 pm – 5:00pm and enjoy free admission into the History Museum of Mobile\, Colonial Fort Conde\, and the Phoenix Fire Museum! We will also be offering architectural tours of the Phoenix Fire Museum during this time. The Oakleigh Belles will be at the History Museum\, and we will have a Mardi Gras mask activity!\nOn view: Mobile in Mourning: Death Practices in the Victorian Era and Sunken Treasures\, Ancient Seas: Artifacts from the Deep
URL:https://themobmom.com/event/free-first-sunday-4/
LOCATION:History Museum of Mobile
ATTACH;FMTTYPE=image/jpeg:https://themobmom.com/wp-content/uploads/2025/09/free-first-sunday.jpg
END:VEVENT
BEGIN:VEVENT
DTSTART;TZID=America/Chicago:20260201T140000
DTEND;TZID=America/Chicago:20260201T153000
DTSTAMP:20260423T180906
CREATED:20260129T155233Z
LAST-MODIFIED:20260129T155233Z
UID:14233-1769954400-1769959800@themobmom.com
SUMMARY:Pokemon Meet Up
DESCRIPTION:Pokémon Trainers\, It’s Time to Battle! \nGet ready to catch ‘em all at our next Pokémon Meetup on Sunday February 1st at Fantasy Island Toys! Starting at 2:00 PM\, we’re diving into an afternoon filled with: Epic battles – Show off your best strategies! Fun Pokémon-themed games – Gotta play ‘em all! Card trading – Find that missing card for your ultimate deck!\nWhether you’re a seasoned Trainer or just starting your journey\, this is the perfect chance to meet fellow Pokémon fans and have a blast!\nTag your Pokémon crew and mark your calendars—February 1 is the day!  This event is free and open to all from 2:00 – 3:30 pm
URL:https://themobmom.com/event/pokemon-meet-up/
LOCATION:Fantasy Island Toys\, 333 Fairhope Ave\, Fairhope\, Alabama
ATTACH;FMTTYPE=image/jpeg:https://themobmom.com/wp-content/uploads/2026/01/pokemon-meet-up.jpg
END:VEVENT
BEGIN:VEVENT
DTSTART;TZID=America/Chicago:20260201T140000
DTEND;TZID=America/Chicago:20260201T163000
DTSTAMP:20260423T180906
CREATED:20260129T152303Z
LAST-MODIFIED:20260129T152303Z
UID:14221-1769954400-1769963400@themobmom.com
SUMMARY:Gem Tree Art Class (pre-registration required)
DESCRIPTION:Gem Tree Art Class Create a shimmering tree that grows from wire\, gemstones\, and a little creative magic.\n\nJoin us for a relaxing\, hands-on class where you’ll design and sculpt your own gemstone tree using wire branches and polished crystals. Choose your color palette\, shape your branches\, and leave with a one-of-a-kind piece that brings calm\, beauty\, and a touch of sparkle to any space. WE HAVE MOVED TO A BIGGER STUDIO!\n What’s included:• All supplies (wire\, gemstones\, base\, tools)• Step-by-step instruction• A finished gem tree to take home• A welcoming\, creative atmosphere\n Perfect for:• Beginners and experienced crafters (ages 8+ recommended)• Friends’ night out• Self-care and creative relaxation• Gift-making or home décor\n\n No experience needed. Just bring your imagination.Registration required.Light refreshments/BYO\n**** Must preregister 24 hours BEFORE class. If no one preregisters\, class will be canceled. Drop-ins only allowed with a preregistered attendee and host notification.
URL:https://themobmom.com/event/gem-tree-art-class-pre-registration-required/
LOCATION:Catnip Trip Studio\, 1260 Dauphin Street\, Mobile\, Alabama
END:VEVENT
BEGIN:VEVENT
DTSTART;TZID=America/Chicago:20260201T145000
DTEND;TZID=America/Chicago:20260201T162000
DTSTAMP:20260423T180906
CREATED:20260130T065246Z
LAST-MODIFIED:20260130T065246Z
UID:14266-1769957400-1769962800@themobmom.com
SUMMARY:Cookie Fun Open Jump
DESCRIPTION:Cookie Fun Open Jump\nDate : Sunday Feb 1\, 2026\nTime : 2:50 PM – 4:20 PM\nStatus : Space is available!\nDetails :\n– Join us for this NEW! “Cookie Fun” Open Jump! –\nGet ready for an action-packed adventure your kids won’t stop talking about!\nThey’ll jump\, bounce\, and burn off some energy for a full hour and 10 minutes\, all while grooving to their favorite tunes! 🎶\nBut the fun doesn’t stop there\, after all that jumping\, they’ll get to indulge in a delicious chocolate chip cookie and refreshing drinks 🍪🥤.\nPlus\, they’ll have time to get creative\, coloring awesome drawings and letting their imaginations run wild! 🎨✨ \nThis is the ultimate playdate you don’t want to miss. Book now! and give your kids a day full of fun and memories! 🙌 \nPRICE: $13.00 + tax per kid \nAll ages welcome! Groups of seven or more children must be pre-paid in advance and are non refundable or transferable.\nSpaces in open jumps are only held for the amount of children pre-paid for. All pre paid spaces are NON REFUNDABLE and NON TRANSFERABLE to another day/time.
URL:https://themobmom.com/event/cookie-fun-open-jump-4/
LOCATION:Pump it Up Mobile
ATTACH;FMTTYPE=image/jpeg:https://themobmom.com/wp-content/uploads/2026/01/cookie-fun-open-jump.jpg
END:VEVENT
END:VCALENDAR