BEGIN:VCALENDAR
VERSION:2.0
PRODID:-//MOB Moms - ECPv6.15.1.1//NONSGML v1.0//EN
CALSCALE:GREGORIAN
METHOD:PUBLISH
X-WR-CALNAME:MOB Moms
X-ORIGINAL-URL:https://themobmom.com
X-WR-CALDESC:Events for MOB Moms
REFRESH-INTERVAL;VALUE=DURATION:PT1H
X-Robots-Tag:noindex
X-PUBLISHED-TTL:PT1H
BEGIN:VTIMEZONE
TZID:America/Chicago
BEGIN:DAYLIGHT
TZOFFSETFROM:-0600
TZOFFSETTO:-0500
TZNAME:CDT
DTSTART:20260308T080000
END:DAYLIGHT
BEGIN:STANDARD
TZOFFSETFROM:-0500
TZOFFSETTO:-0600
TZNAME:CST
DTSTART:20261101T070000
END:STANDARD
END:VTIMEZONE
BEGIN:VTIMEZONE
TZID:UTC
BEGIN:STANDARD
TZOFFSETFROM:+0000
TZOFFSETTO:+0000
TZNAME:UTC
DTSTART:20260101T000000
END:STANDARD
END:VTIMEZONE
BEGIN:VEVENT
DTSTART;VALUE=DATE:20260118
DTEND;VALUE=DATE:20260130
DTSTAMP:20260423T192909
CREATED:20251225T062420Z
LAST-MODIFIED:20260119T061336Z
UID:13911-1768694400-1769731199@themobmom.com
SUMMARY:Stardew Valley- Symphony of Seasons
DESCRIPTION:Symphony of Seasons is the new Stardew Valley concert\, featuring a 35-piece orchestra performing the most memorable music from the game and a screen above the stage playing gameplay footage\, plus original content exclusively created for this concert. \nCurated by ConcernedApe\, Symphony of Seasons is a musical journey from your first day in the valley to your arrival to the summit. Watch your farm grow throughout the four seasons\, and explore the most memorable locations of the valley: from Pelican Town to the Skull Cavern\, from Ginger Island to Calico Desert\, from the Submarine to the Wizard’s Tower and much more.
URL:https://themobmom.com/event/stardew-valley-symphony-of-seasons/
LOCATION:Saenger Theatre
ATTACH;FMTTYPE=image/jpeg:https://themobmom.com/wp-content/uploads/2025/12/StardewValley_300x250.jpg
END:VEVENT
BEGIN:VEVENT
DTSTART;VALUE=DATE:20260118
DTEND;VALUE=DATE:20260225
DTSTAMP:20260423T192909
CREATED:20251225T064722Z
LAST-MODIFIED:20260119T061256Z
UID:13921-1768694400-1771977599@themobmom.com
SUMMARY:Dog Man The Musical!
DESCRIPTION:Based on the worldwide bestselling hit series by Dav Pilkey\, Dog Man: The Musical is a hilarious and heartwarming production following the chronicles of Dog Man\, who with the head of a dog and the body of a policeman\, loves to fight crime and chew on the furniture. But while trying his best to be a good boy\, can he save the city from Flippy the cyborg fish and his army of Beasty Buildings? Can he catch Petey\, the world’s most evil cat\, who has cloned himself to exact revenge on the doggy do-gooder? And will George and Harold finish their show before lunchtime?? Find out in this epic musical adventure featuring the hilarity and heart of beloved characters from Dav Pilkey\, the creator of Captain Underpants and Cat Kid Comic Club. Featuring an exciting book and lyrics by Kevin Del Aguila\, music by Brad Alexander\, and original direction and choreography by Jen Wineman. Recommended for ages 6+.
URL:https://themobmom.com/event/dog-man-the-musical/
LOCATION:Saenger Theatre
ATTACH;FMTTYPE=image/jpeg:https://themobmom.com/wp-content/uploads/2025/12/DogMan_Square.jpg
END:VEVENT
BEGIN:VEVENT
DTSTART;VALUE=DATE:20260124
DTEND;VALUE=DATE:20260125
DTSTAMP:20260423T192909
CREATED:20260123T164840Z
LAST-MODIFIED:20260123T164840Z
UID:14195-1769212800-1769299199@themobmom.com
SUMMARY:Compliment Day at Kidlavie
DESCRIPTION:January 24 – Compliment Day at Kidlavie \nLet’s celebrate kindness\, smiles\, and good words! \nOn January 24\, we’re hosting Compliment Day\, where kids can spread positivity — and get a little reward for it 😊 \n✨ How it works:\n• Kids give compliments to our staff\n• For every kind word\, they earn stickers or beads\n• Everyone leaves with smiles and good vibes \nA small compliment can make a big day brighter 🌈\nJoin us and let’s fill Kidlavie with kindness! \n📍 Only at Kidlavie\n🗓 January 24
URL:https://themobmom.com/event/compliment-day-at-kidlavie/
LOCATION:Kidlavie Mobile
ATTACH;FMTTYPE=image/jpeg:https://themobmom.com/wp-content/uploads/2026/01/Kidlavie-Compliment-Day.jpg
END:VEVENT
BEGIN:VEVENT
DTSTART;TZID=America/Chicago:20260124T100000
DTEND;TZID=America/Chicago:20260124T130000
DTSTAMP:20260423T192909
CREATED:20260123T161614Z
LAST-MODIFIED:20260123T161614Z
UID:14176-1769248800-1769259600@themobmom.com
SUMMARY:Mess Makers Society
DESCRIPTION:Mess Makers Society for Ages 10 and upSaturday Open Studio with Community Outreach Director Lindsey Lawrence and Visiting Artists\nLeave perfection at the door!Students will have the freedom to work on their own projects while also coming together for group activities that spark collective creativity. Connect with fellow teens who share your passion for art. Collaborate on projects\, exchange ideas\, and inspire each other’s creativity.\nDates:Jan 10: Mixed Media Ball Drop with Mykaela ArmstrongJan 17: Upcycled Art with Lindsey LawrenceJan 24: Printmaking with Brian TanJan 31: Digital Art with Mykaela ArmstrongFeb 7: Anything but a Canvas Day with Brian TanFeb 14: “Not Your Mother’s Valentine’s” Collage weird & wacky Valentine Art with Lindsey Lawrence\nTime: 10 am to 1 pmPrice: $25 per session$125 – For all 6 sessions ($60 in Savings!)\nRegistration available online:https://esartcenter.org/courses/mess-makers-society-2/
URL:https://themobmom.com/event/mess-makers-society/
LOCATION:401 Oak Street Fairhope\, AL
ATTACH;FMTTYPE=image/jpeg:https://themobmom.com/wp-content/uploads/2026/01/Mess-Makes-Society.jpg
END:VEVENT
BEGIN:VEVENT
DTSTART;TZID=America/Chicago:20260124T100000
DTEND;TZID=America/Chicago:20260124T150000
DTSTAMP:20260423T192909
CREATED:20260123T160616Z
LAST-MODIFIED:20260123T160616Z
UID:14171-1769248800-1769266800@themobmom.com
SUMMARY:Parade Ready Masks: A Family Art Day
DESCRIPTION:January 19th & 24th | 10 AM – 3 PM | Drop-In Event | All Ages Welcome\n$20 for one\, two or more are $18 each.Join us for a festive\, hands-on Mardi Gras Mask-Making & Painting Event for kids\, teens\, and adults—perfect for getting ready for Mobile’s biggest season of the year! \nChoose from a variety of mask styles\, from classic Carnival to whimsical and wild. Whether they paint it\, glitter it\, feather it\, or bedazzle it within an inch of its life\, every artist will leave with a mask that’s\none-of-a-kind and totally Mardi Gras ready. \n🎭 Why masks?\nMasks are a beloved tradition of Mardi Gras—symbolizing mystery\, celebration\, and the fun of stepping into a new persona. This event lets every creator tap into that magic while making something personal\, expressive\, and parade-day perfect. \nWhat to Expect:\n✨ Multiple mask styles to choose from\n🎨 Paint\, glitter\, feathers & embellishments galore\n🎭 A come-and-go creative space (drop in anytime 10–3!)*\n🌈 Fun for families\, teens\, adults—everyone!\n🤩 Leave with a mask that reflects YOU\n🗺️Available at BOTH locations – Mobile & Art Barn in Robertsdale \nWhether you’re gearing up for your favorite parade\, planning costumes with friends\, or simply looking for a fun MLK Day outing\, this is the ultimate way to kick off the Mardi Gras season.\n*Please arrive no later than 2 pm to ensure you have quality time to finish your project.
URL:https://themobmom.com/event/parade-ready-masks-a-family-art-day/
LOCATION:Coastal Makers Art Studio
ATTACH;FMTTYPE=image/jpeg:https://themobmom.com/wp-content/uploads/2026/01/parade-ready-mask.jpg
END:VEVENT
BEGIN:VEVENT
DTSTART;TZID=America/Chicago:20260124T100000
DTEND;TZID=America/Chicago:20260124T150000
DTSTAMP:20260423T192909
CREATED:20260123T161016Z
LAST-MODIFIED:20260123T161016Z
UID:14174-1769248800-1769266800@themobmom.com
SUMMARY:Gowns Galore
DESCRIPTION:GOWNS GALORE continues at the Cheap Chic Boutique\, our pop-up fundraiser this Saturday\, January 24\, 10a-3p!97 North Sage Avenue at Old Shell RD in Midtown.\nNew\, Nearly New & Vintage for MARDI GRAS\, Prom & Mother-of-the-Bride.9 Racks of Gowns! Good Selection in All Sizes from Petite to Plus.Community Dressing Room.Best Selection and Best Prices in Town!\nPLUS lower prices in the Winter Clearance of regular stock of Women’s Fashions\, including Luncheon & Cocktail Dresses!So Come Shop for a Good Cause to support Our Sisters’ Closet in our mission to assist in-crisis job seekers with their job search needs to improve their job opportunities
URL:https://themobmom.com/event/gowns-galore/
LOCATION:97 North Sage Avenue
END:VEVENT
BEGIN:VEVENT
DTSTART;TZID=America/Chicago:20260124T103000
DTEND;TZID=America/Chicago:20260124T113000
DTSTAMP:20260423T192909
CREATED:20260123T161935Z
LAST-MODIFIED:20260123T161935Z
UID:14178-1769250600-1769254200@themobmom.com
SUMMARY:Snuggling Stories
DESCRIPTION:Morning snuggles with fun giggles! \nJoin us at the Saraland Public Library to enjoy fun stories\, songs\, movements\, and a craft.
URL:https://themobmom.com/event/snuggling-stories-5/
LOCATION:Saraland Public Library
ATTACH;FMTTYPE=image/png:https://themobmom.com/wp-content/uploads/2026/01/Snuggling-Stories-LM-Calendar.png
END:VEVENT
BEGIN:VEVENT
DTSTART;TZID=America/Chicago:20260124T110000
DTEND;TZID=America/Chicago:20260124T130000
DTSTAMP:20260423T192909
CREATED:20260123T172447Z
LAST-MODIFIED:20260123T172447Z
UID:14201-1769252400-1769259600@themobmom.com
SUMMARY:Fairytale Cottage Grand Opening Party!
DESCRIPTION:YOU’RE INVITED: FAIRYTALE COTTAGE GRAND OPENING PARTY! \nStep into the story and celebrate with us as we officially open the doors to Fairytale Cottage — a one-of-a-kind\, storybook stay brought to life with heart\, imagination\, and a little bit of magic.\n What to Expect: Delicious food Refreshing drinks Fun games & interactive surprises Magical photo moments Enter to WIN a 3-DAY STAY at Fairytale Cottage!\nThis is more than a grand opening — it’s a celebration of dreams\, creativity\, and the joy of storytelling. Whether you’re a friend\, neighbor\, supporter\, or simply curious\, we’d love for you to join us and experience the magic firsthand.\n Wander through whimsical spaces Meet the creators Celebrate a dream turned reality\nBring a friend\, your sense of wonder\, and come help us kick off this next chapter in true fairytale fashion.\n Happily ever after starts here.We can’t wait to celebrate with you!
URL:https://themobmom.com/event/fairytale-cottage-grand-opening-party/
LOCATION:Fairytale Cottage Foley\, 208 W Orange Avenue\, Foley\, AL
ATTACH;FMTTYPE=image/jpeg:https://themobmom.com/wp-content/uploads/2026/01/Fairytale-Grand-Opening.jpg
END:VEVENT
BEGIN:VEVENT
DTSTART;TZID=America/Chicago:20260124T113000
DTEND;TZID=America/Chicago:20260124T133000
DTSTAMP:20260423T192909
CREATED:20260123T162104Z
LAST-MODIFIED:20260123T162104Z
UID:14181-1769254200-1769261400@themobmom.com
SUMMARY:Teens Dungeons and Dragons
DESCRIPTION:“We must never stop failing\, because the minute we do\, we’ve failed.” -Dungeons and Dragons \nCome roll some dice and go on an epic adventure with D&D at the Moorer Branch Library! Teens ages 12-18 are invited to come create heroes and venture into the unknown in the popular table-top adventure game. \nRegistration is recommended! For more information\, please email Alec Broussard at abroussard@mplonline.org\, or call 251-494-4140. \n\n\n\nDisclaimer(s)\n\n\n\nFood Allergies\n\nWe cannot guarantee that food served at this program has not come into contact with tree nuts\, soy or other allergens.
URL:https://themobmom.com/event/teens-dungeons-and-dragons/
LOCATION:Monte. L Moorer/Spring Hill Branch Library
END:VEVENT
BEGIN:VEVENT
DTSTART;TZID=America/Chicago:20260124T120000
DTEND;TZID=America/Chicago:20260124T130000
DTSTAMP:20260423T192909
CREATED:20260123T160220Z
LAST-MODIFIED:20260123T160220Z
UID:14168-1769256000-1769259600@themobmom.com
SUMMARY:Dauphin Island People's Parade
DESCRIPTION:2026 Dauphin Island People’s ParadeLaissez les bons temps roulerThank you for your interest in the Eighth Annual Town of Dauphin Island People’s Parade. This year’s Parade rolls January 24\, 2026\, at NOON (this time has been changed\, due to weather). We are looking forward to a great and fun parade! If you’d like to join in on the fun please fill out an application at www.townofdauphinisland.org/registration
URL:https://themobmom.com/event/dauphin-island-peoples-parade/
LOCATION:1011 Bienville Boulevard\, Dauphin Island
END:VEVENT
BEGIN:VEVENT
DTSTART;TZID=America/Chicago:20260124T140000
DTEND;TZID=America/Chicago:20260124T160000
DTSTAMP:20260423T192909
CREATED:20260123T162243Z
LAST-MODIFIED:20260123T162243Z
UID:14183-1769263200-1769270400@themobmom.com
SUMMARY:Chess Club for Everyone at Moorer
DESCRIPTION:Beginners and experienced players welcome! \nPlaying chess improves concentration and problem-solving skills. Join us at Monte L. Moorer/Spring Hill Branch for chess club designed for ages 6 and up.
URL:https://themobmom.com/event/chess-club-for-everyone-at-moorer-5/
LOCATION:Monte. L Moorer/Spring Hill Branch Library
END:VEVENT
BEGIN:VEVENT
DTSTART;TZID=America/Chicago:20260124T150000
DTEND;TZID=America/Chicago:20260124T153000
DTSTAMP:20260423T192909
CREATED:20260123T162427Z
LAST-MODIFIED:20260123T162427Z
UID:14185-1769266800-1769268600@themobmom.com
SUMMARY:Saturday Crafternoon (Paper Crocodile Craft)
DESCRIPTION:Let’s enjoy making crafts together! \nJoin us every Saturday at the Theodore Oaks Branch to get creative and make a fun craft. \n\n\n\n\nThis Saturday\, we will make a Crocodile using paper. This activity is limited to 12 participants.  \nThis program is ideal for children ages 6 – 11\, but all ages are welcome. Supplies and space are limited though\, and participation is on a first come\, first serve basis. For more information\, please email theocir@mplonline.org or call (251) 662-7674. \n\nDisclaimer(s)\n\n\n\nFood Allergies\n\nWe cannot guarantee that food served at this program has not come into contact with tree nuts\, soy or other allergens.
URL:https://themobmom.com/event/saturday-crafternoon-paper-crocodile-craft/
LOCATION:Mobile Public Library- Theodore Oaks Branch
ATTACH;FMTTYPE=image/png:https://themobmom.com/wp-content/uploads/2025/09/Saturday-Crafternoon.png
END:VEVENT
BEGIN:VEVENT
DTSTART;TZID=America/Chicago:20260124T150000
DTEND;TZID=America/Chicago:20260124T163000
DTSTAMP:20260423T192909
CREATED:20260123T162550Z
LAST-MODIFIED:20260123T162550Z
UID:14187-1769266800-1769272200@themobmom.com
SUMMARY:Saraland Movie Adventure
DESCRIPTION:Join us for a Saraland Movie Adventure! \nCome have fun and enjoy popcorn while we watch the feature film Elio (2025)\, PG | 1 hr 39mins; Elio struggles to fit in until he is transported by aliens and becomes the chosen one to be Earth’s galactic ambassador while his mother Olga works on the top secret project to decode alien messages. \n\nDisclaimer(s)\n\n\n\nFood Allergies\n\nWe cannot guarantee that food served at this program has not come into contact with tree nuts\, soy or other allergens.
URL:https://themobmom.com/event/saraland-movie-adventure/
LOCATION:Saraland Public Library
ATTACH;FMTTYPE=image/png:https://themobmom.com/wp-content/uploads/2025/08/saraland-movie-adventure.png
END:VEVENT
BEGIN:VEVENT
DTSTART;TZID=America/Chicago:20260124T190000
DTEND;TZID=America/Chicago:20260124T200000
DTSTAMP:20260423T192909
CREATED:20260123T155438Z
LAST-MODIFIED:20260123T155438Z
UID:14166-1769281200-1769284800@themobmom.com
SUMMARY:Brandon Styles Variety Show
DESCRIPTION:A family-friendly\, impression\, comedy and magic show! Discover the many faces of Brandon Styles in this year-round Variety Show. Impressions from Frank Sinatra to Justin Bieber\, with 60 additional impressions in between! Sprinkled with just the right amount of comedy and magic to make this a great entertainment hour for all ages. Brandon Styles LIVE at OWA is a classy show that has something for the whole family! Brandon will awe you during his live performance of nearly 60 different celebrity singing & speaking impressions. To make this show unlike any other in the world\, he has incorporated the perfect amount of comedy\, magic\, dancing\, ventriloquism and audience participation in this fast-paced 60 minute show!
URL:https://themobmom.com/event/brandon-styles-variety-show-23/
LOCATION:OWA Parks & Resort
ATTACH;FMTTYPE=image/png:https://themobmom.com/wp-content/uploads/2025/08/Brandon-Styles-Variety-Show.png
END:VEVENT
END:VCALENDAR