BEGIN:VCALENDAR
VERSION:2.0
PRODID:-//MOB Moms - ECPv6.15.1.1//NONSGML v1.0//EN
CALSCALE:GREGORIAN
METHOD:PUBLISH
X-WR-CALNAME:MOB Moms
X-ORIGINAL-URL:https://themobmom.com
X-WR-CALDESC:Events for MOB Moms
REFRESH-INTERVAL;VALUE=DURATION:PT1H
X-Robots-Tag:noindex
X-PUBLISHED-TTL:PT1H
BEGIN:VTIMEZONE
TZID:America/Chicago
BEGIN:DAYLIGHT
TZOFFSETFROM:-0600
TZOFFSETTO:-0500
TZNAME:CDT
DTSTART:20260308T080000
END:DAYLIGHT
BEGIN:STANDARD
TZOFFSETFROM:-0500
TZOFFSETTO:-0600
TZNAME:CST
DTSTART:20261101T070000
END:STANDARD
END:VTIMEZONE
BEGIN:VEVENT
DTSTART;VALUE=DATE:20260118
DTEND;VALUE=DATE:20260130
DTSTAMP:20260423T192909
CREATED:20251225T062420Z
LAST-MODIFIED:20260119T061336Z
UID:13911-1768694400-1769731199@themobmom.com
SUMMARY:Stardew Valley- Symphony of Seasons
DESCRIPTION:Symphony of Seasons is the new Stardew Valley concert\, featuring a 35-piece orchestra performing the most memorable music from the game and a screen above the stage playing gameplay footage\, plus original content exclusively created for this concert. \nCurated by ConcernedApe\, Symphony of Seasons is a musical journey from your first day in the valley to your arrival to the summit. Watch your farm grow throughout the four seasons\, and explore the most memorable locations of the valley: from Pelican Town to the Skull Cavern\, from Ginger Island to Calico Desert\, from the Submarine to the Wizard’s Tower and much more.
URL:https://themobmom.com/event/stardew-valley-symphony-of-seasons/
LOCATION:Saenger Theatre
ATTACH;FMTTYPE=image/jpeg:https://themobmom.com/wp-content/uploads/2025/12/StardewValley_300x250.jpg
END:VEVENT
BEGIN:VEVENT
DTSTART;VALUE=DATE:20260118
DTEND;VALUE=DATE:20260225
DTSTAMP:20260423T192909
CREATED:20251225T064722Z
LAST-MODIFIED:20260119T061256Z
UID:13921-1768694400-1771977599@themobmom.com
SUMMARY:Dog Man The Musical!
DESCRIPTION:Based on the worldwide bestselling hit series by Dav Pilkey\, Dog Man: The Musical is a hilarious and heartwarming production following the chronicles of Dog Man\, who with the head of a dog and the body of a policeman\, loves to fight crime and chew on the furniture. But while trying his best to be a good boy\, can he save the city from Flippy the cyborg fish and his army of Beasty Buildings? Can he catch Petey\, the world’s most evil cat\, who has cloned himself to exact revenge on the doggy do-gooder? And will George and Harold finish their show before lunchtime?? Find out in this epic musical adventure featuring the hilarity and heart of beloved characters from Dav Pilkey\, the creator of Captain Underpants and Cat Kid Comic Club. Featuring an exciting book and lyrics by Kevin Del Aguila\, music by Brad Alexander\, and original direction and choreography by Jen Wineman. Recommended for ages 6+.
URL:https://themobmom.com/event/dog-man-the-musical/
LOCATION:Saenger Theatre
ATTACH;FMTTYPE=image/jpeg:https://themobmom.com/wp-content/uploads/2025/12/DogMan_Square.jpg
END:VEVENT
BEGIN:VEVENT
DTSTART;TZID=America/Chicago:20260123T103500
DTEND;TZID=America/Chicago:20260123T122000
DTSTAMP:20260423T192909
CREATED:20260116T055916Z
LAST-MODIFIED:20260116T055916Z
UID:14108-1769164500-1769170800@themobmom.com
SUMMARY:Open Jump - $7 SPECIAL PRICING
DESCRIPTION:🎉 End Your Week with a Bounce! 🎉\nLooking for an awesome way to kick off the weekend without breaking the bank? We’ve got you covered!\n✨ Open Jump for CHEAP? YES PLEASE! ✨\nBring the whole crew and enjoy our most affordable jump session of the week\, just $7 + tax per child\, and parents jump FREE!\nLet the kids burn off some energy\, laugh\, and play while you relax or join in on the fun. It’s the perfect way to wrap up your week with smiles\, giggles\, and good vibes all around. \nDon’t miss out\, spots fill up fast\, so grab your friends and jump into the weekend with us! 🚀 \nPRICE: $7 + tax per kid \nAll ages welcome! Groups of seven or more children must be pre-paid in advance and are non refundable or transferable.\nSpaces in open jumps are only held for the amount of children pre-paid for. All pre paid spaces are NON REFUNDABLE and NON TRANSFERABLE to another day/time.
URL:https://themobmom.com/event/open-jump-7-special-pricing-2/
LOCATION:Pump it Up Mobile
END:VEVENT
BEGIN:VEVENT
DTSTART;TZID=America/Chicago:20260123T170000
DTEND;TZID=America/Chicago:20260123T193000
DTSTAMP:20260423T192909
CREATED:20251228T031715Z
LAST-MODIFIED:20251228T031715Z
UID:13991-1769187600-1769196600@themobmom.com
SUMMARY:King Cake-Off 2026
DESCRIPTION:Who has the best King Cake on the Gulf Coast?  YOU be the judge!\nJoin us for the 8th Annual King Cake-Off presented by PNC — a celebration of sweet competition and community spirit! Local bakeries\, eateries\, and grocery stores will go head-to-head for the title of Best King Cake and Best King Cake-Inspired Treat.\nBring the whole family for live music\, local vendors\, kids’ activities\, specialty cocktails\, endless King Cake tastings\, and more!\nIt’s a one-of-a-kind event you don’t want to miss — all benefiting Big Brothers Big Sisters of the Central Gulf Coast\, helping ignite the power and promise of youth. 
URL:https://themobmom.com/event/king-cake-off-2026/
LOCATION:Mobile Convention Center\, Mobile\, Alabama
ATTACH;FMTTYPE=image/png:https://themobmom.com/wp-content/uploads/2025/12/king-cake-off.png
END:VEVENT
BEGIN:VEVENT
DTSTART;TZID=America/Chicago:20260123T180000
DTEND;TZID=America/Chicago:20260123T210000
DTSTAMP:20260423T192909
CREATED:20260123T154946Z
LAST-MODIFIED:20260123T154946Z
UID:14164-1769191200-1769202000@themobmom.com
SUMMARY:Movie Night
DESCRIPTION:Join is for a free movie night at the Semmes Community Center. Please note\, this movie is PG13. We do have chairs onsite\, but feel free to bring your more comfortable ones. See you there!
URL:https://themobmom.com/event/movie-night/
LOCATION:Semmes Community Center
END:VEVENT
END:VCALENDAR