BEGIN:VCALENDAR
VERSION:2.0
PRODID:-//MOB Moms - ECPv6.15.1.1//NONSGML v1.0//EN
CALSCALE:GREGORIAN
METHOD:PUBLISH
X-ORIGINAL-URL:https://themobmom.com
X-WR-CALDESC:Events for MOB Moms
REFRESH-INTERVAL;VALUE=DURATION:PT1H
X-Robots-Tag:noindex
X-PUBLISHED-TTL:PT1H
BEGIN:VTIMEZONE
TZID:UTC
BEGIN:STANDARD
TZOFFSETFROM:+0000
TZOFFSETTO:+0000
TZNAME:UTC
DTSTART:20260101T000000
END:STANDARD
END:VTIMEZONE
BEGIN:VTIMEZONE
TZID:America/Chicago
BEGIN:DAYLIGHT
TZOFFSETFROM:-0600
TZOFFSETTO:-0500
TZNAME:CDT
DTSTART:20260308T080000
END:DAYLIGHT
BEGIN:STANDARD
TZOFFSETFROM:-0500
TZOFFSETTO:-0600
TZNAME:CST
DTSTART:20261101T070000
END:STANDARD
END:VTIMEZONE
BEGIN:VEVENT
DTSTART;VALUE=DATE:20260103
DTEND;VALUE=DATE:20260120
DTSTAMP:20260423T193051
CREATED:20260103T003430Z
LAST-MODIFIED:20260103T003430Z
UID:14020-1767398400-1768867199@themobmom.com
SUMMARY:Ice Skating Rink presented by Pepsi
DESCRIPTION:Let us bring winter to you! Grab a pair of skates and glide\, spin or fall into the season on real ice from November 14 – January 19. \nAll skaters are required to complete a waiver before coasting on blades along the Gulf Coast with us. Sign the e-waiver before you arrive to save time in line. \nWant to give back this season? Join us for Skate 5\, Give 5 Tuesdays! Guests can lace up their skates and glide into the holiday season and make a meaningful impact while doing it. Every Tuesday through December 10\, The Wharf will donate $5 to Toys for Tots for each skate purchase\, matched dollar-for-dollar by Heather Loper & Associate at Keller Williams Alabama Gulf Coast\, during the Skate 5\, Give 5 initiative. It’s a wonderful way to spread joy while enjoying some time on the ice! \n\n\n\nWhere\nAcross from Portside on the corner of Main Street and Wharf Lane\n\n\nDate\nFriday\, January 2\n\n\nUpcoming Events \n\n\n\n\n\n\n\n\n\n\n\n\nTime\n10 am – 10 pm\n\n\nEvent Schedule\n\nNovember 14-23: \n\nMonday-Friday: 4-10 pm\nSaturday: 10 am – 10 pm\nSunday: Noon – 8 pm\n\nNovember 24-26 + 28-29 (Thanksgiving Break): 10 am – 10 pm \nNovember 27 (Thanksgiving Day): CLOSED \nNovember 30-December 21: \n\nMonday-Friday: 4-10 pm\nSaturday: 10 am – 10 pm\nSunday: Noon – 8 pm\n\nDecember 22+23: 10 am – 10 pm \nDecember 24 (Christmas Eve): 12-4 pm \nDecember 25 (Christmas Day): CLOSED \nDecember 26-27: 10 am – 10 pm \nDecember 28: Sunday: Noon – 8 pm \nDecember 29+30: 10 am – 10 pm \nDecember 31 (New Year’s Eve): 10 am – Midnight \nJanuary 1-3: 10 am – 10 pm \nJanuary 4: Noon – 8 pm \nJanuary 5-18: \n\nMonday-Friday: 4-10 pm\nSaturday: 10 am – 10 pm\nSunday: Noon – 8 pm\n\nJanuary 19: 10 am – 10 pm \n* Friday + Saturday nights Live DJ @ 7-10 pm \n\nNo DJ on December 26 + 27\n\n\n\n\nCost\n\nAll major credit cards accepted. \n\nGeneral Admission: $15 (includes skate rental)\nCombo Pass (Ice rink + Ferris wheel): $20\nFrequent Skater Pass (10 passes): $100\nSocks: $3/pair\n\n Bring a 20oz Pepsi product bottle and receive $2 off \n\n\n\nOther\n\nThank you to all of our sponsors for their generous support of the ice rink \nPresenting Sponsor  \n\nPepsi\n\nGold   \n\nCity of Orange Beach\nSawgrass\n\nBronze  \n\nBaldwin EMC\nBeebe’s\nHancock Whitney\nWaste Management\nCMC Gas\nAlabama Beaches\nIsland Church\nKutter’s – trade\nLOOK Dental\nCrew\nSanddollar Lifestyles\nSOHO\nSpectrum Resorts\nCoastal Marquee\nPrinting Pros
URL:https://themobmom.com/event/ice-skating-rink-presented-by-pepsi-2/
LOCATION:The Wharf
END:VEVENT
BEGIN:VEVENT
DTSTART;VALUE=DATE:20260118
DTEND;VALUE=DATE:20260130
DTSTAMP:20260423T193051
CREATED:20251225T062420Z
LAST-MODIFIED:20260119T061336Z
UID:13911-1768694400-1769731199@themobmom.com
SUMMARY:Stardew Valley- Symphony of Seasons
DESCRIPTION:Symphony of Seasons is the new Stardew Valley concert\, featuring a 35-piece orchestra performing the most memorable music from the game and a screen above the stage playing gameplay footage\, plus original content exclusively created for this concert. \nCurated by ConcernedApe\, Symphony of Seasons is a musical journey from your first day in the valley to your arrival to the summit. Watch your farm grow throughout the four seasons\, and explore the most memorable locations of the valley: from Pelican Town to the Skull Cavern\, from Ginger Island to Calico Desert\, from the Submarine to the Wizard’s Tower and much more.
URL:https://themobmom.com/event/stardew-valley-symphony-of-seasons/
LOCATION:Saenger Theatre
ATTACH;FMTTYPE=image/jpeg:https://themobmom.com/wp-content/uploads/2025/12/StardewValley_300x250.jpg
END:VEVENT
BEGIN:VEVENT
DTSTART;VALUE=DATE:20260118
DTEND;VALUE=DATE:20260225
DTSTAMP:20260423T193051
CREATED:20251225T064722Z
LAST-MODIFIED:20260119T061256Z
UID:13921-1768694400-1771977599@themobmom.com
SUMMARY:Dog Man The Musical!
DESCRIPTION:Based on the worldwide bestselling hit series by Dav Pilkey\, Dog Man: The Musical is a hilarious and heartwarming production following the chronicles of Dog Man\, who with the head of a dog and the body of a policeman\, loves to fight crime and chew on the furniture. But while trying his best to be a good boy\, can he save the city from Flippy the cyborg fish and his army of Beasty Buildings? Can he catch Petey\, the world’s most evil cat\, who has cloned himself to exact revenge on the doggy do-gooder? And will George and Harold finish their show before lunchtime?? Find out in this epic musical adventure featuring the hilarity and heart of beloved characters from Dav Pilkey\, the creator of Captain Underpants and Cat Kid Comic Club. Featuring an exciting book and lyrics by Kevin Del Aguila\, music by Brad Alexander\, and original direction and choreography by Jen Wineman. Recommended for ages 6+.
URL:https://themobmom.com/event/dog-man-the-musical/
LOCATION:Saenger Theatre
ATTACH;FMTTYPE=image/jpeg:https://themobmom.com/wp-content/uploads/2025/12/DogMan_Square.jpg
END:VEVENT
BEGIN:VEVENT
DTSTART;TZID=America/Chicago:20260118T150000
DTEND;TZID=America/Chicago:20260118T170000
DTSTAMP:20260423T193051
CREATED:20260116T171254Z
LAST-MODIFIED:20260116T171254Z
UID:14137-1768748400-1768755600@themobmom.com
SUMMARY:Trip Down Memory Lane- Brandon Styles Live
DESCRIPTION:Join Brandon Styles as he transports you back in time with a captivating performance that will make you reminisce. With his magical voice\, Brandon effortlessly sings songs from the 1950s to the 1970s\, representing a variety of iconic artists such as Frank Sinatra\, Tony Bennett\, Neil Diamond\, and Louis Armstrong\, among others. It’s no wonder this show has been voted as the best date night experience on the Gulf Coast.
URL:https://themobmom.com/event/trip-down-memory-lane-brandon-styles-live/
LOCATION:OWA Parks & Resort
ATTACH;FMTTYPE=image/jpeg:https://themobmom.com/wp-content/uploads/2026/01/brandon-styles-live.jpg
END:VEVENT
BEGIN:VEVENT
DTSTART;TZID=America/Chicago:20260118T170000
DTEND;TZID=America/Chicago:20260118T180000
DTSTAMP:20260423T193051
CREATED:20260116T171625Z
LAST-MODIFIED:20260116T171625Z
UID:14140-1768755600-1768759200@themobmom.com
SUMMARY:Blu-ey Dinner At The Hangout!
DESCRIPTION:Blu-ey Dinner at The Hangout! \n January 18 |  5 PM & 6 PM\n FREE family event\nAmazing food\, community seating\, trivia\, dance-offs\, photo ops\, and a character meet & greet your kids will love.
URL:https://themobmom.com/event/blu-ey-dinner-at-the-hangout/
LOCATION:The Hangout Gulf Shores
ATTACH;FMTTYPE=image/jpeg:https://themobmom.com/wp-content/uploads/2026/01/Bluey-dinner-at-the-hangout.jpg
END:VEVENT
END:VCALENDAR