BEGIN:VCALENDAR
VERSION:2.0
PRODID:-//MOB Moms - ECPv6.15.1.1//NONSGML v1.0//EN
CALSCALE:GREGORIAN
METHOD:PUBLISH
X-ORIGINAL-URL:https://themobmom.com
X-WR-CALDESC:Events for MOB Moms
REFRESH-INTERVAL;VALUE=DURATION:PT1H
X-Robots-Tag:noindex
X-PUBLISHED-TTL:PT1H
BEGIN:VTIMEZONE
TZID:UTC
BEGIN:STANDARD
TZOFFSETFROM:+0000
TZOFFSETTO:+0000
TZNAME:UTC
DTSTART:20260101T000000
END:STANDARD
END:VTIMEZONE
BEGIN:VEVENT
DTSTART;VALUE=DATE:20260103
DTEND;VALUE=DATE:20260120
DTSTAMP:20260423T193915
CREATED:20260103T003430Z
LAST-MODIFIED:20260103T003430Z
UID:14020-1767398400-1768867199@themobmom.com
SUMMARY:Ice Skating Rink presented by Pepsi
DESCRIPTION:Let us bring winter to you! Grab a pair of skates and glide\, spin or fall into the season on real ice from November 14 – January 19. \nAll skaters are required to complete a waiver before coasting on blades along the Gulf Coast with us. Sign the e-waiver before you arrive to save time in line. \nWant to give back this season? Join us for Skate 5\, Give 5 Tuesdays! Guests can lace up their skates and glide into the holiday season and make a meaningful impact while doing it. Every Tuesday through December 10\, The Wharf will donate $5 to Toys for Tots for each skate purchase\, matched dollar-for-dollar by Heather Loper & Associate at Keller Williams Alabama Gulf Coast\, during the Skate 5\, Give 5 initiative. It’s a wonderful way to spread joy while enjoying some time on the ice! \n\n\n\nWhere\nAcross from Portside on the corner of Main Street and Wharf Lane\n\n\nDate\nFriday\, January 2\n\n\nUpcoming Events \n\n\n\n\n\n\n\n\n\n\n\n\nTime\n10 am – 10 pm\n\n\nEvent Schedule\n\nNovember 14-23: \n\nMonday-Friday: 4-10 pm\nSaturday: 10 am – 10 pm\nSunday: Noon – 8 pm\n\nNovember 24-26 + 28-29 (Thanksgiving Break): 10 am – 10 pm \nNovember 27 (Thanksgiving Day): CLOSED \nNovember 30-December 21: \n\nMonday-Friday: 4-10 pm\nSaturday: 10 am – 10 pm\nSunday: Noon – 8 pm\n\nDecember 22+23: 10 am – 10 pm \nDecember 24 (Christmas Eve): 12-4 pm \nDecember 25 (Christmas Day): CLOSED \nDecember 26-27: 10 am – 10 pm \nDecember 28: Sunday: Noon – 8 pm \nDecember 29+30: 10 am – 10 pm \nDecember 31 (New Year’s Eve): 10 am – Midnight \nJanuary 1-3: 10 am – 10 pm \nJanuary 4: Noon – 8 pm \nJanuary 5-18: \n\nMonday-Friday: 4-10 pm\nSaturday: 10 am – 10 pm\nSunday: Noon – 8 pm\n\nJanuary 19: 10 am – 10 pm \n* Friday + Saturday nights Live DJ @ 7-10 pm \n\nNo DJ on December 26 + 27\n\n\n\n\nCost\n\nAll major credit cards accepted. \n\nGeneral Admission: $15 (includes skate rental)\nCombo Pass (Ice rink + Ferris wheel): $20\nFrequent Skater Pass (10 passes): $100\nSocks: $3/pair\n\n Bring a 20oz Pepsi product bottle and receive $2 off \n\n\n\nOther\n\nThank you to all of our sponsors for their generous support of the ice rink \nPresenting Sponsor  \n\nPepsi\n\nGold   \n\nCity of Orange Beach\nSawgrass\n\nBronze  \n\nBaldwin EMC\nBeebe’s\nHancock Whitney\nWaste Management\nCMC Gas\nAlabama Beaches\nIsland Church\nKutter’s – trade\nLOOK Dental\nCrew\nSanddollar Lifestyles\nSOHO\nSpectrum Resorts\nCoastal Marquee\nPrinting Pros
URL:https://themobmom.com/event/ice-skating-rink-presented-by-pepsi-2/
LOCATION:The Wharf
END:VEVENT
BEGIN:VEVENT
DTSTART;TZID=UTC:20260109T180000
DTEND;TZID=UTC:20260109T210000
DTSTAMP:20260423T193915
CREATED:20260103T005346Z
LAST-MODIFIED:20260103T005346Z
UID:14027-1767981600-1767992400@themobmom.com
SUMMARY:LODA ArtWalk Celebrates National Hobby Month
DESCRIPTION:LODA ArtWalk is a free monthly event that showcases our visual\, performing\, and culinary arts community. This January\, we’re celebrating National Hobby Month! Join us to explore local vendors\, nonprofits\, live music\, and captivating art from 6 p.m. to 9 p.m. on Friday\, January 9. There will be fun\, hands-on hobby activities for all ages\, and Kids Zone will feature DIY craft projects.
URL:https://themobmom.com/event/loda-artwalk-celebrates-national-hobby-month/
LOCATION:Downtown Mobile
ATTACH;FMTTYPE=image/jpeg:https://themobmom.com/wp-content/uploads/2026/01/loda-art-walk.jpg
END:VEVENT
END:VCALENDAR