BEGIN:VCALENDAR
VERSION:2.0
PRODID:-//MOB Moms - ECPv6.15.1.1//NONSGML v1.0//EN
CALSCALE:GREGORIAN
METHOD:PUBLISH
X-WR-CALNAME:MOB Moms
X-ORIGINAL-URL:https://themobmom.com
X-WR-CALDESC:Events for MOB Moms
REFRESH-INTERVAL;VALUE=DURATION:PT1H
X-Robots-Tag:noindex
X-PUBLISHED-TTL:PT1H
BEGIN:VTIMEZONE
TZID:America/Chicago
BEGIN:DAYLIGHT
TZOFFSETFROM:-0600
TZOFFSETTO:-0500
TZNAME:CDT
DTSTART:20250309T080000
END:DAYLIGHT
BEGIN:STANDARD
TZOFFSETFROM:-0500
TZOFFSETTO:-0600
TZNAME:CST
DTSTART:20251102T070000
END:STANDARD
END:VTIMEZONE
BEGIN:VTIMEZONE
TZID:UTC
BEGIN:STANDARD
TZOFFSETFROM:+0000
TZOFFSETTO:+0000
TZNAME:UTC
DTSTART:20250101T000000
END:STANDARD
END:VTIMEZONE
BEGIN:VEVENT
DTSTART;TZID=America/Chicago:20251227T100000
DTEND;TZID=America/Chicago:20251227T140000
DTSTAMP:20260423T205933
CREATED:20251227T173111Z
LAST-MODIFIED:20251227T173111Z
UID:13983-1766829600-1766844000@themobmom.com
SUMMARY:Bubbles & Beats
DESCRIPTION:The ultimate kids New Year’s celebration is back in Downtown OWA! On December 27th\, bring the littles to Bubbles & Beats\, and join the ultimate street party filled with bubbles\, music\, and activities everyone in the family can enjoy. Dance through the day at the Disco Dome Party or pop into fun at the Bubble Foam Party! With free hands-on crafts and entertainment for children of all ages\, Bubbles & Beats is the perfect way to close out the year with your loved ones! \n\n\n\n\n\n\n\n\n\n\n\n\n\n\n\n\nSchedule of Events: \n\n10:00 am – 2:00 pm:\n\nBubble Foam party truck at the Waffles R Wild Alcove\nDisco Dome Party at the Downtown OWA fountain\nFree facepainting at the Sweet Tooth Flowerbed\nBalloon artist on the Island\nCaricature artist at the Downtown OWA Fountian\nBubbles Thought Downtown OWA\nStilt walkers roaming throughout Downtown OWA\n\n\n10:00 am – 9:00 pm\n\nInteractive Fireworks Craft in Downtown OWA\nMake your own NYE Crown in Downtown OWA\n\n\n\n\n3:00 pm – 9:00 pm: Sparks & Sounds in Downtown OWA | Check out all the details: Sparks & Sounds
URL:https://themobmom.com/event/bubbles-beats/
LOCATION:OWA Parks & Resort
ATTACH;FMTTYPE=image/jpeg:https://themobmom.com/wp-content/uploads/2025/12/Website-Metadata-Bubbles-Beats-1536x804-1.jpg
END:VEVENT
BEGIN:VEVENT
DTSTART;TZID=UTC:20251227T150000
DTEND;TZID=UTC:20251227T210000
DTSTAMP:20260423T205933
CREATED:20251227T173723Z
LAST-MODIFIED:20251227T173723Z
UID:13986-1766847600-1766869200@themobmom.com
SUMMARY:Sparks & Sounds
DESCRIPTION:Mark your calendars\, Spark & Sounds returns to Downtown OWA with a day filled with upbeat entertainment\, hands-on activities\, and New Years Eve fun for all ages! Enjoy roaming performers\, themed crafts\, and plenty of family-friendly fun as Downtown OWA turns into a lively celebration. \nAs the evening builds\, the party shifts to the OWA Island stage with back-to-back live music. The night ends with a fireworks show that lights up the sky\, making Spark & Sounds one of the most exciting celebrations to end the year! \n\n\n\n\n\n\n\n\n\n\n\n\n\n\n\n\nSchedule of Events: \n\n10:00 am – 2:00 pm: Bubbles & Beats in Downtown OWA | Check out all the details: Bubbles & Beats\n10:00 am – 9:00 pm:\n\nFree train adventures throughout Downtown OWA\nInteractive Fireworks Craft in Downtown OWA\nMake your own NYE Crown in Downtown OWA\n\n\n3:00 pm – 5:00 pm: Live performance by AVINU on the OWA Island stage\n3:00 pm – 9:00 pm: Free facepainting and NYE themed craft at the Sweet Tooth Flowerbed\n5:30 – 7:00 pm: Live performance by Edgewood Heavy on the OWA Island stage\n7:15 – 9:00 pm: Live performance by The Tip Tops on the OWA Island stage\n8:00 – 9:00 pm: Grab free light-up items & fireworks glasses before the fireworks show throughout Downtown OWA\n8:50 – 9:00 pm: Fireworks show\n\n  \nTropic Falls Hours for Dec. 27th:  \nTheme Park: 10:00 AM – 9:00 PM \nWater Park: 10:00 AM – 6:00 PM
URL:https://themobmom.com/event/sparks-sounds/
LOCATION:OWA Parks & Resort
ATTACH;FMTTYPE=image/jpeg:https://themobmom.com/wp-content/uploads/2025/12/sparks-and-sounds.jpg
END:VEVENT
END:VCALENDAR