BEGIN:VCALENDAR
VERSION:2.0
PRODID:-//MOB Moms - ECPv6.15.1.1//NONSGML v1.0//EN
CALSCALE:GREGORIAN
METHOD:PUBLISH
X-WR-CALNAME:MOB Moms
X-ORIGINAL-URL:https://themobmom.com
X-WR-CALDESC:Events for MOB Moms
REFRESH-INTERVAL;VALUE=DURATION:PT1H
X-Robots-Tag:noindex
X-PUBLISHED-TTL:PT1H
BEGIN:VTIMEZONE
TZID:UTC
BEGIN:STANDARD
TZOFFSETFROM:+0000
TZOFFSETTO:+0000
TZNAME:UTC
DTSTART:20250101T000000
END:STANDARD
END:VTIMEZONE
BEGIN:VEVENT
DTSTART;TZID=UTC:20251121T160000
DTEND;TZID=UTC:20251121T180000
DTSTAMP:20260423T222632
CREATED:20251107T162235Z
LAST-MODIFIED:20251107T162235Z
UID:13607-1763740800-1763748000@themobmom.com
SUMMARY:10th Anniversary Fall Festival
DESCRIPTION:Join Us for a Sensory-Friendly Fall Festival! \nThe American Autism & Rehabilitation Center invites you to a special community event on Friday\, November 21st\, from 4-6pm celebrating our 10th anniversary.\nBring the whole family for an afternoon of fun activities designed for all children\, including those with special needs and their siblings. Best of all\, it’s FREE and open to everyone!\n\nActivities Include:LIVE Music Delicious Food Truck The Dashing Doxie coffee truck Game Truck Snow Cones Fire Truck Live Animals Fun Games Pumpkin Painting Bouncy House Hayride Photo Opportunities Balloon artist Face paint & SO MUCH MORE!\nThis event will be sensory-friendly to ensure an enjoyable experience for all. Don’t miss out on this exciting day of family fun and celebration!\n Location: American Autism & Rehabilitation Center\n Date: Friday\, November 21st\n Time: 4:00 PM – 6:00 PM
URL:https://themobmom.com/event/10th-anniversary-fall-festival/
LOCATION:American Autism and Rehabilitation Center\, Daphne\, Alabama
ATTACH;FMTTYPE=image/jpeg:https://themobmom.com/wp-content/uploads/2025/11/555961262_1194849606009024_7678925008684280095_n.jpg
END:VEVENT
BEGIN:VEVENT
DTSTART;TZID=UTC:20251121T173000
DTEND;TZID=UTC:20251121T203000
DTSTAMP:20260423T222632
CREATED:20251107T165311Z
LAST-MODIFIED:20251107T165311Z
UID:13621-1763746200-1763757000@themobmom.com
SUMMARY:Lighting of the Tree
DESCRIPTION:Experience the magic of the season! Join us on November 21st from 5:30 p.m. to 8:30 p.m. at Mardi Gras Park for the City of Mobile’s annual Lighting of the Tree celebration. \nGet ready for a night of local vendors\, delicious food trucks\, holiday crafts\, games\, inflatables\, and a special visit from Santa Claus himself!  Don’t miss the chance to create lasting holiday memories at this magical evening of festive fun.\nThis is a FREE event for all ages. Attendees are welcome to bring chairs and blankets to sit on while enjoying the performances and ceremony.\nEntertainment Schedule\n5:30 PM — MPRD Community Mass Choir5:45 PM — Danze 101 Academy of Ballet Studio & Company6:00 PM — Santa Claus arrives6:20 PM — Incoming Mayor Spiro Cheriogotis lights the tree7:00 – 8:30 PM — Live performance by Vocalocity
URL:https://themobmom.com/event/lighting-of-the-tree-2/
LOCATION:Mardi Gras Park
ATTACH;FMTTYPE=image/jpeg:https://themobmom.com/wp-content/uploads/2025/11/565124974_1144502494522948_619046311764569363_n.jpg
END:VEVENT
END:VCALENDAR