BEGIN:VCALENDAR
VERSION:2.0
PRODID:-//MOB Moms - ECPv6.15.1.1//NONSGML v1.0//EN
CALSCALE:GREGORIAN
METHOD:PUBLISH
X-ORIGINAL-URL:https://themobmom.com
X-WR-CALDESC:Events for MOB Moms
REFRESH-INTERVAL;VALUE=DURATION:PT1H
X-Robots-Tag:noindex
X-PUBLISHED-TTL:PT1H
BEGIN:VTIMEZONE
TZID:UTC
BEGIN:STANDARD
TZOFFSETFROM:+0000
TZOFFSETTO:+0000
TZNAME:UTC
DTSTART:20250101T000000
END:STANDARD
END:VTIMEZONE
BEGIN:VEVENT
DTSTART;TZID=UTC:20251114T110000
DTEND;TZID=UTC:20251116T170000
DTSTAMP:20260423T222726
CREATED:20251107T161436Z
LAST-MODIFIED:20251107T161436Z
UID:13601-1763118000-1763312400@themobmom.com
SUMMARY:Christmas Jubilee 2025 - Junior League of Mobile
DESCRIPTION:Kick off your holiday shopping and support your community at Junior League of Mobile’s annual Christmas Jubilee located at the Mobile Convention Center. The Gulf Coast’s greatest holiday market features a variety of merchants from around the country under one roof for three exciting days of shopping!\nStep into the holiday spirit! After shopping\, refuel at our open concession stands and enjoy delicious offerings from local food vendors. For guests 21 and over\, a cash bar will be available during market hours. And don’t worry—we didn’t forget the kids! Santa Claus will be there to spread some cheer.\nParticipation in Junior League of Mobile’s largest fundraiser – as a merchant or a shopper – makes a direct impact on the Mobile and Baldwin County communities through the development of Junior League of Mobile volunteers and the numerous local agencies and programs with which Junior League of Mobile partners. Make your plans now to join us this year for our 41st annual Christmas Jubilee!\nLocation:Mobile Convention Center\nDates:Friday\, November 14 through Sunday\, November 16\, 2025\nVIP Shopping Hours:Friday\, November 14 – 9 a.m. to 11 a.m.\nGeneral Admission Hours:Friday\, November 14 – 11 a.m. to 7 p.m.Saturday\, November 15 – 11 a.m. to 6 p.m.Sunday\, November 16 – 10 a.m. to 5 p.m.
URL:https://themobmom.com/event/christmas-jubilee-2025-junior-league-of-mobile/
LOCATION:Mobile Convention Center\, Mobile\, Alabama
ATTACH;FMTTYPE=image/jpeg:https://themobmom.com/wp-content/uploads/2025/11/574564389_1250545360450318_8805358192760476825_n.jpg
END:VEVENT
BEGIN:VEVENT
DTSTART;TZID=UTC:20251115T073000
DTEND;TZID=UTC:20251115T120000
DTSTAMP:20260423T222726
CREATED:20250923T004640Z
LAST-MODIFIED:20250923T004640Z
UID:12934-1763191800-1763208000@themobmom.com
SUMMARY:Market in the Park
DESCRIPTION:Shop locally grown\, locally produced and handmade items at Market in the Park! \nThis fall\, Market in the Park will run every Saturday from October 11 through November 15. Explore a wide variety of fresh\, locally-grown produce\, artisanal goods\, and handcrafted items from local vendors while enjoying live entertainment in Cathedral Square. We’re proud to support our community with a selection of vendors who accept SNAP benefits\, making fresh\, healthy options accessible to all.\nEvery Saturday\, the market will open at Cathedral Square at 7:30 a.m. and close at noon.
URL:https://themobmom.com/event/market-in-the-park-6/
LOCATION:Cathedral Square\, Mobile\, Alabama
ATTACH;FMTTYPE=image/jpeg:https://themobmom.com/wp-content/uploads/2025/09/517738141_1156206573202057_1291265734769199749_n.jpg
END:VEVENT
BEGIN:VEVENT
DTSTART;TZID=UTC:20251115T090000
DTEND;TZID=UTC:20251115T150000
DTSTAMP:20260423T222726
CREATED:20251107T155227Z
LAST-MODIFIED:20251107T155227Z
UID:13586-1763197200-1763218800@themobmom.com
SUMMARY:Butts\, Spuds\, and Brews Festival
DESCRIPTION:Join us for the Butts\, Spuds and Brews Festival. This event is to benefit the Barnwell Community Centers efforts to renovate the historic community center building.There will be craft vendors\, a kid zone(free for the kiddos)\, tons of amazing food and cold brews. Do not miss out on live music all day long and a performance by Zachary Thomas Diedrich Band.
URL:https://themobmom.com/event/butts-spuds-and-brews-festival/
LOCATION:13319 County Rd 3\, Fairhope\, Alabama
ATTACH;FMTTYPE=image/jpeg:https://themobmom.com/wp-content/uploads/2025/11/515491088_706859672264920_8824681459889645138_n.jpg
END:VEVENT
BEGIN:VEVENT
DTSTART;TZID=UTC:20251115T090000
DTEND;TZID=UTC:20251115T150000
DTSTAMP:20260423T222726
CREATED:20251107T215814Z
LAST-MODIFIED:20251107T215814Z
UID:13625-1763197200-1763218800@themobmom.com
SUMMARY:Christmas Market at Brodie's Cream and Bean
DESCRIPTION:Join us for our yearly Christmas Market Day at Brodie’s Cream & Bean. This fun\, family friendly event will have local artists\, crafts\, clothing\, and amazing food! It is the perfect day to shop local for one of a kind Christmas gifts!
URL:https://themobmom.com/event/christmas-market-at-brodies-cream-and-bean/
LOCATION:Town of Silverhill\, Alabama
ATTACH;FMTTYPE=image/jpeg:https://themobmom.com/wp-content/uploads/2025/11/557152638_1307078394762202_4084584527536373959_n.jpg
END:VEVENT
BEGIN:VEVENT
DTSTART;TZID=UTC:20251115T100000
DTEND;TZID=UTC:20251115T150000
DTSTAMP:20260423T222726
CREATED:20251107T160758Z
LAST-MODIFIED:20251107T160758Z
UID:13598-1763200800-1763218800@themobmom.com
SUMMARY:15th Annual Daphne Christmas Extravaganza Gift Show
DESCRIPTION:Welcome to our 15th Christmas Extravaganza Annual event that will be back at the Daphne Civic Center again in 2025!!\nGet all of your Christmas Gift needs offering you everything from Jewelry to gifts\, accessories\, fashion and so much more. A variety of unique seasonal and gift items including those unusual pieces for the “person who has everything”.\nVendor spots are available and going quick so please let us know if you are interested by emailing studioglitzevents@gmail.com\nPlease make sure that if you are a direct marketing organization to check first to see if your business is not already taken.\n$5 entry with kids 12 and under free/VIP Tickets $20.00 (includes shopping bag)
URL:https://themobmom.com/event/15th-annual-daphne-christmas-extravaganza-gift-show/
LOCATION:Daphne Civic Center
ATTACH;FMTTYPE=image/jpeg:https://themobmom.com/wp-content/uploads/2025/11/485850626_936854675328147_807433579958946766_n.jpg
END:VEVENT
BEGIN:VEVENT
DTSTART;TZID=UTC:20251115T100000
DTEND;TZID=UTC:20251115T150000
DTSTAMP:20260423T222726
CREATED:20251107T162610Z
LAST-MODIFIED:20251107T162610Z
UID:13610-1763200800-1763218800@themobmom.com
SUMMARY:Thankful Fall Festival
DESCRIPTION:Train tides\, inflatables\, games\, food and vendors!! Lots of family fun!!
URL:https://themobmom.com/event/thankful-fall-festival/
LOCATION:Union Baptist Church
ATTACH;FMTTYPE=image/jpeg:https://themobmom.com/wp-content/uploads/2025/11/565708359_1251890046979703_6281561925022591644_n.jpg
END:VEVENT
BEGIN:VEVENT
DTSTART;TZID=UTC:20251115T100000
DTEND;TZID=UTC:20251115T150000
DTSTAMP:20260423T222726
CREATED:20251107T220719Z
LAST-MODIFIED:20251107T220719Z
UID:13631-1763200800-1763218800@themobmom.com
SUMMARY:Living History Festival
DESCRIPTION:Experience the 18th century at Colonial Fort Condé as history is brought to life through the demonstration of everyday activities of Mobile’s past. How did they do their laundry? Did they really use a feather to write with? What money did they use? Did they bathe? Find out these answers and many more when you visit on November 15th!\nIn addition to stations teaching about daily life\, there will also be musket and sword fighting demonstrations every hour as well as our local chapter of the Society of American Period Furniture Makers.\nFor questions or more information\, please contact Kyle Williams at 251-544-5480 or email k.williams@historymuseumofmobile.com\nAdmission to this event at Colonial Fort Condé is FREE. (Note: Admission to the History Museum of Mobile is separate if you wish to visit those exhibits.) In the event of inclement weather\, activities will be moved indoors.
URL:https://themobmom.com/event/living-history-festival-2/
LOCATION:Colonial Fort Conde
ATTACH;FMTTYPE=image/jpeg:https://themobmom.com/wp-content/uploads/2025/11/541505473_698357313216356_471542049991243003_n.jpg
END:VEVENT
BEGIN:VEVENT
DTSTART;TZID=UTC:20251115T170000
DTEND;TZID=UTC:20251115T190000
DTSTAMP:20260423T222726
CREATED:20251107T154246Z
LAST-MODIFIED:20251107T154246Z
UID:13575-1763226000-1763233200@themobmom.com
SUMMARY:TPC West Mobile Fall Festival
DESCRIPTION:Join Us for our Fall Festival November 15 form 5pm-7pmWe will be having chili and hotdogs! We will have games\, hayrides and much more fun!\nCome fellowship with us!
URL:https://themobmom.com/event/tpc-west-mobile-fall-festival/
LOCATION:TPC\, Mobile
ATTACH;FMTTYPE=image/jpeg:https://themobmom.com/wp-content/uploads/2025/11/571172574_1223496639811943_7345796368971762921_n.jpg
END:VEVENT
END:VCALENDAR