BEGIN:VCALENDAR
VERSION:2.0
PRODID:-//MOB Moms - ECPv6.15.1.1//NONSGML v1.0//EN
CALSCALE:GREGORIAN
METHOD:PUBLISH
X-ORIGINAL-URL:https://themobmom.com
X-WR-CALDESC:Events for MOB Moms
REFRESH-INTERVAL;VALUE=DURATION:PT1H
X-Robots-Tag:noindex
X-PUBLISHED-TTL:PT1H
BEGIN:VTIMEZONE
TZID:UTC
BEGIN:STANDARD
TZOFFSETFROM:+0000
TZOFFSETTO:+0000
TZNAME:UTC
DTSTART:20250101T000000
END:STANDARD
END:VTIMEZONE
BEGIN:VEVENT
DTSTART;TZID=UTC:20251101T073000
DTEND;TZID=UTC:20251101T120000
DTSTAMP:20260423T222728
CREATED:20250923T004321Z
LAST-MODIFIED:20250923T004321Z
UID:12930-1761982200-1761998400@themobmom.com
SUMMARY:Market in the Park
DESCRIPTION:Shop locally grown\, locally produced and handmade items at Market in the Park! \nThis fall\, Market in the Park will run every Saturday from October 11 through November 15. Explore a wide variety of fresh\, locally-grown produce\, artisanal goods\, and handcrafted items from local vendors while enjoying live entertainment in Cathedral Square. We’re proud to support our community with a selection of vendors who accept SNAP benefits\, making fresh\, healthy options accessible to all.\nEvery Saturday\, the market will open at Cathedral Square at 7:30 a.m. and close at noon.
URL:https://themobmom.com/event/market-in-the-park-4/
LOCATION:Cathedral Square\, Mobile\, Alabama
ATTACH;FMTTYPE=image/jpeg:https://themobmom.com/wp-content/uploads/2025/09/517738141_1156206573202057_1291265734769199749_n.jpg
END:VEVENT
BEGIN:VEVENT
DTSTART;TZID=UTC:20251101T110000
DTEND;TZID=UTC:20251101T150000
DTSTAMP:20260423T222728
CREATED:20251002T194203Z
LAST-MODIFIED:20251002T194203Z
UID:13138-1761994800-1762009200@themobmom.com
SUMMARY:Gulf Coast Mac Down
DESCRIPTION:How can it PASTAbly be National Pasta Month already? Each October\, we celebrate our favorite pastas that go best with our favorite comfort food and staple\, mac and cheese.
URL:https://themobmom.com/event/gulf-coast-mac-down/
LOCATION:Mardi Gras Park
ATTACH;FMTTYPE=image/jpeg:https://themobmom.com/wp-content/uploads/2025/10/558816608_1534362477978424_1341393442778847277_n.jpg
END:VEVENT
BEGIN:VEVENT
DTSTART;TZID=UTC:20251101T150000
DTEND;TZID=UTC:20251101T180000
DTSTAMP:20260423T222728
CREATED:20251002T191739Z
LAST-MODIFIED:20251002T191739Z
UID:13128-1762009200-1762020000@themobmom.com
SUMMARY:Fall Carnival
DESCRIPTION:Join us November 1st\, from 3–6 PM for an afternoon full of family fun! Entry is just $10 per person and includes unlimited access to the bounce house\, carnival games\, and cake walk.  Bring a pair of gently used or new shoes to donate and get $2 off your entry! Plus—don’t miss our Silent Auction with amazing prizes like a charter boat voucher\, movie tickets\, restaurant gift cards\, and more!All proceeds benefit Anthony’s School for Incredibly Exceptional People.  bounce house\, carnival games\, cake walk and face painting. If you bring a pair of shoes $ 2 off your admission cost!All benefits go towards Anthony’s School for Incredibly Exceptional People
URL:https://themobmom.com/event/fall-carnival/
LOCATION:The Fort Park at Spanish Fort Center
ATTACH;FMTTYPE=image/jpeg:https://themobmom.com/wp-content/uploads/2025/10/555457397_122127901688952791_7048883338853939404_n.jpg
END:VEVENT
END:VCALENDAR