BEGIN:VCALENDAR
VERSION:2.0
PRODID:-//MOB Moms - ECPv6.15.1.1//NONSGML v1.0//EN
CALSCALE:GREGORIAN
METHOD:PUBLISH
X-WR-CALNAME:MOB Moms
X-ORIGINAL-URL:https://themobmom.com
X-WR-CALDESC:Events for MOB Moms
REFRESH-INTERVAL;VALUE=DURATION:PT1H
X-Robots-Tag:noindex
X-PUBLISHED-TTL:PT1H
BEGIN:VTIMEZONE
TZID:UTC
BEGIN:STANDARD
TZOFFSETFROM:+0000
TZOFFSETTO:+0000
TZNAME:UTC
DTSTART:20250101T000000
END:STANDARD
END:VTIMEZONE
BEGIN:VEVENT
DTSTART;TZID=UTC:20251031T160000
DTEND;TZID=UTC:20251031T180000
DTSTAMP:20260423T222631
CREATED:20251002T190525Z
LAST-MODIFIED:20251002T190525Z
UID:13123-1761926400-1761933600@themobmom.com
SUMMARY:Harvest Jam at Eastern Shore Centre
DESCRIPTION:Get ready to {JAM} with us! \nHarvest Jam is BACK! Join Eastern Shore Centre for Harvest Jam on Friday\, October 31st from 4 – 6PM!\nEnjoy live music\, pop-ups\, spook-tacular treats\, shopping\, kids activities\, and OF COURSE trick-or-treating! Located on The Green near California Dreaming. 
URL:https://themobmom.com/event/harvest-jam-at-eastern-shore-centre-2/
LOCATION:Eastern Shore Centre
ATTACH;FMTTYPE=image/jpeg:https://themobmom.com/wp-content/uploads/2025/10/542755698_1342504391211685_3923644223232959771_n.jpg
END:VEVENT
END:VCALENDAR