BEGIN:VCALENDAR
VERSION:2.0
PRODID:-//MOB Moms - ECPv6.15.1.1//NONSGML v1.0//EN
CALSCALE:GREGORIAN
METHOD:PUBLISH
X-WR-CALNAME:MOB Moms
X-ORIGINAL-URL:https://themobmom.com
X-WR-CALDESC:Events for MOB Moms
REFRESH-INTERVAL;VALUE=DURATION:PT1H
X-Robots-Tag:noindex
X-PUBLISHED-TTL:PT1H
BEGIN:VTIMEZONE
TZID:UTC
BEGIN:STANDARD
TZOFFSETFROM:+0000
TZOFFSETTO:+0000
TZNAME:UTC
DTSTART:20250101T000000
END:STANDARD
END:VTIMEZONE
BEGIN:VEVENT
DTSTART;TZID=UTC:20251003T160000
DTEND;TZID=UTC:20251030T210000
DTSTAMP:20260423T235705
CREATED:20250923T130109Z
LAST-MODIFIED:20250923T130109Z
UID:12973-1759507200-1761858000@themobmom.com
SUMMARY:Wales West Pumpkin Patch Express
DESCRIPTION:Come ride “Dame Ann”\, an authentic steam locomotive\, to the Pumpkin Patch and spooky maze (optional). 4-7pm Kiddy friendly day train. 7PM starts the SCARY night train. Everyone gets a FREE pumpkin! Refreshments\, mini train rides\, hay-less hayride\, and bounce house included in your ticket. Enjoy the potato Cannon for a slight fee. Food will be available for purchase at our Café (traditional fare) and Concessions stand (Kettle Corn and other treats). We also have a Gift Shop\, perfect for the train enthusiast!
URL:https://themobmom.com/event/wales-west-pumpkin-patch-express/
LOCATION:Wales West\, Silverhill\, Alabama
ATTACH;FMTTYPE=image/jpeg:https://themobmom.com/wp-content/uploads/2025/09/542756495_1297790649043687_3738784391329975127_n.jpg
END:VEVENT
BEGIN:VEVENT
DTSTART;TZID=UTC:20251024T170000
DTEND;TZID=UTC:20251024T200000
DTSTAMP:20260423T235705
CREATED:20251002T192427Z
LAST-MODIFIED:20251002T192427Z
UID:13131-1761325200-1761336000@themobmom.com
SUMMARY:Parents Night Out - Pumpkin Palooza
DESCRIPTION:Join us for a fun-filled Fall Night Out!Drop the kids off for an evening packed with autumn fun while you enjoy a night to yourself.\n Date: Thursday\, October 24th Time: 5:00 PM – 8:00 PM No Parents Allowed – this night is just for the kids!\nEvent Highlights:•  Inflatable fun for nonstop jumping and giggles•  Pumpkin painting to get creative and festive•  Dinner included – hot dogs\, chips\, and drinks•  And more fall surprises to enjoy!\nCost:•  $40 per child•  $20 per sibling
URL:https://themobmom.com/event/parents-night-out-pumpkin-palooza/
LOCATION:Ascension Christian School\, Daphne\, Alabama
ATTACH;FMTTYPE=image/jpeg:https://themobmom.com/wp-content/uploads/2025/10/550518882_1377899284339757_8400513395524717904_n.jpg
END:VEVENT
END:VCALENDAR