BEGIN:VCALENDAR
VERSION:2.0
PRODID:-//MOB Moms - ECPv6.15.1.1//NONSGML v1.0//EN
CALSCALE:GREGORIAN
METHOD:PUBLISH
X-ORIGINAL-URL:https://themobmom.com
X-WR-CALDESC:Events for MOB Moms
REFRESH-INTERVAL;VALUE=DURATION:PT1H
X-Robots-Tag:noindex
X-PUBLISHED-TTL:PT1H
BEGIN:VTIMEZONE
TZID:UTC
BEGIN:STANDARD
TZOFFSETFROM:+0000
TZOFFSETTO:+0000
TZNAME:UTC
DTSTART:20250101T000000
END:STANDARD
END:VTIMEZONE
BEGIN:VEVENT
DTSTART;TZID=UTC:20251003T160000
DTEND;TZID=UTC:20251030T210000
DTSTAMP:20260423T235842
CREATED:20250923T130109Z
LAST-MODIFIED:20250923T130109Z
UID:12973-1759507200-1761858000@themobmom.com
SUMMARY:Wales West Pumpkin Patch Express
DESCRIPTION:Come ride “Dame Ann”\, an authentic steam locomotive\, to the Pumpkin Patch and spooky maze (optional). 4-7pm Kiddy friendly day train. 7PM starts the SCARY night train. Everyone gets a FREE pumpkin! Refreshments\, mini train rides\, hay-less hayride\, and bounce house included in your ticket. Enjoy the potato Cannon for a slight fee. Food will be available for purchase at our Café (traditional fare) and Concessions stand (Kettle Corn and other treats). We also have a Gift Shop\, perfect for the train enthusiast!
URL:https://themobmom.com/event/wales-west-pumpkin-patch-express/
LOCATION:Wales West\, Silverhill\, Alabama
ATTACH;FMTTYPE=image/jpeg:https://themobmom.com/wp-content/uploads/2025/09/542756495_1297790649043687_3738784391329975127_n.jpg
END:VEVENT
BEGIN:VEVENT
DTSTART;TZID=UTC:20251013T090000
DTEND;TZID=UTC:20251015T130000
DTSTAMP:20260423T235842
CREATED:20250930T184231Z
LAST-MODIFIED:20250930T184231Z
UID:13073-1760346000-1760533200@themobmom.com
SUMMARY:Fall Break STEM Halloween Camp
DESCRIPTION:Fall Break STEM Halloween Camp \nBats\, Minecraft pumpkin carvings\, candy corn challenges\, and more! Join us for a spooky mix of science\, engineering\, and Halloween fun!
URL:https://themobmom.com/event/fall-break-stem-halloween-camp/
LOCATION:26050 Equity Dr Suite F\, Daphne\, AL\, 26050 Equity Dr Suite F\, Daphne\, AL\, 36526\, United States
ATTACH;FMTTYPE=image/jpeg:https://themobmom.com/wp-content/uploads/2025/09/557624185_1103479758577196_2823435739513281603_n.jpg
END:VEVENT
BEGIN:VEVENT
DTSTART;VALUE=DATE:20251015
DTEND;VALUE=DATE:20251016
DTSTAMP:20260423T235842
CREATED:20251012T045414Z
LAST-MODIFIED:20251012T045414Z
UID:13302-1760486400-1760572799@themobmom.com
SUMMARY:National Fossil Day
DESCRIPTION:Step back in time with us for the annual National Fossil Day celebration! Discover the fascinating history of our region\, explore Alabama’s incredible fossils\, and get the scoop on exciting new paleontological discoveries. Also\, channel your inner paleontologist in our hands-on DIY fossil excavation activity! \n9:00 AM – GULF STATE PARK HISTORY HIKE. Discover the history of Gulf State Park from the Indigenous peoples and European settlers to the Civilian Conservation Corps and the impact they had. Hikers will also learn about some of the prehistoric plants and animals that roamed the land! Meet at the Gulf Oak Ridge Trailhead – Location: https://w3w.co/bronzes.plasmas.ongoing \n10:30 AM – TRACKS ACROSS TIME. Learn about Alabama’s geology and discover why we have such a rich fossil record. Meet at the Learning Campus at Gulf State Park. Meet at the Learning Campus – Location: https://w3w.co/spokes.gadgetry.charts \n1:00 PM – ALABAMA SEA MONSTERS. Examine the incredible fossil evidence left behind by these remarkable creatures and learn about the discoveries that changed the way we look at the Gulf Coast of today. Meet at the Learning Campus – Location: https://w3w.co/spokes.gadgetry.charts \n2:30 PM – DIY FOSSIL EXCAVATION ($20/participant*). Learn all about Paleontologists and Archeologists\, what they do\, and how to be one! After the short lesson\, you will have the opportunity to participate in your very own Paleo-tastic excavation\, identify what you’ve found\, and take it home to show your friends! Meet at the Learning Campus – Location: https://w3w.co/avoid.sprouted.benches\n*Please register before 10/13/2025 to secure your spot : https://www.hisawyer.com/…/schedules/activity-set/1622889 . \n4:00 PM – ALABAMA PALEONTOLOGY DISCOVERY. Hear from Dr. Andrew Gentry about the fossil discovery\, research\, and naming of a new sea turtle species\, Ueloca colemanorum. Meet at the Learning Campus – Location: https://w3w.co/spokes.gadgetry.charts \nFor more information…\ncall 251-923-3101 or email info@learningcampusgsp.com
URL:https://themobmom.com/event/national-fossil-day/
LOCATION:Learning Campus at Gulf State Park
ATTACH;FMTTYPE=image/png:https://themobmom.com/wp-content/uploads/2025/10/National-Fossil-Day-2025.png
END:VEVENT
END:VCALENDAR