BEGIN:VCALENDAR
VERSION:2.0
PRODID:-//MOB Moms - ECPv6.15.1.1//NONSGML v1.0//EN
CALSCALE:GREGORIAN
METHOD:PUBLISH
X-ORIGINAL-URL:https://themobmom.com
X-WR-CALDESC:Events for MOB Moms
REFRESH-INTERVAL;VALUE=DURATION:PT1H
X-Robots-Tag:noindex
X-PUBLISHED-TTL:PT1H
BEGIN:VTIMEZONE
TZID:UTC
BEGIN:STANDARD
TZOFFSETFROM:+0000
TZOFFSETTO:+0000
TZNAME:UTC
DTSTART:20250101T000000
END:STANDARD
END:VTIMEZONE
BEGIN:VEVENT
DTSTART;TZID=UTC:20251003T160000
DTEND;TZID=UTC:20251030T210000
DTSTAMP:20260423T235401
CREATED:20250923T130109Z
LAST-MODIFIED:20250923T130109Z
UID:12973-1759507200-1761858000@themobmom.com
SUMMARY:Wales West Pumpkin Patch Express
DESCRIPTION:Come ride “Dame Ann”\, an authentic steam locomotive\, to the Pumpkin Patch and spooky maze (optional). 4-7pm Kiddy friendly day train. 7PM starts the SCARY night train. Everyone gets a FREE pumpkin! Refreshments\, mini train rides\, hay-less hayride\, and bounce house included in your ticket. Enjoy the potato Cannon for a slight fee. Food will be available for purchase at our Café (traditional fare) and Concessions stand (Kettle Corn and other treats). We also have a Gift Shop\, perfect for the train enthusiast!
URL:https://themobmom.com/event/wales-west-pumpkin-patch-express/
LOCATION:Wales West\, Silverhill\, Alabama
ATTACH;FMTTYPE=image/jpeg:https://themobmom.com/wp-content/uploads/2025/09/542756495_1297790649043687_3738784391329975127_n.jpg
END:VEVENT
BEGIN:VEVENT
DTSTART;TZID=UTC:20251009T100000
DTEND;TZID=UTC:20251012T170000
DTSTAMP:20260423T235401
CREATED:20250923T131637Z
LAST-MODIFIED:20250923T131637Z
UID:12975-1760004000-1760288400@themobmom.com
SUMMARY:The 52nd Annual Shrimp Festival
DESCRIPTION: It’s food\, it’s art\, it’s music\, it’s Alabama’s ORIGINAL beach party.\nAll are invited to the 52nd edition of the Annual National Shrimp Festival. What started as a celebration of the seafood industry has grown into a four day vacation destination.\nSince 1971 our festival has been FREE to attend\, overlooking the beautiful beaches of Gulf Shores\, Alabama. Come out and join 100\,000 of your closest friends to see over 300+ food & art vendors along with two stages showcasing local & national entertainment acts.\nWhat are you waiting for? Learn more by visiting us at www.myshrimpfest.com___________\n FESTIVAL HOURS:\n• Thursday\, October 9th – 10 a.m. to 10 p.m.\n• Friday\, October 10th – 10 a.m. to 10 p.m.\n• Saturday\, October 11th – 10 a.m. to 10 p.m.\n• Sunday\, October 12th – 10 a.m. to 5 p.m.
URL:https://themobmom.com/event/the-52nd-annual-shrimp-festival/
LOCATION:101 Gulf Shores Pkwy
ATTACH;FMTTYPE=image/jpeg:https://themobmom.com/wp-content/uploads/2025/09/527182681_1298882488471170_1620578096121871265_n.jpg
END:VEVENT
BEGIN:VEVENT
DTSTART;TZID=UTC:20251010T173000
DTEND;TZID=UTC:20251010T193000
DTSTAMP:20260423T235401
CREATED:20250923T132847Z
LAST-MODIFIED:20250923T132847Z
UID:12982-1760117400-1760124600@themobmom.com
SUMMARY:Halloween Mom & Me Canvas Class
DESCRIPTION:Grab Your little for a fun mom and me class!!! Adults will paint a 16×20 while your little paints an 11×14; all canvases are pre-sketched for easy painting\, PLUS step by step instructions provided but the artist. Choose your paintings and come have a fun night painting! Must sign up by October 8th Sign up by going to www.rosedowndesigns.com
URL:https://themobmom.com/event/halloween-mom-me-canvas-class/
LOCATION:Rosedown Designs\, 25945 CR 181\, Daphne\, AL\, 36526\, United States
ATTACH;FMTTYPE=image/jpeg:https://themobmom.com/wp-content/uploads/2025/09/546472559_1412606344205964_685246360509154819_n.jpg
END:VEVENT
BEGIN:VEVENT
DTSTART;TZID=UTC:20251010T180000
DTEND;TZID=UTC:20251010T210000
DTSTAMP:20260423T235401
CREATED:20250923T012301Z
LAST-MODIFIED:20250923T012301Z
UID:12959-1760119200-1760130000@themobmom.com
SUMMARY:LODA Artwalk Celebrates Halloween
DESCRIPTION:LODA ArtWalk is a free monthly event that showcases our visual\, performing\, and culinary arts community. The theme changes every month\, and this month’s theme is Halloween. \nFrom 6 p.m. to 9 p.m. on Friday\, October 10\, join us to explore local vendors\, live music\, and captivating art. Plus\, visit the Kids’ Zone to make crafts\, get your face painted\, and more.\nLearn more at https://www.cityofmobile.org/events/\nBy attending this event\, you agree to be photographed. For further inquiries\, please email events@cityofmobile.org.
URL:https://themobmom.com/event/loda-artwalk-celebrates-halloween-2/
LOCATION:Downtown Mobile
ATTACH;FMTTYPE=image/jpeg:https://themobmom.com/wp-content/uploads/2025/09/534585204_1212841167538159_34511019683477944_n.jpg
END:VEVENT
END:VCALENDAR