BEGIN:VCALENDAR
VERSION:2.0
PRODID:-//MOB Moms - ECPv6.15.1.1//NONSGML v1.0//EN
CALSCALE:GREGORIAN
METHOD:PUBLISH
X-WR-CALNAME:MOB Moms
X-ORIGINAL-URL:https://themobmom.com
X-WR-CALDESC:Events for MOB Moms
REFRESH-INTERVAL;VALUE=DURATION:PT1H
X-Robots-Tag:noindex
X-PUBLISHED-TTL:PT1H
BEGIN:VTIMEZONE
TZID:America/Chicago
BEGIN:DAYLIGHT
TZOFFSETFROM:-0600
TZOFFSETTO:-0500
TZNAME:CDT
DTSTART:20250309T080000
END:DAYLIGHT
BEGIN:STANDARD
TZOFFSETFROM:-0500
TZOFFSETTO:-0600
TZNAME:CST
DTSTART:20251102T070000
END:STANDARD
END:VTIMEZONE
BEGIN:VTIMEZONE
TZID:UTC
BEGIN:STANDARD
TZOFFSETFROM:+0000
TZOFFSETTO:+0000
TZNAME:UTC
DTSTART:20250101T000000
END:STANDARD
END:VTIMEZONE
BEGIN:VEVENT
DTSTART;VALUE=DATE:20250908
DTEND;VALUE=DATE:20251009
DTSTAMP:20260423T235229
CREATED:20250909T042042Z
LAST-MODIFIED:20250909T163434Z
UID:12688-1757289600-1759967999@themobmom.com
SUMMARY:Gabby's Dollhouse Live in Mobile\, Al | October 8th\, 2025 at 6pm
DESCRIPTION:Terrapin Station Entertainment and TEG Life Like Touring\, in association with Universal Destinations and Experiences\, present Gabby’s Dollhouse Live! Presented by Walmart\, a brand-new stage show inspired by the magical world of the global preschool sensation from DreamWorks Animation. \nIn this a-MEOW-zing musical show\, Gabby unboxes a special acorn that needs the magical touch of a rainbow to grow. But when CatRat causes a color cat-astrophe and breaks the rainbow\, Gabby and the Gabby Cats must find the colors again to set things right. \nGabby\, Pandy Paws and friends travel to the Cat-O-Sphere\, Mermaid-Lantis and some favorite Dollhouse locations in search of the colors that will make rebuilding the rainbow\, possible. Gabby’s Dollhouse Live! Presented by Walmart brings to life an exciting original story featuring incredible puppets\, dynamic staging\, a talented live show cast of singer-actor-puppeteers and songs from the beloved series\, including “Hey Gabby”\, “You Can’t Spell Meow Without Me” and “Sprinkle Party”. \n  \nGet your tickets here: https://www.ticketmaster.com/event/1B0062A29D05D8C0
URL:https://themobmom.com/event/gabbys-dollhouse-live-in-mobile-al/
LOCATION:Saenger Theatre
ATTACH;FMTTYPE=image/jpeg:https://themobmom.com/wp-content/uploads/2025/09/Gabbys-Dollhouse-event-.jpg
END:VEVENT
BEGIN:VEVENT
DTSTART;TZID=UTC:20251002T090000
DTEND;TZID=UTC:20251005T190000
DTSTAMP:20260423T235229
CREATED:20250919T133841Z
LAST-MODIFIED:20250919T133841Z
UID:12859-1759395600-1759690800@themobmom.com
SUMMARY:Kid to Kid Grand Opening
DESCRIPTION:Join us for our weekend-long Grand Opening event Thursday\, October 2nd through Sunday\, October 5th!\nWe will officially open for you to shop\, so stop by for amazing items for your kiddos\, chances to win store credit\, prizes and more!\nThank you to everyone who has helped fill our store\, we can’t wait to see you soon
URL:https://themobmom.com/event/kid-to-kid-grand-opening/
LOCATION:Kid to Kid\, Spanish Fort\, Alabama\, 36527
ATTACH;FMTTYPE=image/jpeg:https://themobmom.com/wp-content/uploads/2025/09/548279098_122139024278852463_3830687490216553234_n.jpg
END:VEVENT
BEGIN:VEVENT
DTSTART;TZID=UTC:20251003T160000
DTEND;TZID=UTC:20251030T210000
DTSTAMP:20260423T235229
CREATED:20250923T130109Z
LAST-MODIFIED:20250923T130109Z
UID:12973-1759507200-1761858000@themobmom.com
SUMMARY:Wales West Pumpkin Patch Express
DESCRIPTION:Come ride “Dame Ann”\, an authentic steam locomotive\, to the Pumpkin Patch and spooky maze (optional). 4-7pm Kiddy friendly day train. 7PM starts the SCARY night train. Everyone gets a FREE pumpkin! Refreshments\, mini train rides\, hay-less hayride\, and bounce house included in your ticket. Enjoy the potato Cannon for a slight fee. Food will be available for purchase at our Café (traditional fare) and Concessions stand (Kettle Corn and other treats). We also have a Gift Shop\, perfect for the train enthusiast!
URL:https://themobmom.com/event/wales-west-pumpkin-patch-express/
LOCATION:Wales West\, Silverhill\, Alabama
ATTACH;FMTTYPE=image/jpeg:https://themobmom.com/wp-content/uploads/2025/09/542756495_1297790649043687_3738784391329975127_n.jpg
END:VEVENT
BEGIN:VEVENT
DTSTART;TZID=UTC:20251005T100000
DTEND;TZID=UTC:20251005T150000
DTSTAMP:20260423T235229
CREATED:20250923T010128Z
LAST-MODIFIED:20250923T010128Z
UID:12942-1759658400-1759676400@themobmom.com
SUMMARY:Mobile Bay Maker's Market
DESCRIPTION:Come out and enjoy shopping local with our fantastic vendors!\nSpecial thanks to Hope Community for the wonderful location and to Rock and Roll Offs for sponsorship of the portables!
URL:https://themobmom.com/event/mobile-bay-makers-market-5/
LOCATION:6925 Twin Beech Rd\, Fairhope\, AL
ATTACH;FMTTYPE=image/jpeg:https://themobmom.com/wp-content/uploads/2025/09/510269276_1048245170765631_4966867083478504111_n.jpg
END:VEVENT
BEGIN:VEVENT
DTSTART;TZID=UTC:20251005T110000
DTEND;TZID=UTC:20251005T180000
DTSTAMP:20260423T235229
CREATED:20250923T011940Z
LAST-MODIFIED:20250923T011940Z
UID:12956-1759662000-1759687200@themobmom.com
SUMMARY:5th Annual Family Fun Day
DESCRIPTION:Pop’s Midtown 5th Annual Family Fun Day is BACK and BIGGER THAN EVER!!\nThis year\, we’re taking the celebration to the streets for our very first BLOCK PARTY – and you’re invited! \nWe’ve listened to your feedback\, and we’re making it easier (and more fun!) than ever to join us: FREE Admission NO Lines to Get In EXTENDED Hours: 11am–6pm\n Mark your calendar for Sunday\, October 5th and bring the whole family to Midtown for a full day of fall fun.\nHere’s just a taste of what’s waiting for you: Exotic Petting Zoo Giant Inflatables Park Face Painting & Kids’ Carnival Games The Famous Corn Box Live Music & Entertainment Frozen Apple Cider + Fall Treats Food Trucks & Vendor Market Special Character Appearances…and so much more!\nOf course\, the highlight of the day is a visit to Mobile’s Cutest Pumpkin Patch with brand-new photo themes and family-friendly fun that you won’t want to miss. \n Tickets for carnival games and attractions will be available for purchase in-store or day-of.\n Bring the family\, leave with a tradition. Pop’s Midtown Pumpkin Patch is your fall family tradition in the Heart of Mobile!
URL:https://themobmom.com/event/5th-annual-family-fun-day/
LOCATION:Pop’s Midtown
ATTACH;FMTTYPE=image/jpeg:https://themobmom.com/wp-content/uploads/2025/09/536276131_1326158462842329_6288421709774137963_n.jpg
END:VEVENT
BEGIN:VEVENT
DTSTART;TZID=UTC:20251005T120000
DTEND;TZID=UTC:20251005T150000
DTSTAMP:20260423T235229
CREATED:20250930T184809Z
LAST-MODIFIED:20250930T184809Z
UID:13076-1759665600-1759676400@themobmom.com
SUMMARY:Howl-O-Ween Extravaganza
DESCRIPTION:New beer release\, pet costume contest\, live music\, raffles\, and prizes!
URL:https://themobmom.com/event/howl-o-ween-extravaganza/
LOCATION:Braided River Brewing Co\, Mobile\, Alabama
ATTACH;FMTTYPE=image/jpeg:https://themobmom.com/wp-content/uploads/2025/09/536085755_1055808486758030_7421620191907688495_n.jpg
END:VEVENT
BEGIN:VEVENT
DTSTART;TZID=America/Chicago:20251005T130000
DTEND;TZID=America/Chicago:20251005T170000
DTSTAMP:20260423T235229
CREATED:20250926T152120Z
LAST-MODIFIED:20250926T152120Z
UID:13029-1759669200-1759683600@themobmom.com
SUMMARY:Free First Sunday
DESCRIPTION:Visit any time from 1:00 pm – 5:00pm and enjoy free admission into the History Museum of Mobile\, Colonial Fort Conde\, and the Phoenix Fire Museum!
URL:https://themobmom.com/event/free-first-sunday/
LOCATION:History Museum of Mobile
ATTACH;FMTTYPE=image/jpeg:https://themobmom.com/wp-content/uploads/2025/09/free-first-sunday.jpg
END:VEVENT
BEGIN:VEVENT
DTSTART;TZID=UTC:20251005T170000
DTEND;TZID=UTC:20251005T190000
DTSTAMP:20260423T235229
CREATED:20250923T000302Z
LAST-MODIFIED:20250923T000302Z
UID:12899-1759683600-1759690800@themobmom.com
SUMMARY:Fall Paint Party
DESCRIPTION:Fall Paint Party with Local Artist Vanna Uptagraft! Get ready for a cozy afternoon of creativity and fun! We’re teaming up with local artist Vanna Uptagraft for a Fall Paint Party filled with pumpkins\, autumn leaves\, spooky ghosts\, and more! Vanna will guide you step-by-step as you create your own fall-inspired masterpiece on canvas. Event Details: Sunday\, October 5:00-7:00 PM $65 per person (tickets are limited!)Venmo to reserve: TaylorludlamYour ticket includes: All painting supplies and canvas Step-by-step instruction from Vanna Refreshments Shopping opportunities from local vendors Bring your favorite wine and your girlfriends for a perfect Girls’ Day Out filled with laughter\, creativity\, and fall vibes! Reserve your spot today—seating is limited!
URL:https://themobmom.com/event/fall-paint-party/
LOCATION:Collective Studio\, Dauphin St
ATTACH;FMTTYPE=image/jpeg:https://themobmom.com/wp-content/uploads/2025/09/543167284_122136175634867361_7006465518696870314_n.jpg
END:VEVENT
END:VCALENDAR