BEGIN:VCALENDAR
VERSION:2.0
PRODID:-//MOB Moms - ECPv6.15.1.1//NONSGML v1.0//EN
CALSCALE:GREGORIAN
METHOD:PUBLISH
X-ORIGINAL-URL:https://themobmom.com
X-WR-CALDESC:Events for MOB Moms
REFRESH-INTERVAL;VALUE=DURATION:PT1H
X-Robots-Tag:noindex
X-PUBLISHED-TTL:PT1H
BEGIN:VTIMEZONE
TZID:America/Chicago
BEGIN:DAYLIGHT
TZOFFSETFROM:-0600
TZOFFSETTO:-0500
TZNAME:CDT
DTSTART:20250309T080000
END:DAYLIGHT
BEGIN:STANDARD
TZOFFSETFROM:-0500
TZOFFSETTO:-0600
TZNAME:CST
DTSTART:20251102T070000
END:STANDARD
END:VTIMEZONE
BEGIN:VTIMEZONE
TZID:UTC
BEGIN:STANDARD
TZOFFSETFROM:+0000
TZOFFSETTO:+0000
TZNAME:UTC
DTSTART:20250101T000000
END:STANDARD
END:VTIMEZONE
BEGIN:VEVENT
DTSTART;VALUE=DATE:20250908
DTEND;VALUE=DATE:20251009
DTSTAMP:20260423T235314
CREATED:20250909T042042Z
LAST-MODIFIED:20250909T163434Z
UID:12688-1757289600-1759967999@themobmom.com
SUMMARY:Gabby's Dollhouse Live in Mobile\, Al | October 8th\, 2025 at 6pm
DESCRIPTION:Terrapin Station Entertainment and TEG Life Like Touring\, in association with Universal Destinations and Experiences\, present Gabby’s Dollhouse Live! Presented by Walmart\, a brand-new stage show inspired by the magical world of the global preschool sensation from DreamWorks Animation. \nIn this a-MEOW-zing musical show\, Gabby unboxes a special acorn that needs the magical touch of a rainbow to grow. But when CatRat causes a color cat-astrophe and breaks the rainbow\, Gabby and the Gabby Cats must find the colors again to set things right. \nGabby\, Pandy Paws and friends travel to the Cat-O-Sphere\, Mermaid-Lantis and some favorite Dollhouse locations in search of the colors that will make rebuilding the rainbow\, possible. Gabby’s Dollhouse Live! Presented by Walmart brings to life an exciting original story featuring incredible puppets\, dynamic staging\, a talented live show cast of singer-actor-puppeteers and songs from the beloved series\, including “Hey Gabby”\, “You Can’t Spell Meow Without Me” and “Sprinkle Party”. \n  \nGet your tickets here: https://www.ticketmaster.com/event/1B0062A29D05D8C0
URL:https://themobmom.com/event/gabbys-dollhouse-live-in-mobile-al/
LOCATION:Saenger Theatre
ATTACH;FMTTYPE=image/jpeg:https://themobmom.com/wp-content/uploads/2025/09/Gabbys-Dollhouse-event-.jpg
END:VEVENT
BEGIN:VEVENT
DTSTART;TZID=UTC:20251002T090000
DTEND;TZID=UTC:20251005T190000
DTSTAMP:20260423T235314
CREATED:20250919T133841Z
LAST-MODIFIED:20250919T133841Z
UID:12859-1759395600-1759690800@themobmom.com
SUMMARY:Kid to Kid Grand Opening
DESCRIPTION:Join us for our weekend-long Grand Opening event Thursday\, October 2nd through Sunday\, October 5th!\nWe will officially open for you to shop\, so stop by for amazing items for your kiddos\, chances to win store credit\, prizes and more!\nThank you to everyone who has helped fill our store\, we can’t wait to see you soon
URL:https://themobmom.com/event/kid-to-kid-grand-opening/
LOCATION:Kid to Kid\, Spanish Fort\, Alabama\, 36527
ATTACH;FMTTYPE=image/jpeg:https://themobmom.com/wp-content/uploads/2025/09/548279098_122139024278852463_3830687490216553234_n.jpg
END:VEVENT
BEGIN:VEVENT
DTSTART;TZID=UTC:20251003T160000
DTEND;TZID=UTC:20251030T210000
DTSTAMP:20260423T235314
CREATED:20250923T130109Z
LAST-MODIFIED:20250923T130109Z
UID:12973-1759507200-1761858000@themobmom.com
SUMMARY:Wales West Pumpkin Patch Express
DESCRIPTION:Come ride “Dame Ann”\, an authentic steam locomotive\, to the Pumpkin Patch and spooky maze (optional). 4-7pm Kiddy friendly day train. 7PM starts the SCARY night train. Everyone gets a FREE pumpkin! Refreshments\, mini train rides\, hay-less hayride\, and bounce house included in your ticket. Enjoy the potato Cannon for a slight fee. Food will be available for purchase at our Café (traditional fare) and Concessions stand (Kettle Corn and other treats). We also have a Gift Shop\, perfect for the train enthusiast!
URL:https://themobmom.com/event/wales-west-pumpkin-patch-express/
LOCATION:Wales West\, Silverhill\, Alabama
ATTACH;FMTTYPE=image/jpeg:https://themobmom.com/wp-content/uploads/2025/09/542756495_1297790649043687_3738784391329975127_n.jpg
END:VEVENT
BEGIN:VEVENT
DTSTART;TZID=UTC:20251004T090000
DTEND;TZID=UTC:20251004T160000
DTSTAMP:20260423T235314
CREATED:20251002T194912Z
LAST-MODIFIED:20251002T194912Z
UID:13141-1759568400-1759593600@themobmom.com
SUMMARY:Olde Time Days
DESCRIPTION:Olde Time Days 2025 – Stage Lineup! \n\n\nGet ready for a full day of music\, announcements\, and fun at Bicentennial Park\, Stockton on Saturday\, October 4\, 2025! Come early\, stay late\, and enjoy the amazing performances that celebrate Baldwin County history and community spirit!
URL:https://themobmom.com/event/olde-time-days/
LOCATION:Bicentennial Park
ATTACH;FMTTYPE=image/jpeg:https://themobmom.com/wp-content/uploads/2025/10/553719422_1107534631553483_7101824181651967902_n.jpg
END:VEVENT
BEGIN:VEVENT
DTSTART;TZID=UTC:20251004T100000
DTEND;TZID=UTC:20251004T140000
DTSTAMP:20260423T235314
CREATED:20250923T005036Z
LAST-MODIFIED:20250923T005036Z
UID:12936-1759572000-1759586400@themobmom.com
SUMMARY:Iron Sharpens Iron BBQ Cook-Off
DESCRIPTION:Come hungry. Leave inspired\nJoin us for a sizzling celebration of food\, fellowship\, and community impact at the New Harvest Ministry Iron Sharpens Iron BBQ Cook-Off\, happening on Saturday\, October 4\, 2025\, from 10 AM to 2 PM at Mardi Gras Park (109 Government St.\, Mobile\, AL 36602).\nThis year’s event isn’t just about bold flavors and backyard bragging rights—it’s about purpose. Proceeds benefit Big Brothers Big Sisters of the Central Gulf Coast\, a life-changing organization that empowers youth through mentorship and support.\n **What to Expect**:–  BBQ Cook-Off Competitions–  Vendors showcasing local goods & services–  Delicious bites–  Community\, connection\, and a cause worth supporting\n Tickets: $10 General Admission\nBBQ Team Entry: $125 | Vendor Fee: $50\nWhether you’re tasting\, grilling\, selling\, or just soaking it all in—this is where the heat meets the heart. Come for the flavor. Stay for the impact.
URL:https://themobmom.com/event/iron-sharpens-iron-bbq-cook-off/
LOCATION:Mardi Gras Park
ATTACH;FMTTYPE=image/jpeg:https://themobmom.com/wp-content/uploads/2025/09/510846167_1130561259103259_1538370047438314238_n.jpg
END:VEVENT
BEGIN:VEVENT
DTSTART;TZID=UTC:20251004T100000
DTEND;TZID=UTC:20251004T140000
DTSTAMP:20260423T235314
CREATED:20250923T010540Z
LAST-MODIFIED:20250923T010540Z
UID:12946-1759572000-1759586400@themobmom.com
SUMMARY:Oct-SHOW-ber Fest
DESCRIPTION:JOIN US FOR THE 2ND ANNUAL OCT-SHOW-BER FEST!�A Special Needs Fall Festival Presented by SHOW Baldwin\n– Saturday\, October 4\, 2025�– 10:00 A.M. – 2:00 P.M.�– Loxley Municipal Park – N Hickory St\, Loxley\, AL 36551\nWe’re proud to invite individuals with special needs\, disabilities\, and their families to this sensory-friendly fall celebration made just for YOU!\nThis inclusive event is thoughtfully designed for our community\, with:�*Carnival-style games�*Prizes for everyone�*Live entertainment�*Concessions�*Sensory play areas�*An enclosed playground for safety� … and so much more!\nAfter an incredible turnout last year in Foley\, we’ve moved to a larger\, more central location in Baldwin County for easier access to our North Baldwin families. The park also provides more space to prevent crowding and long lines. Loxley also provides a fully enclosed playground for safety.
URL:https://themobmom.com/event/oct-show-ber-fest/
LOCATION:Loxley Municipal Park
ATTACH;FMTTYPE=image/jpeg:https://themobmom.com/wp-content/uploads/2025/09/524781129_122180875226359300_902132522759742914_n.jpg
END:VEVENT
BEGIN:VEVENT
DTSTART;TZID=UTC:20251004T100000
DTEND;TZID=UTC:20251004T170000
DTSTAMP:20260423T235314
CREATED:20250919T133330Z
LAST-MODIFIED:20250919T133330Z
UID:12855-1759572000-1759597200@themobmom.com
SUMMARY:11th Annual Alligators and Ale
DESCRIPTION:Mark your calendars for the 11th Annual Alligators & Ale Music Fest and BBQ Cookoff – happening Saturday\, October 4th\, 2025 from 10AM–5PM at Alligator Alley in Summerdale\, AL!\n What’s Cookin’?• BBQ Rib Tasting kicks off at 12:00 PM• Alligator Demo by Wes Moore himself at 11:00 AM• Beer flowing all day • Live music from local favorite Chitlin Switch\, and ACM Vocal Duo of the Year Thompson Square hitting the stage at 2:30 PM! \n Tickets:• General Admission – $65 (Kids 6 & under FREE!)• Includes: All-day access to Alligator Alley\, BBQ samples\, and live music \n BBQ Cookoff Teams – $500• Includes 6 team members• Need more team hands? Add up to 4 more at $40 each\n Bring your lawn chairs or blankets and spend the day eating\, drinking\, dancing\, and gator-gazing — all for a great cause!  Proceeds benefit disadvantaged children\, Military Veterans\, and other local charity organizations.
URL:https://themobmom.com/event/11th-annual-alligators-and-ale/
LOCATION:Alligator Alley\, Summerdale
ATTACH;FMTTYPE=image/jpeg:https://themobmom.com/wp-content/uploads/2025/09/AA-2025.jpg
END:VEVENT
BEGIN:VEVENT
DTSTART;TZID=UTC:20251004T103000
DTEND;TZID=UTC:20251004T233000
DTSTAMP:20260423T235314
CREATED:20250923T002519Z
LAST-MODIFIED:20250923T002519Z
UID:12914-1759573800-1759620600@themobmom.com
SUMMARY:Saturday Storytime
DESCRIPTION:It’s Storytime! But on Saturday! Join us in the community room on October 4th at 10:30 am for songs\, stories\, and tons of fun!
URL:https://themobmom.com/event/saturday-storytime/
LOCATION:Daphne Public Library\, Daphne\, Alabama\, 36526
ATTACH;FMTTYPE=image/jpeg:https://themobmom.com/wp-content/uploads/2025/09/548192394_817742274096668_3134322104693777602_n.jpg
END:VEVENT
BEGIN:VEVENT
DTSTART;TZID=UTC:20251004T110000
DTEND;TZID=UTC:20251004T160000
DTSTAMP:20260423T235314
CREATED:20250930T182643Z
LAST-MODIFIED:20250930T182643Z
UID:13069-1759575600-1759593600@themobmom.com
SUMMARY:6th Annual Pumpkin Patch
DESCRIPTION:We are thrilled to be hosting our 6th Annual Pumpkin Patch\, the first one at the new studio!! Join us Saturday\, October 4 from 11am – 4pm for handmade pumpkins\, snacks and treats\, photo opps\, and more! PLUS\, carve your own pumpkin for $40 to have fired and glazed at our studio!
URL:https://themobmom.com/event/6th-annual-pumpkin-patch/
LOCATION:The Kiln Studio & Gallery\, Fairhope
ATTACH;FMTTYPE=image/jpeg:https://themobmom.com/wp-content/uploads/2025/09/540985258_1405573634353428_7466662787153033613_n.jpg
END:VEVENT
BEGIN:VEVENT
DTSTART;TZID=UTC:20251004T140000
DTEND;TZID=UTC:20251004T200000
DTSTAMP:20260423T235314
CREATED:20250923T123715Z
LAST-MODIFIED:20250923T123715Z
UID:12967-1759586400-1759608000@themobmom.com
SUMMARY:Oktoberfest
DESCRIPTION:Break out your lederhosen and get ready for a day full of Bavarian-inspired fun! Oktoberfest at Downtown OWA returns on October 4th\, bringing authentic flair with live music\, crafts\, food\, drinks\, classic contests\, and more.\nKick off the day with the Foley Sister Cities 5K\, a fundraiser supporting local students and community initiatives. Then stick around for some of Oktoberfest’s most beloved traditions: test your strength in the Stein Holding Competition\, cheer on furry friends at the Dachshund Derby\, and see who takes home the prize in the Brat Eating Contest.\nWith lively entertainment\, festive bites\, and German-inspired activities for all ages\, this is one fall celebration you won’t want to miss. Check out all the details below: https://visitowa.com/oktoberfest/.\nSchedule of Events:All Day: Photo ops at the Hershey’s Flowerbed9:00am-until: Sister City 5K | Register today: https://visitowa.com/oktoberfest/.2:00pm-8:00pm:• Arts and Crafts Vendors throughout Downtown OWA and Festival Grounds• Stilt Walkers throughout Downtown OWA• Apple Cider Booth in front of Bikini Blini Bakery• DIY Lebkuchen at the Splashpad• Inflatable Corn Maze on OWA Island | Ages 5+ Recommended• Live DJ music on the Festival Grounds• Bavarian Twister on the Festival Grounds• Carnival Games at the Downtown Fountain• DIY Pretzel Necklaces at the Native Treasures Alcove• Alpine Hat Kid’s Craft at the Native Treasures Alcove• Oktoberfest-themed Craft by Uniquely Clever at the Waffles R Wild Alcove• German Themed Craft by Artlink at the Native Treasures Alcove• Free Facepainting at the Native Treasures Alcove• German Spelling Bee at Towne Tap• Oktoberfest Trivia at Towne Tap2:30pm-3:00pm: Live Clogger Performance by the Salty Stompers on the Festival Grounds3:00pm-4:00pm: Dachshund Derby on the Festival Grounds3:00pm-3:30pm: Kid’s Stein Holding Competition on the Island Stage | Test your strength and endurance with this challenge to see how long you can hold a full stein at arm’s length!
URL:https://themobmom.com/event/oktoberfest/
LOCATION:Downtown OWA
ATTACH;FMTTYPE=image/jpeg:https://themobmom.com/wp-content/uploads/2025/09/547924366_1096728545977821_2230407898242629939_n.jpg
END:VEVENT
END:VCALENDAR