BEGIN:VCALENDAR
VERSION:2.0
PRODID:-//MOB Moms - ECPv6.15.1.1//NONSGML v1.0//EN
CALSCALE:GREGORIAN
METHOD:PUBLISH
X-ORIGINAL-URL:https://themobmom.com
X-WR-CALDESC:Events for MOB Moms
REFRESH-INTERVAL;VALUE=DURATION:PT1H
X-Robots-Tag:noindex
X-PUBLISHED-TTL:PT1H
BEGIN:VTIMEZONE
TZID:America/Chicago
BEGIN:DAYLIGHT
TZOFFSETFROM:-0600
TZOFFSETTO:-0500
TZNAME:CDT
DTSTART:20250309T080000
END:DAYLIGHT
BEGIN:STANDARD
TZOFFSETFROM:-0500
TZOFFSETTO:-0600
TZNAME:CST
DTSTART:20251102T070000
END:STANDARD
END:VTIMEZONE
BEGIN:VTIMEZONE
TZID:UTC
BEGIN:STANDARD
TZOFFSETFROM:+0000
TZOFFSETTO:+0000
TZNAME:UTC
DTSTART:20250101T000000
END:STANDARD
END:VTIMEZONE
BEGIN:VEVENT
DTSTART;VALUE=DATE:20250908
DTEND;VALUE=DATE:20251009
DTSTAMP:20260424T011819
CREATED:20250909T042042Z
LAST-MODIFIED:20250909T163434Z
UID:12688-1757289600-1759967999@themobmom.com
SUMMARY:Gabby's Dollhouse Live in Mobile\, Al | October 8th\, 2025 at 6pm
DESCRIPTION:Terrapin Station Entertainment and TEG Life Like Touring\, in association with Universal Destinations and Experiences\, present Gabby’s Dollhouse Live! Presented by Walmart\, a brand-new stage show inspired by the magical world of the global preschool sensation from DreamWorks Animation. \nIn this a-MEOW-zing musical show\, Gabby unboxes a special acorn that needs the magical touch of a rainbow to grow. But when CatRat causes a color cat-astrophe and breaks the rainbow\, Gabby and the Gabby Cats must find the colors again to set things right. \nGabby\, Pandy Paws and friends travel to the Cat-O-Sphere\, Mermaid-Lantis and some favorite Dollhouse locations in search of the colors that will make rebuilding the rainbow\, possible. Gabby’s Dollhouse Live! Presented by Walmart brings to life an exciting original story featuring incredible puppets\, dynamic staging\, a talented live show cast of singer-actor-puppeteers and songs from the beloved series\, including “Hey Gabby”\, “You Can’t Spell Meow Without Me” and “Sprinkle Party”. \n  \nGet your tickets here: https://www.ticketmaster.com/event/1B0062A29D05D8C0
URL:https://themobmom.com/event/gabbys-dollhouse-live-in-mobile-al/
LOCATION:Saenger Theatre
ATTACH;FMTTYPE=image/jpeg:https://themobmom.com/wp-content/uploads/2025/09/Gabbys-Dollhouse-event-.jpg
END:VEVENT
BEGIN:VEVENT
DTSTART;TZID=UTC:20250909T040000
DTEND;TZID=UTC:20250930T173000
DTSTAMP:20260424T011819
CREATED:20250904T210007Z
LAST-MODIFIED:20250904T210007Z
UID:12618-1757390400-1759253400@themobmom.com
SUMMARY:Kids Hand-Building with Jennifer Graham
DESCRIPTION:SEPTEMBER 9-30\, TUESDAYS – 4:00-5:30\nIt’s never too early to catch the clay bug! Begin your journey with this ancient and versatile material with this 4-week course.\nIn this four-week class\, your child will create functional and sculptural works of art in clay.\nThey will engage their hands and their imagination as they explore their creativity with this ancient artform.
URL:https://themobmom.com/event/kids-hand-building-with-jennifer-graham/
LOCATION:Mobile Museum of Art
ATTACH;FMTTYPE=image/jpeg:https://themobmom.com/wp-content/uploads/2025/09/500058704_1262234812572148_8304577949385687050_n.jpg
END:VEVENT
BEGIN:VEVENT
DTSTART;TZID=UTC:20250919T100000
DTEND;TZID=UTC:20250920T140000
DTSTAMP:20260424T011819
CREATED:20250918T041357Z
LAST-MODIFIED:20250918T041357Z
UID:12851-1758276000-1758376800@themobmom.com
SUMMARY:Annual Fall Market
DESCRIPTION:Join us for our Annual Fall Market\, Indoor / Outdoor Event (parking lot sale) featuring our artist & crafters. Featuring eats by Howl-N-Dogs and Parking Lot Karaoke. Friday\, Sept 19th\, 10am till 4pm & Saturday\, Sept 20th\, 9am till 2pm.
URL:https://themobmom.com/event/annual-fall-market/
LOCATION:16821 ST Hwy 181
ATTACH;FMTTYPE=image/jpeg:https://themobmom.com/wp-content/uploads/2025/09/539734286_1365820358878638_6575061788841048568_n.jpg
END:VEVENT
BEGIN:VEVENT
DTSTART;TZID=UTC:20250920T080000
DTEND;TZID=UTC:20250920T120000
DTSTAMP:20260424T011819
CREATED:20250918T040545Z
LAST-MODIFIED:20250918T040545Z
UID:12846-1758355200-1758369600@themobmom.com
SUMMARY:Grounds Day Cleanup with Alabama Coastal Cleanup
DESCRIPTION:Join us for Grounds Day Cleanup\, a morning of giving back to the land we love! \nWe’re excited to partner with the Alabama Coastal Cleanup as one of their official zones this year. Together\, we’ll clear trails\, spruce up play spaces\, care for the creek\, and remove litter that doesn’t belong in our forests or waterways. Every bag filled makes a real difference for our children\, our community\, and the Gulf ecosystem we all depend on.\nWhether you’re a parent\, student\, alumni\, or friend of Nature Connect\, this is a chance to roll up your sleeves\, get outside\, and make a tangible impact.
URL:https://themobmom.com/event/grounds-day-cleanup-with-alabama-coastal-cleanup/
LOCATION:7159 McIntyre St\, Fairhope\, Al
END:VEVENT
BEGIN:VEVENT
DTSTART;TZID=UTC:20250920T090000
DTEND;TZID=UTC:20250920T130000
DTSTAMP:20260424T011819
CREATED:20250918T035751Z
LAST-MODIFIED:20250918T035751Z
UID:12840-1758358800-1758373200@themobmom.com
SUMMARY:Fall Arts and Crafts Show
DESCRIPTION:ARTS & SHOWSaturday\, September 209 am-1 pm\, Eastern Shore Baptist Church Gym
URL:https://themobmom.com/event/fall-arts-and-crafts-show/
LOCATION:Eastern Shore Baptist\, Daphne\, Alabama\, 36526
ATTACH;FMTTYPE=image/jpeg:https://themobmom.com/wp-content/uploads/2025/09/523296385_1184523177039523_557794525616566031_n.jpg
END:VEVENT
BEGIN:VEVENT
DTSTART;TZID=UTC:20250920T100000
DTEND;TZID=UTC:20250920T130000
DTSTAMP:20260424T011819
CREATED:20250904T205411Z
LAST-MODIFIED:20250904T205411Z
UID:12614-1758362400-1758373200@themobmom.com
SUMMARY:Kids Day: Young Entrepreneur Showcase
DESCRIPTION:Join us to empower our youngest business minds to run their own small business! Space is limited\, so early registration is encouraged.  Register and find important information at https://www.cityofmobile.org/events/\nYoung Entrepreneur Showcase Mobile’s next generation of business leaders ages 5-17 are invited to showcase their creativity at the Young Entrepreneur Showcase. On September 20 from 10 a.m. to 1 p.m.\, participants can sell handmade products\, offer professional services\, or promote their businesses at Innovation Portal.\nRegistration for a booth is free\, but participants must have a City of Mobile Business License in order to participate. The fee to obtain a Business License is $25. To obtain the Business License\, participants must also attend the informational session on August 30 ahead of the event.\nPitch Competition Youth ages 14-17 may also participate in a Pitch Competition! Compete by presenting your ideas to local business leaders for a chance to win exciting prizes.
URL:https://themobmom.com/event/kids-day-young-entrepreneur-showcase/
LOCATION:Innovation Portal
ATTACH;FMTTYPE=image/jpeg:https://themobmom.com/wp-content/uploads/2025/09/528582060_1086368623669669_4434361047228664141_n.jpg
END:VEVENT
BEGIN:VEVENT
DTSTART;TZID=UTC:20250920T100000
DTEND;TZID=UTC:20250920T140000
DTSTAMP:20260424T011819
CREATED:20250904T211032Z
LAST-MODIFIED:20250904T211032Z
UID:12625-1758362400-1758376800@themobmom.com
SUMMARY:First Ever Fun Run For the Skylar Project
DESCRIPTION:Join Us for the 1-Mile Fun Run/Walk! \n Date: September 20th Location: Double Ds Burger\nAdults: $25 Teams of 5+: $20/person**Early Bird Special: Just $20 until August 15th!**What’s Included? A refreshing beverage (wine\, beer\, or soda) at the finish line Raffle ticket included! Prizes await: 1st\, 2nd & 3rd place gift cards to Double D’s Burger & more!\n Merch & Registration: Tumblers\, T-shirts & goodies for sale! Photographer on-site + photo purchase options Possible DJ & Live Radio Station Coverage!\n Volunteers: Expect some colorful fun with purple & lime green powder at the finish line! (white tops recommended!)\n Face Painting & Caricatures by Kathy (12-2) Medals for all finishers & more surprises along the way!\nLet’s make this event unforgettable—your support helps us grow! Interested in becoming a sponsor? We’ll be reaching out to local police\, fire departments\, and medical facilities for potential partnerships.\n Join us for a day of health\, fun\, and community spirit!
URL:https://themobmom.com/event/first-ever-fun-run-for-the-skylar-project/
LOCATION:29001 Bass Pro Drive\, Spanish Fort
ATTACH;FMTTYPE=image/jpeg:https://themobmom.com/wp-content/uploads/2025/09/532041682_740282122324140_4802161500338024930_n.jpg
END:VEVENT
BEGIN:VEVENT
DTSTART;TZID=UTC:20250920T100000
DTEND;TZID=UTC:20250920T160000
DTSTAMP:20260424T011819
CREATED:20250918T040222Z
LAST-MODIFIED:20250918T040222Z
UID:12843-1758362400-1758384000@themobmom.com
SUMMARY:Fall Shopper's Market
DESCRIPTION:Fall Shopper’s Market Get a jumpstart on your holiday shopping while supporting great causes!\n Shop local vendors & food trucks First 50 shoppers receive a free Swag Bag! Pet Food Drive for The Haven – Bring cat or dog food or supplies to help pets in need $2 Admission (12 & Under Free) – All proceeds benefit Hunter’s Heart Foundation\nCome out for a fun day of shopping\, food\, and giving back to the community!
URL:https://themobmom.com/event/fall-shoppers-market-2/
LOCATION:Fairhope Civic Center
ATTACH;FMTTYPE=image/jpeg:https://themobmom.com/wp-content/uploads/2025/09/481828914_122199401396145569_2702324110387264016_n.jpg
END:VEVENT
BEGIN:VEVENT
DTSTART;TZID=UTC:20250920T120000
DTEND;TZID=UTC:20250920T160000
DTSTAMP:20260424T011819
CREATED:20250918T040912Z
LAST-MODIFIED:20250918T040912Z
UID:12848-1758369600-1758384000@themobmom.com
SUMMARY:Art of the Shell
DESCRIPTION:Join us for “Art of the Shell” on September 20\, 2025!\nEastern Shore Art Center invites the community to engage in creativity and education as we celebrate SHELLS! Guests will enjoy interactive booths\, a pop-up art exhibit\, art projects\, and more. This family friendly event is open to ALL AGES. Free admission!\nEvent Details:– Educational Vendors such as Mobile Baykeeper\, Alabama Coastal Foundation and South Alabama Land Trust– Permanent Jewelry by Threaded Oyster– Plant Sale hosted by The Plant Fairie– Make-and-Take art projects– Pop-up Art Exhibit with mini shell themed artworks– Cool Beans Ice Cream Truck
URL:https://themobmom.com/event/art-of-the-shell/
LOCATION:Eastern Shore Art Center
ATTACH;FMTTYPE=image/jpeg:https://themobmom.com/wp-content/uploads/2025/09/545741422_1222762993210452_6924862177123493273_n.jpg
END:VEVENT
END:VCALENDAR