BEGIN:VCALENDAR
VERSION:2.0
PRODID:-//MOB Moms - ECPv6.15.1.1//NONSGML v1.0//EN
CALSCALE:GREGORIAN
METHOD:PUBLISH
X-WR-CALNAME:MOB Moms
X-ORIGINAL-URL:https://themobmom.com
X-WR-CALDESC:Events for MOB Moms
REFRESH-INTERVAL;VALUE=DURATION:PT1H
X-Robots-Tag:noindex
X-PUBLISHED-TTL:PT1H
BEGIN:VTIMEZONE
TZID:UTC
BEGIN:STANDARD
TZOFFSETFROM:+0000
TZOFFSETTO:+0000
TZNAME:UTC
DTSTART:20250101T000000
END:STANDARD
END:VTIMEZONE
BEGIN:VTIMEZONE
TZID:America/Chicago
BEGIN:DAYLIGHT
TZOFFSETFROM:-0600
TZOFFSETTO:-0500
TZNAME:CDT
DTSTART:20250309T080000
END:DAYLIGHT
BEGIN:STANDARD
TZOFFSETFROM:-0500
TZOFFSETTO:-0600
TZNAME:CST
DTSTART:20251102T070000
END:STANDARD
END:VTIMEZONE
BEGIN:VEVENT
DTSTART;VALUE=DATE:20250906
DTEND;VALUE=DATE:20250907
DTSTAMP:20260424T011751
CREATED:20250905T164052Z
LAST-MODIFIED:20250905T164052Z
UID:12648-1757116800-1757203199@themobmom.com
SUMMARY:Gameday on The Green at Portside
DESCRIPTION:Ready to kick off your weekend with an unbeatable blend of football action and family fun? Join us for Gameday on The Green at Portside on Main\, where every Saturday transforms our green space into the ultimate college football watch party! Come early\, stay late\, and make every Saturday a touchdown for fun. See you… on The Green! \n\n\n\nWhere\nPortside on Main\n\n\nDate\nSaturday\, September 6\n\n\nTime \n\n\n\n\nAll Day\n\n\nEvent Schedule\n\n\nAll-Day Football Viewing\n\nFrom the first kickoff at 11am\, we’ve got every big college game on our giant outdoor screen. Never miss a single down\, touchdown\, or jaw-dropping play!\n\n\nFamily-Friendly Atmosphere\n\nBring your crew—kids\, friends\, and family alike. The Green is your home turf\, with plenty of space to spread out and soak in the excitement.\n\n\nCornhole & Outdoor Games\n\nShow off your skills between plays! Enjoy classic games like cornhole or challenge your family to Connect 4—all set up right on the grass.\n\n\n\nVIEWING SCHEDULE: \nThursday\, September 4: Dallas Cowboys vs Philadelphia Eagles @ 7:30 pm \nFriday\, September 5: \nSaturday\, September 6: \nSunday\, September 7: Cardinals vs Saints @ Noon \n*schedule of games is subject to change \n\n\n\nCost\n\nFREE \n\n\n\nOther\n\nDeals + Specials \n\nKilwins: FREE chocolate dipped waffle cone\, with the purchase of any size regular waffle cone\nGulf Babe: “First Down Frose” $10 Frose all gameday long and “Bloody Mary Blitz” $5 off Bloody Mary Boards (includes 2 Bloody Mary’s and all the toppings)!\nTee Off: $1.50 per wing\, $4 domestic cans\, $4 Michelob ultra draft\, $3 off all menu cocktails\, $2 off draft beer\nLittle Sunshine by the Sea: Bring your littles and join us for some tailgating fun at the Little Sunshine Tailgaters Club! Swing by to shop the pink play of the day\, pick a prize from the Touchdown Treat Bucket\, snack at the Sidelines Snack Station\, unwind in the Quiet Zone\, and enjoy more family-friendly fun all season long!”
URL:https://themobmom.com/event/gameday-on-the-green-at-portside-2/
LOCATION:Portside on Main (The Wharf)
END:VEVENT
BEGIN:VEVENT
DTSTART;TZID=America/Chicago:20250906T100000
DTEND;TZID=America/Chicago:20250906T150000
DTSTAMP:20260424T011751
CREATED:20250831T053006Z
LAST-MODIFIED:20250905T163602Z
UID:12513-1757152800-1757170800@themobmom.com
SUMMARY:10th ANNUAL CAR & CRAFT SHOW
DESCRIPTION:The 10th annual Dauphin Island Car & Craft show will be held in Cadillac Square on Sept. 6 from 10am-3pm. Along with Cars and Crafts\, we will also have food trucks: Guys Grill & Real Fruit Creamery\, live music featuring The Southern Fire Band\, along with a bounce house and face panting for the kids! Crafters and car owners are encouraged to REGISTER on our website now to get the early registration discount! Each car entered will receive a raffle ticket to enter to WIN lots of prizes and gift cards! Trophies and prizes will be awarded to the favorite cars! If you are a business and would like to sponsor this event please contact Town Hall.
URL:https://themobmom.com/event/car-craft-show/
LOCATION:Cadillac Square Dauphin Island
ATTACH;FMTTYPE=image/jpeg:https://themobmom.com/wp-content/uploads/2024/08/car-and-craft-show.jpg
END:VEVENT
BEGIN:VEVENT
DTSTART;TZID=UTC:20250906T100000
DTEND;TZID=UTC:20250906T150000
DTSTAMP:20260424T011751
CREATED:20250906T133333Z
LAST-MODIFIED:20250906T133333Z
UID:12669-1757152800-1757170800@themobmom.com
SUMMARY:10th Annual DI Car and Craft Show
DESCRIPTION:LIVE MUSIC by the Southern Fire Band and fantastic FOOD TRUCKS featuring Guys Grill\, Twist Sushi & Real Fruit Creamery!BOUNCE HOUSE\, PETTING ZOO\, & FACE PAINTING FOR KIDS!
URL:https://themobmom.com/event/10th-annual-di-car-and-craft-show/
LOCATION:Cadillac Square Dauphin Island
ATTACH;FMTTYPE=image/jpeg:https://themobmom.com/wp-content/uploads/2025/09/540725929_1151235760442750_1293469936298959127_n.jpg
END:VEVENT
BEGIN:VEVENT
DTSTART;TZID=UTC:20250906T100000
DTEND;TZID=UTC:20250906T160000
DTSTAMP:20260424T011751
CREATED:20250904T203648Z
LAST-MODIFIED:20250904T203648Z
UID:12605-1757152800-1757174400@themobmom.com
SUMMARY:Second Annual Pumpkin Patch
DESCRIPTION:Join us and other local artists/vendors for our Second Annual Pumpkin Patch! We will have our entire collection of handmade glass pumpkins plus other seasonal items available\, along with quality goodies from other local vendors\, FREE live glassblowing demonstrations\, giveaways\, and more!\nOur annual pumpkin patch is free and open to the public. Bring the kids along with you for a fun-filled day of activities in downtown Mobile!
URL:https://themobmom.com/event/second-annual-pumpkin-patch/
LOCATION:Muffinjaw Designs\, 610 St Anthony's St\, Mobile\, AL
ATTACH;FMTTYPE=image/jpeg:https://themobmom.com/wp-content/uploads/2025/09/526560500_1520367192697516_8322520622887564488_n.jpg
END:VEVENT
BEGIN:VEVENT
DTSTART;TZID=UTC:20250906T112000
DTEND;TZID=UTC:20250906T125000
DTSTAMP:20260424T011751
CREATED:20250905T053831Z
LAST-MODIFIED:20250905T053831Z
UID:12643-1757157600-1757163000@themobmom.com
SUMMARY:Cookie Fun Open Jump
DESCRIPTION:– Join us for this NEW! “Cookie Fun” Open Jump! –Get ready for an action-packed adventure your kids won’t stop talking about!They’ll jump\, bounce\, and burn off some energy for a full hour and 10 minutes\, all while grooving to their favorite tunes! But the fun doesn’t stop there\, after all that jumping\, they’ll get to indulge in a delicious chocolate chip cookie and refreshing drinks .Plus\, they’ll have time to get creative\, coloring awesome drawings and letting their imaginations run wild! \nThis is the ultimate playdate you don’t want to miss. Book now! and give your kids a day full of fun and memories! \nPRICE: $13.00 + tax per kid\nAll ages welcome! Groups of seven or more children must be pre-paid in advance and are non refundable or transferable.Spaces in open jumps are only held for the amount of children pre-paid for. All pre paid spaces are NON REFUNDABLE and NON TRANSFERABLE to another day/time
URL:https://themobmom.com/event/cookie-fun-open-jump-2/
LOCATION:Pump it Up Mobile
ATTACH;FMTTYPE=image/jpeg:https://themobmom.com/wp-content/uploads/2025/08/cookie-fun-pump-it-up.jpg
END:VEVENT
BEGIN:VEVENT
DTSTART;TZID=America/Chicago:20250906T140000
DTEND;TZID=America/Chicago:20250906T200000
DTSTAMP:20260424T011751
CREATED:20250905T164417Z
LAST-MODIFIED:20250905T164417Z
UID:12650-1757167200-1757188800@themobmom.com
SUMMARY:Once Upon a Story
DESCRIPTION:Stories come to life at Once Upon a Story in Downtown OWA!\n\n\n\n\n\n\nSeptember 6th\, 2:00-8:00 pm\n\n\n\n\n\n\n\n\n\n\n\n\n\n\n\n\n\n\n\n\n\n\n\n\n\n\n\n\n\n\nA day full of imagination and discovery awaits at Once Upon a Story in Downtown OWA on Saturday\, September 6th\, as we kick off Literacy Month! Enjoy FREE activities inspired by favorite stories and genres\, from growing your own beanstalk and castle painting to meeting beloved characters around Downtown OWA and Tropic Falls. Kids can climb the 22-foot rock wall\, bounce in a castle inflatable\, take part in the fairytale trail\, and enjoy free face painting. \nVisit the Book Fair by Dorothy June at Story Book Manor and register for a Baldwin County Library card at the Splashpad. Plus\, don’t miss the Friends of the Library Book Donation\, starting September 1st\, drop off your donations in front of Starbucks to help share the joy of reading. \nAs the evening winds down\, gather for a special preview of Gulf Coast Rep – The Playhouse’s production of Sleepy Hollow on the OWA Island stage. \nIt’s a full day of books\, crafts\, entertainment\, and the magic that only a great story can bring! \nSchedule of Events \n2:00pm-5:00pm: \n\nLibrary Card Registration at the Splashpad\nLive DJ music at the Splashpad\n\n2:00pm-8:00pm: \n\nFriends of the Library Book Donation at the Flagpole/Starbucks\nBook Fair by Dorothy June at Story Book Manor located next to OWA Theater\nPicture Portal at the Sweet Tooth Flowerbed\nFairytale Trail at the Splashpad\nGrow your own bean stalks at the Downtown Fountain\nCastle Painting at the Waffles R Wild Alcove\nCharacter meet & greet throughout Downtown OWA and Tropic Falls\nCastle bounce house at the Sweet Tooth Alcove\n22-foot rock climbing wall at the Splash Pad\nFree face paint at the Sweet Tooth Flower Bed and Tropic Falls\n\n2:00 until supplies last: Free Flower Cart at the Gulf Coast Rep Alcove \n3:00pm-4:30pm: Book Bingo at Towne Tap \n3:00-4:00pm: Storytime with the Orange Beach Library on the OWA Island Stage \n4:00-4:30pm: Storytime with the Foley Library on the OWA Island Stage \n5:15-6:15pm: Live Orchestra on the OWA Island Stage \n6:30pm-7:00pm: Preview of Gulf Coast Rep –The Playhouse’s production of Sleppy Hollow on the OWA Island stage | Learn more about Gulf Coast Rep – The Playhouse: The Gulf Coast Rep – The Playhouse – OWA
URL:https://themobmom.com/event/once-upon-a-story/
LOCATION:Downtown OWA
ATTACH;FMTTYPE=image/jpeg:https://themobmom.com/wp-content/uploads/2025/09/owa-once-upon-a-story.jpg
END:VEVENT
BEGIN:VEVENT
DTSTART;TZID=America/Chicago:20250906T160000
DTEND;TZID=America/Chicago:20250906T180000
DTSTAMP:20260424T011751
CREATED:20250905T174324Z
LAST-MODIFIED:20250905T174602Z
UID:12656-1757174400-1757181600@themobmom.com
SUMMARY:International Fashion Show & Exhibit
DESCRIPTION:If you missed last year’s International Fashion Show & Exhibit\, please try not to make the same mistake this year!\nThe event organizer Art Activities Specialist Lee Callaghan has this to say about this awesome event:\n“This is bound to be a fashion show unlike any you’ve ever seen! Photo and cultural displays\, as well as displays of traditional attire will be among the featured exhibits.\nThe main attraction? Tribute dresses created by local artists to honor this year’s selection of countries represented within our community. There will be food trucks to satisfy your cravings and surprise performances for your entertainment pleasure.\nThis grand display of our beautiful\, culturally diverse community will be the highlight of your weekend and an event that will be the talk of the town for years to come!”\nWe don’t know about y’all…but we believe her! So be sure to mark your calendars for Saturday\, September 6! For more information or if you want to get involved\, you can reach out to Lee directly at lee.callaghan@cityofmobile.org
URL:https://themobmom.com/event/international-fashion-show/
LOCATION:James Seals Community Center\, 540 Texas Street
ATTACH;FMTTYPE=image/jpeg:https://themobmom.com/wp-content/uploads/2025/09/international-fashion-show.jpg
END:VEVENT
BEGIN:VEVENT
DTSTART;TZID=UTC:20250906T180000
DTEND;TZID=UTC:20250906T210000
DTSTAMP:20260424T011751
CREATED:20250905T174756Z
LAST-MODIFIED:20250905T174756Z
UID:12661-1757181600-1757192400@themobmom.com
SUMMARY:Bark in the Park!
DESCRIPTION:Join us for a night of family fun with all things baseball and pups! We will be joined by the City of Mobile Animal Services with pups available for adoption! All the games on in The Outsider\, Live music in Cedar Street and Wiffle Ball in the back lot for the kiddos with a special appearance from our own baseball legend\, Jake Peavy!
URL:https://themobmom.com/event/bark-in-the-park/
LOCATION:522 Dauphin Street – Mobile\, Al
ATTACH;FMTTYPE=image/jpeg:https://themobmom.com/wp-content/uploads/2025/09/Bark-in-the-Park.jpg
END:VEVENT
BEGIN:VEVENT
DTSTART;TZID=America/Chicago:20250906T190000
DTEND;TZID=America/Chicago:20250906T200000
DTSTAMP:20260424T011751
CREATED:20250905T164539Z
LAST-MODIFIED:20250905T164539Z
UID:12653-1757185200-1757188800@themobmom.com
SUMMARY:Brandon Styles Variety Show
DESCRIPTION:Brandon Styles Variety Show\n\n\n\n\nEvery Tuesday & Saturday at 7pm\n\n\n\n\nTicket-alt Facebook-f Instagram Youtube Envelope\n\n\n\n\n\n\n\nA family-friendly\, impression\, comedy and magic show! Discover the many faces of Brandon Styles in this year-round Variety Show. Impressions from Frank Sinatra to Justin Bieber\, with 60 additional impressions in between! Sprinkled with just the right amount of comedy and magic to make this a great entertainment hour for all ages. Brandon Styles LIVE at OWA is a classy show that has something for the whole family! Brandon will awe you during his live performance of nearly 60 different celebrity singing & speaking impressions. To make this show unlike any other in the world\, he has incorporated the perfect amount of comedy\, magic\, dancing\, ventriloquism and audience participation in this fast-paced 60 minute show! \n\n\n\n\n\n\n\n\n\n\n\nPurchase tickets!
URL:https://themobmom.com/event/brandon-styles-variety-show-17/
LOCATION:OWA Parks & Resort
ATTACH;FMTTYPE=image/png:https://themobmom.com/wp-content/uploads/2025/08/Brandon-Styles-Variety-Show.png
END:VEVENT
END:VCALENDAR