BEGIN:VCALENDAR
VERSION:2.0
PRODID:-//MOB Moms - ECPv6.15.1.1//NONSGML v1.0//EN
CALSCALE:GREGORIAN
METHOD:PUBLISH
X-ORIGINAL-URL:https://themobmom.com
X-WR-CALDESC:Events for MOB Moms
REFRESH-INTERVAL;VALUE=DURATION:PT1H
X-Robots-Tag:noindex
X-PUBLISHED-TTL:PT1H
BEGIN:VTIMEZONE
TZID:UTC
BEGIN:STANDARD
TZOFFSETFROM:+0000
TZOFFSETTO:+0000
TZNAME:UTC
DTSTART:20250101T000000
END:STANDARD
END:VTIMEZONE
BEGIN:VEVENT
DTSTART;VALUE=DATE:20250904
DTEND;VALUE=DATE:20250905
DTSTAMP:20260424T011820
CREATED:20250831T053114Z
LAST-MODIFIED:20250831T053114Z
UID:12516-1756944000-1757030399@themobmom.com
SUMMARY:Market in Green Park
DESCRIPTION:Stop by Green Park every Thursday from 9am-5pm and every second Saturday from 9am-3pm to see what the island has to offer! This event provides an outlet for local farmers\, crafters\, and island businesses to promote their products\, rentals\, services\, and more. If you would like to be part of the market please email mgodwin@townofdauphinisland.org.
URL:https://themobmom.com/event/market-in-green-park-4/
LOCATION:Green Park Dauphin Island
END:VEVENT
END:VCALENDAR