BEGIN:VCALENDAR
VERSION:2.0
PRODID:-//MOB Moms - ECPv6.15.1.1//NONSGML v1.0//EN
CALSCALE:GREGORIAN
METHOD:PUBLISH
X-WR-CALNAME:MOB Moms
X-ORIGINAL-URL:https://themobmom.com
X-WR-CALDESC:Events for MOB Moms
REFRESH-INTERVAL;VALUE=DURATION:PT1H
X-Robots-Tag:noindex
X-PUBLISHED-TTL:PT1H
BEGIN:VTIMEZONE
TZID:UTC
BEGIN:STANDARD
TZOFFSETFROM:+0000
TZOFFSETTO:+0000
TZNAME:UTC
DTSTART:20250101T000000
END:STANDARD
END:VTIMEZONE
BEGIN:VEVENT
DTSTART;TZID=UTC:20250901T100000
DTEND;TZID=UTC:20250901T113000
DTSTAMP:20260424T011751
CREATED:20250830T041744Z
LAST-MODIFIED:20250830T041744Z
UID:12471-1756720800-1756726200@themobmom.com
SUMMARY:Little Tikes Jump
DESCRIPTION:Date : Monday Sep 1\, 2025\nTime : 10:00 AM – 11:30 AM\nStatus : Space is available!\nDetails :\nYou and your child(ren) ages 6 & under are invited. Play on our giant\, soft\, fun-filled interactive inflatables. Little Tikes Jump Features: Bubbles – for interactive play and imagination. Fun Snack – a fun snack and drinks are now included in our Little Tikes Jump. We hope to incorporate some FUN-EXERCISE & Healthy Snacking. $13 + tax per child OPEN JUMPS/SPECIAL EVENTS – Groups of seven or more children must be pre-paid in advance. Spaces in open jumps are only held for the amount of children pre-paid for. All pre paid spaces are NON REFUNDABLE and NON TRANSFERABLE to another day/time
URL:https://themobmom.com/event/little-tikes-jump/
LOCATION:Pump it Up Mobile
ATTACH;FMTTYPE=image/jpeg:https://themobmom.com/wp-content/uploads/2025/08/pump-it-up-little-tikes.jpg
END:VEVENT
BEGIN:VEVENT
DTSTART;TZID=UTC:20250901T112000
DTEND;TZID=UTC:20250901T134000
DTSTAMP:20260424T011751
CREATED:20250830T041904Z
LAST-MODIFIED:20250830T041904Z
UID:12473-1756725600-1756734000@themobmom.com
SUMMARY:Open Jump
DESCRIPTION:Date : Monday Sep 1\, 2025\nTime : 11:20 AM – 1:40 PM\nStatus : Space is available!\nDetails :\nCome play on our giant\, soft\, fun-filled interactive inflatables during Pump It Up Family Jump Time! \nThese Open Jumps are open to all ages.\nBook for only $11.00 + tax per child\n-Socks are required- \nOPEN JUMPS/SPECIAL EVENTS – Groups of seven or more children must be pre-paid in advance and are non refundable or transferable. Spaces in open jumps are only held for the amount of children pre-paid for. All pre paid spaces are NON REFUNDABLE and NON TRANSFERABLE to another day/time See less
URL:https://themobmom.com/event/open-jump/
LOCATION:Pump it Up Mobile
ATTACH;FMTTYPE=image/jpeg:https://themobmom.com/wp-content/uploads/2025/08/pump-it-up-open-jump.jpg
END:VEVENT
BEGIN:VEVENT
DTSTART;TZID=UTC:20250901T151500
DTEND;TZID=UTC:20250901T164500
DTSTAMP:20260424T011751
CREATED:20250830T042119Z
LAST-MODIFIED:20250830T042119Z
UID:12475-1756739700-1756745100@themobmom.com
SUMMARY:Cookie Fun Open Jump
DESCRIPTION:Cookie Fun Open Jump\nDate : Monday Sep 1\, 2025\nTime : 3:15 PM – 4:45 PM\nDetails :\n– Join us for this NEW! “Cookie Fun” Open Jump! –\nGet ready for an action-packed adventure your kids won’t stop talking about!\nThey’ll jump\, bounce\, and burn off some energy for a full hour and 10 minutes\, all while grooving to their favorite tunes! 🎶\nBut the fun doesn’t stop there\, after all that jumping\, they’ll get to indulge in a delicious chocolate chip cookie and refreshing drinks 🍪🥤.\nPlus\, they’ll have time to get creative\, coloring awesome drawings and letting their imaginations run wild! 🎨✨ \nThis is the ultimate playdate you don’t want to miss. Book now! and give your kids a day full of fun and memories! 🙌 \nPRICE: $13.00 + tax per kid \nAll ages welcome! Groups of seven or more children must be pre-paid in advance and are non refundable or transferable.\nSpaces in open jumps are only held for the amount of children pre-paid for. All pre paid spaces are NON REFUNDABLE and NON TRANSFERABLE to another day/time.
URL:https://themobmom.com/event/cookie-fun-open-jump/
LOCATION:Pump it Up Mobile
ATTACH;FMTTYPE=image/jpeg:https://themobmom.com/wp-content/uploads/2025/08/cookie-fun-pump-it-up.jpg
END:VEVENT
END:VCALENDAR