BEGIN:VCALENDAR
VERSION:2.0
PRODID:-//MOB Moms - ECPv6.15.1.1//NONSGML v1.0//EN
CALSCALE:GREGORIAN
METHOD:PUBLISH
X-WR-CALNAME:MOB Moms
X-ORIGINAL-URL:https://themobmom.com
X-WR-CALDESC:Events for MOB Moms
REFRESH-INTERVAL;VALUE=DURATION:PT1H
X-Robots-Tag:noindex
X-PUBLISHED-TTL:PT1H
BEGIN:VTIMEZONE
TZID:UTC
BEGIN:STANDARD
TZOFFSETFROM:+0000
TZOFFSETTO:+0000
TZNAME:UTC
DTSTART:20250101T000000
END:STANDARD
END:VTIMEZONE
BEGIN:VEVENT
DTSTART;VALUE=DATE:20250829
DTEND;VALUE=DATE:20250901
DTSTAMP:20260424T024437
CREATED:20250830T050153Z
LAST-MODIFIED:20250830T050153Z
UID:12501-1756425600-1756684799@themobmom.com
SUMMARY:Labor Day Weekend Party
DESCRIPTION:Spend your Labor Day Weekend at Downtown OWA\, where three days of family fun\, live music\, and festive activities bring the season to a close in the best way! From hands-on crafts and interactive games to live entertainment and photo-worthy moments\, there’s something for everyone in the family to enjoy. \nThe Labor Day Car Show has been postponed\, stay tuned for the new date announcement coming soon! \nOn Sunday\, cap off your holiday weekend with an unforgettable evening of live music leading into the Labor Day Fireworks Show\, lighting up the sky at 8:50 p.m! \nWith FREE entertainment and activities for all ages\, the Labor Day Weekend Celebration at OWA is the perfect way to end summer with a bang! Check out all the details below. \nSchedule of Events \nFriday\, August 29th \nAll Day: \n\nLight-up marquee letters photo op at the Tropic Falls Flowerbed and across from Gulf Coast Rep\nLawn games on OWA Island\n\n2:00-8:00pm: \n\n“When I Grow Up…” canvas wall activity at the Downtown Fountain\nLabor Day craft by Uniquely Clever at the Waffles R Wild Alcove\nInteractive Career Village on OWA Island\nShotzi the Robot Photobooth roaming around Downtown OWA\nInflatable football\, baseball and basketball on OWA Island\nQuarterback blitz football toss game inflatable at the Sweet Tooth/Towne Tap Alcove\nPatriotic t-shirt craft at the splashpad\n\n3:30-5:30 pm: Live Music by Ryan Balthrop on the OWA Island Stage \n6:00-8:00 pm: Live Music by The New Cahoots \nSaturday\, August 30th \nAll Day: Light-up marquee letters photo op at the Tropic Falls Flowerbed and across from Gulf Coast Rep \n12:00-4:00pm: Waterproof Facepainting at Tropic Falls | Check out all Tropic Falls ticketing options: https://visitowa.com/plan-your-visit/tickets/. \n2:00-8:00pm: \n\nInteractive Career Village on OWA Island\nInflatable football\, baseball and basketball on the OWA Island Stage\nQuarterback blitz football toss game inflatable at the Sweet Tooth/Towne Tap Alcove\n\n5:00-9:00 pm: “When I Grow Up…” canvas wall activity at the Downtown Fountain \nSunday\, August 31st \nAll Day: Light-up marquee letters photo op at the Tropic Falls Flowerbed and across from Gulf Coast Rep \n12:00-4:00pm: Waterproof Facepainting at Tropic Falls \n2:00-8:00pm: \n\nShotzi the Robot Photobooth roaming around Downtown OWA\n“When I Grow Up…” canvas wall activity at the Downtown Fountain\nLabor Day craft by Uniquely Clever at the Waffles R Wild Alcove\nInflatable football\, baseball and basketball on OWA Island\nQuarterback blitz football toss game inflatable at the Sweet Tooth/Towne Tap Alcove\nLabor Day Craft by Uniquely Clever at the Waffles R Wild Alcove\n\n2:00-3:30pm: Live music by Jenna McClelland Band on the OWA Island Stage \n5:00-9:00 pm: Interactive Career Village on OWA Island \n7:00-8:50pm: Live music by Chitlin’ Switch on OWA Island \n8:50-9:00 pm: Labor Day Fireworks Show | Learn more: Fireworks
URL:https://themobmom.com/event/labor-day-weekend-party/
LOCATION:OWA Parks & Resort
ATTACH;FMTTYPE=image/jpeg:https://themobmom.com/wp-content/uploads/2025/08/Website-Metadata-Labor-Day-Weekend-Party-2025-2-1024x533-1.jpg
END:VEVENT
BEGIN:VEVENT
DTSTART;TZID=UTC:20250829T120000
DTEND;TZID=UTC:20250829T130000
DTSTAMP:20260424T024437
CREATED:20250822T150452Z
LAST-MODIFIED:20250822T150452Z
UID:12432-1756468800-1756472400@themobmom.com
SUMMARY:Summer Moon Meet Up
DESCRIPTION:Whether you’re new to the area or just looking for mom friends\, this one’s for you \nCome hang with us! Summer Moon Friday\, August 29th 12pm
URL:https://themobmom.com/event/summer-moon-meet-up/
LOCATION:Summer Moon Coffee
ATTACH;FMTTYPE=image/jpeg:https://themobmom.com/wp-content/uploads/2025/08/summer-moon-meet-up.jpg
END:VEVENT
END:VCALENDAR