BEGIN:VCALENDAR
VERSION:2.0
PRODID:-//MOB Moms - ECPv6.15.1.1//NONSGML v1.0//EN
CALSCALE:GREGORIAN
METHOD:PUBLISH
X-ORIGINAL-URL:https://themobmom.com
X-WR-CALDESC:Events for MOB Moms
REFRESH-INTERVAL;VALUE=DURATION:PT1H
X-Robots-Tag:noindex
X-PUBLISHED-TTL:PT1H
BEGIN:VTIMEZONE
TZID:UTC
BEGIN:STANDARD
TZOFFSETFROM:+0000
TZOFFSETTO:+0000
TZNAME:UTC
DTSTART:20250101T000000
END:STANDARD
END:VTIMEZONE
BEGIN:VEVENT
DTSTART;TZID=UTC:20250828T103000
DTEND;TZID=UTC:20250828T113000
DTSTAMP:20260424T024506
CREATED:20250818T043010Z
LAST-MODIFIED:20250818T043010Z
UID:12370-1756377000-1756380600@themobmom.com
SUMMARY:Preschool Storytime: Tales and Trails in the Gardens
DESCRIPTION:Tales and Trails in the Gardens Preschool Storytime Returns!\nTales and Trails preschool storytime returns to Mobile Botanical Gardens thanks to the generous support of the Lilian S. Woolford Charitable Trust. \nJoin us on Thursday mornings beginning at 10:30 am in various locations throughout MBG’s 106 acres to enjoy preschool storytime together. MBG Docents will read aloud specially selected stories and lead nature-based activities perfect for preschoolers. Parents and children alike will learn and have fun in our gorgeous garden setting. \nTales and Trails in the Gardens is FREE for MBG members (Membership Benefits) (Join MBG Now) or with regular admission. But registration is required; register for Tales and Trails here.
URL:https://themobmom.com/event/preschool-storytime-tales-and-trails-in-the-gardens-10/
LOCATION:Mobile Botanical Gardens
ATTACH;FMTTYPE=image/jpeg:https://themobmom.com/wp-content/uploads/2025/08/Tales-and-Trails-Banner-Fall-2024-resize-768x576-1.jpg
END:VEVENT
END:VCALENDAR