BEGIN:VCALENDAR
VERSION:2.0
PRODID:-//MOB Moms - ECPv6.15.1.1//NONSGML v1.0//EN
CALSCALE:GREGORIAN
METHOD:PUBLISH
X-ORIGINAL-URL:https://themobmom.com
X-WR-CALDESC:Events for MOB Moms
REFRESH-INTERVAL;VALUE=DURATION:PT1H
X-Robots-Tag:noindex
X-PUBLISHED-TTL:PT1H
BEGIN:VTIMEZONE
TZID:UTC
BEGIN:STANDARD
TZOFFSETFROM:+0000
TZOFFSETTO:+0000
TZNAME:UTC
DTSTART:20250101T000000
END:STANDARD
END:VTIMEZONE
BEGIN:VEVENT
DTSTART;VALUE=DATE:20250818
DTEND;VALUE=DATE:20250824
DTSTAMP:20260424T024505
CREATED:20250818T040711Z
LAST-MODIFIED:20250818T040711Z
UID:12351-1755475200-1755993599@themobmom.com
SUMMARY:Wee Exchange- Huge Kids' Resale!
DESCRIPTION:Largest Consignment Sale on the Gulf Coast!Snag an EARLY ACCESS ticket!All you have to do is consign 12 or more items! EasyRegistration link www.MyConsignmentSale.com/WeeEx
URL:https://themobmom.com/event/wee-exchange-huge-kids-resale/
LOCATION:Abba Shrine
ATTACH;FMTTYPE=image/jpeg:https://themobmom.com/wp-content/uploads/2025/08/wee-exchange.jpg
END:VEVENT
BEGIN:VEVENT
DTSTART;VALUE=DATE:20250822
DTEND;VALUE=DATE:20250825
DTSTAMP:20260424T024505
CREATED:20250818T041539Z
LAST-MODIFIED:20250818T041539Z
UID:12360-1755820800-1756079999@themobmom.com
SUMMARY:Mobile Vintage Market Days
DESCRIPTION:Welcome to Vintage Market Days of\nMobile\n\nVintage Market Days® is an upscale vintage-inspired market featuring original art\, antiques\, clothing\, jewelry\, handmade treasures\, home décor\, outdoor furnishings consumable yummies\, seasonal plantings and a little more. The Market is a three day event held several times a year in various communities. Each Vintage Market Days® event is a unique opportunity for vendors to display their talents and passions in different venues. \n\nEvent Hours & Admissions\n\nFriday\, August 22\, 2025\nFriday/Saturday/Sunday\n10:00 am to 4:00 pm \nSaturday\, August 23\, 2025\nSaturday/Sunday\n10:00 am to 4:00 pm \nSunday\, August 24\, 2025\nSunday Only\n10:00 am to 3:00 pm \nAdmission for children under 12 is free. Cash and credit card are accepted at the gate. Once purchased\, your ticket is good for re-entry into the event all weekend.
URL:https://themobmom.com/event/mobile-vintage-market-days/
LOCATION:The Grounds
ATTACH;FMTTYPE=image/jpeg:https://themobmom.com/wp-content/uploads/2025/08/vintage-market-days-mobile-al.jpg
END:VEVENT
BEGIN:VEVENT
DTSTART;TZID=UTC:20250822T173000
DTEND;TZID=UTC:20250822T193000
DTSTAMP:20260424T024505
CREATED:20250822T141436Z
LAST-MODIFIED:20250822T141436Z
UID:12404-1755883800-1755891000@themobmom.com
SUMMARY:Riverfront Rhythms
DESCRIPTION:Come experience the magic of the river at Riverfront Rhythms\, a family-friendly event series featuring live music from Meredith Hicks and games for all ages—all set against the stunning backdrop of the Gardens after hours. Whether you’re dancing to the beat or just soaking in the peaceful views by the water\, Riverfront Rhythms is the perfect way to unwind with family\, friends\, and neighbors. Bring a lawn chair or picnic blanket\, and enjoy a relaxed evening where music meets nature!\nMember: Free | Non-members: General Admission
URL:https://themobmom.com/event/riverfront-rhythms/
LOCATION:Bellingrath Gardens & Home
ATTACH;FMTTYPE=image/jpeg:https://themobmom.com/wp-content/uploads/2025/08/riverfront-rhythms-at-bellingrath.jpg
END:VEVENT
BEGIN:VEVENT
DTSTART;TZID=UTC:20250822T183000
DTEND;TZID=UTC:20250822T203000
DTSTAMP:20260424T024505
CREATED:20250822T150220Z
LAST-MODIFIED:20250822T150220Z
UID:12429-1755887400-1755894600@themobmom.com
SUMMARY:Eastern Shore Mom's Club - Mom's Night Out
DESCRIPTION:Because you deserve a glass of wine (or mocktail)! \nInspired by a conversation with a few mamas\, we’re hosting our first Mom’s Night Out at @southerngrovevineyard 🍷 \n🗓️ Friday\, August 22nd\n⏰ 6:30PM
URL:https://themobmom.com/event/eastern-shore-moms-club-moms-night-out/
LOCATION:Southern Grove Vinyard\, Fairhope
END:VEVENT
BEGIN:VEVENT
DTSTART;TZID=UTC:20250822T183000
DTEND;TZID=UTC:20250822T210000
DTSTAMP:20260424T024505
CREATED:20250818T041009Z
LAST-MODIFIED:20250818T041009Z
UID:12354-1755887400-1755896400@themobmom.com
SUMMARY:Movies in the Park: The Wild Robot
DESCRIPTION: MOVIES IN THE PARK IS BACK! \nThis time\, we are taking the cinema experience to Langan Park (4901 Zeigler Blvd.) for the viewing of “The Wild Robot” starring Lupita Nyong’o.  Grab your lawn chairs\, blankets and small coolers\, and meet us at the Performing Arts Pavilion beginning at 6:30 p.m.\nBefore the film begins at dusk\, enjoy pre-film activities such as interactive lawn games\, a special STREAM activation featuring mini-robots\, and light refreshments while they last! \nNo registration required for this free family event! Mark your calendars for Friday\, August 22! We hope to see you all there!
URL:https://themobmom.com/event/movies-in-the-park-the-wild-robot/
LOCATION:Langan Park
ATTACH;FMTTYPE=image/jpeg:https://themobmom.com/wp-content/uploads/2025/08/movies-in-the-park.jpg
END:VEVENT
END:VCALENDAR