BEGIN:VCALENDAR
VERSION:2.0
PRODID:-//MOB Moms - ECPv6.15.1.1//NONSGML v1.0//EN
CALSCALE:GREGORIAN
METHOD:PUBLISH
X-ORIGINAL-URL:https://themobmom.com
X-WR-CALDESC:Events for MOB Moms
REFRESH-INTERVAL;VALUE=DURATION:PT1H
X-Robots-Tag:noindex
X-PUBLISHED-TTL:PT1H
BEGIN:VTIMEZONE
TZID:UTC
BEGIN:STANDARD
TZOFFSETFROM:+0000
TZOFFSETTO:+0000
TZNAME:UTC
DTSTART:20250101T000000
END:STANDARD
END:VTIMEZONE
BEGIN:VEVENT
DTSTART;VALUE=DATE:20250818
DTEND;VALUE=DATE:20250824
DTSTAMP:20260424T024505
CREATED:20250818T040711Z
LAST-MODIFIED:20250818T040711Z
UID:12351-1755475200-1755993599@themobmom.com
SUMMARY:Wee Exchange- Huge Kids' Resale!
DESCRIPTION:Largest Consignment Sale on the Gulf Coast!Snag an EARLY ACCESS ticket!All you have to do is consign 12 or more items! EasyRegistration link www.MyConsignmentSale.com/WeeEx
URL:https://themobmom.com/event/wee-exchange-huge-kids-resale/
LOCATION:Abba Shrine
ATTACH;FMTTYPE=image/jpeg:https://themobmom.com/wp-content/uploads/2025/08/wee-exchange.jpg
END:VEVENT
END:VCALENDAR