BEGIN:VCALENDAR
VERSION:2.0
PRODID:-//MOB Moms - ECPv6.15.1.1//NONSGML v1.0//EN
CALSCALE:GREGORIAN
METHOD:PUBLISH
X-WR-CALNAME:MOB Moms
X-ORIGINAL-URL:https://themobmom.com
X-WR-CALDESC:Events for MOB Moms
REFRESH-INTERVAL;VALUE=DURATION:PT1H
X-Robots-Tag:noindex
X-PUBLISHED-TTL:PT1H
BEGIN:VTIMEZONE
TZID:UTC
BEGIN:STANDARD
TZOFFSETFROM:+0000
TZOFFSETTO:+0000
TZNAME:UTC
DTSTART:20250101T000000
END:STANDARD
END:VTIMEZONE
BEGIN:VEVENT
DTSTART;VALUE=DATE:20250810
DTEND;VALUE=DATE:20250811
DTSTAMP:20260424T024437
CREATED:20250808T005739Z
LAST-MODIFIED:20250808T005739Z
UID:12299-1754784000-1754870399@themobmom.com
SUMMARY:Mobile Bay Maker's Market
DESCRIPTION:Come out and enjoy shopping local with our fantastic vendors!\nSpecial thanks to Hope Community for the wonderful location and to Rock and Roll Offs for sponsorship of the portables!\n***IMPORTANT***If you are interested in applying to be a vendor\, go to our website (found on our profile) for the vendor application. We will never make a comment on an event asking for more vendors. Those are ALWAYS a scam.
URL:https://themobmom.com/event/mobile-bay-makers-market-2/
LOCATION:Mobile Bay Maker’s Market
END:VEVENT
BEGIN:VEVENT
DTSTART;VALUE=DATE:20250810
DTEND;VALUE=DATE:20250811
DTSTAMP:20260424T024437
CREATED:20250808T142203Z
LAST-MODIFIED:20250808T155104Z
UID:12330-1754784000-1754870399@themobmom.com
SUMMARY:Back to School First Impressions Workshop
DESCRIPTION:  \n\n\n\n\n\n\nAugust 2025\nClass Sign Ups\nStart Friday August 1\n\n\n\n\n\n\n\nBack to School “First Impressions” One-Hour Pop Up Class\nSunday August 10 at my home\, select one of three sessions:\nSession A: 12:30-1:30\nSession B: 2:00-3:00\nSession C: 3:30-4:30\nCost $60\, eight students max per session.\n*This class focuses on meeting the teacher and new friends\, including others at school\, and how to be helpful at school and at home. Children will also bring home a gift to take to their teacher on the first day of school.\n\nArt of Conversation Two Day Weekend Workshop\nSaturday\, August 23 & Sunday\, August 24 at my home\, select one of two sessions:\nSession A: Saturday 9-10:30 and Sunday 1:30-3:00\, OR\nSession B: Saturday 11-12:30 and Sunday 3:30-5:00\nCost $125\, eight girls max (grades 2-4)\n*This class focuses on how to carry a conversation\, how to accept compliments\, how to share the spotlight\, how to use a social filter\, and how to be a kind and inclusive friend. This is my favorite class!\n\n*Sign Up Link for August is Below*\n\nWHAT’S NEXT?\nIn September and October\, I will offer Table Manners and Everyday Etiquette. More information to come later. I will not offer traditional classes in November or December\, but I will likely host a few holiday specific one-hour Pop Up Lessons.\n\nPRIVATE LESSONS\nI am scheduling fewer ‘pre-set’ classes this year to allow more time for private lessons. Suggested class size is 6-8 students for appropriate interactions and social skills practice. Date\, time and location to be determined by teacher and parents. Parents can also select the topics for the classes. Interested? Let’s chat!\n\nENTER TO WIN A FREE CLASS:\n– Follow my Instagram\, then like and share a post to be entered into a drawing for free class tuition.\n\nDISCOUNTS FOR ART OF CONVERSATION\n– Sibling Discount of $25 for second child.\n– Multiple Class Discount of $25 for second class in one semester.\n– Refer a Friend Discount of $25 for you and a friend who signs up\n\nDISCOUNTS FOR BACK TO SCHOOL WORKSHOP\n– Same as above\, but $10 off $60\n\nQUESTIONS??\nIf you ever have any questions – or want to schedule your own class (different time\, place\, topics\, format\, etc.)\, please do not hesitate to reach out.
URL:https://themobmom.com/event/back-to-school-first-impressions-workshop/
ATTACH;FMTTYPE=image/png:https://themobmom.com/wp-content/uploads/2025/08/2Back-to-School-First-Impressions-Workshop-1.png
END:VEVENT
BEGIN:VEVENT
DTSTART;TZID=UTC:20250810T130000
DTEND;TZID=UTC:20250810T180000
DTSTAMP:20260424T024437
CREATED:20250808T143451Z
LAST-MODIFIED:20250808T143451Z
UID:12333-1754830800-1754848800@themobmom.com
SUMMARY:Mobtown Event Expo
DESCRIPTION:Get ready for a full-on block party experience in the heart of downtown Mobile! The Mobtown Event Expo is happening Sunday\, August 10\, 2025\, from 1 PM to 6 PM at The Courtyard on Dauphin (715 Dauphin St.)\, and admission is FREE!\n\n\n What’s in store?\nOver 100 incredible vendors will line the block offering everything from mouthwatering eats to handcrafted goods\, services\, shopping\, giveaways\, and more. Whether you’re planning a wedding\, booking a trip\, or just love a good community party\, this event is for YOU.\n\n\n Featured Food Vendors:\nSalt & Sand BBQ • Bottles Up • Royal Bites • Real Fruit Creamery • Holly Jolly Snowcones • Southern Cream • Twist Sushi • P.S. Taco • Sugar Cake Co. • Lemon Babies • CJ’s Southern Swigs • Coastal Coolers • Bama Grub to Go • Barrons Catering • Frios • “Savor” Charcuterie • Lazy Susan Charcuterie • and more!\n\n\n Local Creatives & Crafters:\nMimi’s Crafts • The Clay Girls • Christine’s Eclections • Beaded Creatures • CP Stanton Art • Spoiled by Daisey • Glo’s Scented Candles • Megan Hines Artist • Liv&Lu Décor • Haute Head Fascinators • and dozens more offering everything from baked goods to handmade jewelry and custom décor.\n\n\n Special Guests & Attractions:\n\n\nMobile County Animal Shelter & Mobile Cat Society\nM&M Clown and LifeSouth Blood Bank\nTravel agents\, wellness vendors\, photographers\, campaign booths & more\n It’s all happening at one place\, one time — and best of all\, it’s FREE!\nGrab your friends\, bring the family\, and don’t miss one of the biggest local showcases of the year.\n\n\n Mobtown Event Expo\n Sunday\, August 10\, 2025\n 1 PM – 6 PM\n 715 Dauphin St.\, Mobile\, AL\n\n\nTag your crew and mark your calendars now!
URL:https://themobmom.com/event/mobtown-event-expo/
LOCATION:751 Dauphin Street – Mobile\, AL
ATTACH;FMTTYPE=image/jpeg:https://themobmom.com/wp-content/uploads/2025/08/mobtown-event-expo.jpg
END:VEVENT
END:VCALENDAR