BEGIN:VCALENDAR
VERSION:2.0
PRODID:-//MOB Moms - ECPv6.15.1.1//NONSGML v1.0//EN
CALSCALE:GREGORIAN
METHOD:PUBLISH
X-WR-CALNAME:MOB Moms
X-ORIGINAL-URL:https://themobmom.com
X-WR-CALDESC:Events for MOB Moms
REFRESH-INTERVAL;VALUE=DURATION:PT1H
X-Robots-Tag:noindex
X-PUBLISHED-TTL:PT1H
BEGIN:VTIMEZONE
TZID:UTC
BEGIN:STANDARD
TZOFFSETFROM:+0000
TZOFFSETTO:+0000
TZNAME:UTC
DTSTART:20250101T000000
END:STANDARD
END:VTIMEZONE
BEGIN:VEVENT
DTSTART;VALUE=DATE:20250809
DTEND;VALUE=DATE:20250810
DTSTAMP:20260424T024434
CREATED:20250808T005210Z
LAST-MODIFIED:20250808T005210Z
UID:12295-1754697600-1754783999@themobmom.com
SUMMARY:Village of Hope Jamboree
DESCRIPTION:Join us for a day of family fun\, community spirit\, and purpose — all for a great cause!\nThe Village of Hope Jamboree is a family-friendly celebration hosted by Leadership Baldwin County to raise awareness for children in the foster and adoption system. All proceeds go toward covering event costs\, with remaining funds donated to the Baldwin County Foster & Adoptive Parent Association.\n What to Expect: Free Food for All Attendees Live Acoustic Music (BYO lawn chair!) Kid Zone: Bouncy Castle\, Face Painting\, Games\, & a Mini Pony Local Treats from Bahama Buck’s\, Cool Beans Ice Cream\, Cups for a Cure Lemonade & More! Heartfelt Stories from Foster Families & Advocates Foster/Adoption Resources & On-site Mental Health Professionals\nLet’s “Foster Hope in Fairhope” together — enjoy sweet summer vibes while supporting a vital cause in our community. \n RSVP\, share\, and invite your friends!Village of Hope Jamboree Event Page\n Want to become a sponsor or donate?Sponsorship Form- https://docs.google.com/…/1FAIpQLSex…/viewform\n Questions? Contact Sally at (251) 974-4626 or swestendorf@alabamabeaches.com
URL:https://themobmom.com/event/village-of-hope-jamboree/
LOCATION:University of South Alabama- Fairhope Campus
ATTACH;FMTTYPE=image/jpeg:https://themobmom.com/wp-content/uploads/2025/08/jamboree.jpg
END:VEVENT
BEGIN:VEVENT
DTSTART;VALUE=DATE:20250809
DTEND;VALUE=DATE:20250810
DTSTAMP:20260424T024434
CREATED:20250808T010012Z
LAST-MODIFIED:20250808T010012Z
UID:12301-1754697600-1754783999@themobmom.com
SUMMARY:Second Saturday Earth & Art Market
DESCRIPTION:Introducing the city’s newest Farmers Market in the heart of Midtown. The Second Saturday of Every Month 10am-2pm!  Featuring fresh produce\, local artisans\, delicious food\, and all the good vibes to make your Saturday shine. Vendors Wanted
URL:https://themobmom.com/event/second-saturday-earth-art-market-2/
LOCATION:1260 Dauphin Street Mobile
ATTACH;FMTTYPE=image/jpeg:https://themobmom.com/wp-content/uploads/2025/08/earth-and-art-market.jpg
END:VEVENT
BEGIN:VEVENT
DTSTART;VALUE=DATE:20250809
DTEND;VALUE=DATE:20250810
DTSTAMP:20260424T024434
CREATED:20250808T010238Z
LAST-MODIFIED:20250808T010238Z
UID:12304-1754697600-1754783999@themobmom.com
SUMMARY:Back 2 School Bash
DESCRIPTION:Can you all believe that the Summer is almost over\, and it is time for the kiddos to return to the schoolhouse?  The first day of school is Monday\, August 11 so allow MPRD to usher you into a prosperous school year at our Back 2 School Bash!\nMake plans to join us at Mardi Gras Park on Saturday\, August 9 from 10-2 for an exciting morning of community fun! Jam to the sounds of DJ Blaze\, enjoy inflatables from South Alabama Inflatables\, and hit a two-step to your favorite line dance tunes!\nWe will also have installations from the Alabama National Guard\, and WKRG News 5 will be present as our official news partner\, so be sure to look for their tent as well!\n And of course\, no Back 2 School Bash is complete without free school supply giveaways! Plus\, there will also be free food while it lasts!\nThe fun kicks off at 10:00 a.m. We look forward to seeing you and your families this Saturday morning at Mardi Gras Park! Guaranteed fun for all!
URL:https://themobmom.com/event/back-2-school-bash/
LOCATION:Mardi Gras Park
ATTACH;FMTTYPE=image/jpeg:https://themobmom.com/wp-content/uploads/2025/08/back-2-school-bash.jpg
END:VEVENT
BEGIN:VEVENT
DTSTART;VALUE=DATE:20250809
DTEND;VALUE=DATE:20250810
DTSTAMP:20260424T024434
CREATED:20250808T011556Z
LAST-MODIFIED:20250808T011557Z
UID:12315-1754697600-1754783999@themobmom.com
SUMMARY:Celebrate Mr. Bell's Birthday- Free Admission Day
DESCRIPTION:Join us on Saturday\, August 9\, as we celebrate the birthday of Walter Bellingrath with a day of festivities for local guests! Residents of Mobile County (AL)\, Baldwin County (AL)\, Jackson County (MS)\, and George County (MS) will receive free admission to the Gardens.\nEnjoy complimentary birthday cake and Coca-Cola (Mr. Bell was one of the south’s first Coca-Cola bottlers!) while supplies last\, and don’t miss a special appearance by the Azalea Trail Maids from 9:00 AM to 1:00 PM. Come stroll the Gardens\, celebrate Mr. Bell’s legacy\, and experience the beauty of Bellingrath on us!
URL:https://themobmom.com/event/celebrate-mr-bells-birthday-free-admission-day/
LOCATION:Bellingrath Gardens & Home
ATTACH;FMTTYPE=image/jpeg:https://themobmom.com/wp-content/uploads/2025/08/bellingrath-free-admission-day.jpg
END:VEVENT
BEGIN:VEVENT
DTSTART;TZID=UTC:20250809T083000
DTEND;TZID=UTC:20250809T093000
DTSTAMP:20260424T024434
CREATED:20250808T010857Z
LAST-MODIFIED:20250808T010857Z
UID:12307-1754728200-1754731800@themobmom.com
SUMMARY:Mom Walk Club- Daphne
DESCRIPTION:Our next mom walk will be 8/9 at Bay Front Park in Daphne  We will meet at 8:30! Bring your babies or come alone \nCan’t wait to see everyone!! It’s been too long!\nLet’s sweat 
URL:https://themobmom.com/event/mom-walk-club-daphne/
LOCATION:Bayfront Park- Daphne
ATTACH;FMTTYPE=image/jpeg:https://themobmom.com/wp-content/uploads/2025/08/mom-walk-club.jpg
END:VEVENT
BEGIN:VEVENT
DTSTART;TZID=UTC:20250809T090000
DTEND;TZID=UTC:20250809T100000
DTSTAMP:20260424T024434
CREATED:20250808T143905Z
LAST-MODIFIED:20250808T143905Z
UID:12337-1754730000-1754733600@themobmom.com
SUMMARY:Jubilee Java Meet Up
DESCRIPTION:Hey mama\, you’re invited Join us! Jubilee Java Saturday\, August 9th 9AMCome say hi\, sip something sweet\, and make a new friend 
URL:https://themobmom.com/event/jubilee-java-meet-up/
LOCATION:Jubilee Java
ATTACH;FMTTYPE=image/jpeg:https://themobmom.com/wp-content/uploads/2025/08/ESMC-java.jpg
END:VEVENT
BEGIN:VEVENT
DTSTART;TZID=UTC:20250809T100000
DTEND;TZID=UTC:20250809T110000
DTSTAMP:20260424T024434
CREATED:20250808T153026Z
LAST-MODIFIED:20250808T153026Z
UID:12343-1754733600-1754737200@themobmom.com
SUMMARY:Little Park Pals: Pirate Adventure
DESCRIPTION:Grab your young nature enthusiast and join us for hands-on family fun! Our Little Park Pals programs consist of an educational animal encounter and a hands-on activity or craft\, with our younger Park guests in mind. Best suited for children ages 4-10. Parents must be present. \nPirate Adventures is a fun and interactive program for children that combines history\, creativity\, and adventure! Kids will learn about the pirates who once sailed the Gulf Coast\, create their own pirate gear through a hands-on craft activity\, and embark on an exciting treasure hunt. \nRegistration: Registration is preferred but not required. https://reserve.alapark.com/register/little-park-pals–pirate-adventure \nLocation: Gulf State Park Nature Center\, 22120 Campground Road\, Gulf Shores\, AL 36542 \nThere is a $3 fee to enter the campground\, where the Nature Center is located. Campground/Cabin guest do not have to pay gate fee. \nIf you have any questions\, please contact the Gulf State Park Nature Center at 251-948-7275 extension 62093
URL:https://themobmom.com/event/little-park-pals-pirate-adventure/
LOCATION:Gulf State Park Nature Center
END:VEVENT
BEGIN:VEVENT
DTSTART;TZID=UTC:20250809T100000
DTEND;TZID=UTC:20250809T120000
DTSTAMP:20260424T024434
CREATED:20250808T011202Z
LAST-MODIFIED:20250808T011202Z
UID:12311-1754733600-1754740800@themobmom.com
SUMMARY:2nd Saturday Kids Day
DESCRIPTION:Okay!! Who’s ready for our next 2nd Saturday Kids Day??? We are\, for sure!! Saturday\, August 9th we’ll have Rascal and Badge the Higbee Farm ponies to pet\, we’ll make a wood pencil name tag for your backpack and tissue flower for your teacher!! The Core Project will be here to olay games with the kids and we will have some vendors selling cute back to school gift items to get that special teacher. Just look at how cute one of our Granny Pryor Poundcake slices looks all dolled up with ribbon and a tag!! We’ll have bags\, tissue\, ribbon and tags available at the market to wrap your treats. save the date!!
URL:https://themobmom.com/event/2nd-saturday-kids-day/
LOCATION:17558 Greeno Rd- Fairhope\, Al
ATTACH;FMTTYPE=image/jpeg:https://themobmom.com/wp-content/uploads/2025/08/2nd-saturday-kids-day.jpg
END:VEVENT
BEGIN:VEVENT
DTSTART;TZID=UTC:20250809T140000
DTEND;TZID=UTC:20250809T210000
DTSTAMP:20260424T024434
CREATED:20250808T023023Z
LAST-MODIFIED:20250808T023023Z
UID:12321-1754748000-1754773200@themobmom.com
SUMMARY:End of Summer Bash at OWA
DESCRIPTION:Get ready for one final weekend of summer fun at End of Summer Bash at Downtown OWA on August 9th! Enjoy a FREE action-packed celebration filled with live music\, lawn games\, interactive activities\, and family-friendly entertainment throughout the streets of Downtown OWA. Shop local with a variety of arts and crafts vendors offering everything from handmade goods to unique home décor and accessories. Whether you’re playing\, browsing\, or enjoying delicious eats from your favorite spots\, this event is the perfect send-off to summer break. \nChalk Art Competition \nShow off your creativity in the Chalk Art Competition! Open to all ages\, this colorful contest invites artists to transform the streets of Downtown OWA into colorful displays. With separate categories for youth\, teens\, and adults\, participants will have the chance to win cash prizes in each division. \nPro (18+ years old)\, Youth (10-17 years old)\, and Junior (4-9 years old). \n1ST Place Pro: $500 cash\, 2nd Place Pro: $300 cash\, 3rd Place Pro: $100 cash \n1st Place Youth: $150 cash\, 2nd Place Youth: $100 cash\, 3rd Place Youth: $50 \n1st Place Junior: $100 cash\, 2nd Place Junior: $75 cash\, 3rd Place Junior: $50
URL:https://themobmom.com/event/end-of-summer-bash-at-owa/
LOCATION:OWA Parks & Resort
ATTACH;FMTTYPE=image/jpeg:https://themobmom.com/wp-content/uploads/2025/08/end-of-summer-bash.jpg
END:VEVENT
BEGIN:VEVENT
DTSTART;TZID=UTC:20250809T180000
DTEND;TZID=UTC:20250809T210000
DTSTAMP:20260424T024434
CREATED:20250801T161233Z
LAST-MODIFIED:20250801T161233Z
UID:12247-1754762400-1754773200@themobmom.com
SUMMARY:Island Luau
DESCRIPTION:Join us for an Island Luau – August 9 at the DI Community Center from 6-9PM. Live music by the Salt Shakers (A Jimmy Buffet Tribute Band) and performances throughout the evening by professional Hula Dancers. Hula Lessons at 6:30PM to the Lilo & Stitch song and at 8PM to a Traditional Hawaiian Dance. Admission is $20 in advance for Aults and $25 at the door. For ages 15 & younger the price is $10. An Island dinner and desserts are provided. Coolers are welcome.
URL:https://themobmom.com/event/island-luau-2/
LOCATION:Dauphin Island Community Center
ATTACH;FMTTYPE=image/jpeg:https://themobmom.com/wp-content/uploads/2025/08/island-luau.jpg
END:VEVENT
BEGIN:VEVENT
DTSTART;TZID=UTC:20250809T190000
DTEND;TZID=UTC:20250809T200000
DTSTAMP:20260424T024434
CREATED:20250808T023240Z
LAST-MODIFIED:20250808T023240Z
UID:12324-1754766000-1754769600@themobmom.com
SUMMARY:Brandon Styles Variety Show
DESCRIPTION:A family-friendly\, impression\, comedy and magic show! Discover the many faces of Brandon Styles in this year-round Variety Show. Impressions from Frank Sinatra to Justin Bieber\, with 60 additional impressions in between! Sprinkled with just the right amount of comedy and magic to make this a great entertainment hour for all ages. Brandon Styles LIVE at OWA is a classy show that has something for the whole family! Brandon will awe you during his live performance of nearly 60 different celebrity singing & speaking impressions. To make this show unlike any other in the world\, he has incorporated the perfect amount of comedy\, magic\, dancing\, ventriloquism and audience participation in this fast-paced 60 minute show!
URL:https://themobmom.com/event/brandon-styles-variety-show-12/
LOCATION:OWA Parks & Resort
ATTACH;FMTTYPE=image/png:https://themobmom.com/wp-content/uploads/2025/08/Brandon-Styles-Variety-Show.png
END:VEVENT
END:VCALENDAR