BEGIN:VCALENDAR
VERSION:2.0
PRODID:-//MOB Moms - ECPv6.15.1.1//NONSGML v1.0//EN
CALSCALE:GREGORIAN
METHOD:PUBLISH
X-ORIGINAL-URL:https://themobmom.com
X-WR-CALDESC:Events for MOB Moms
REFRESH-INTERVAL;VALUE=DURATION:PT1H
X-Robots-Tag:noindex
X-PUBLISHED-TTL:PT1H
BEGIN:VTIMEZONE
TZID:UTC
BEGIN:STANDARD
TZOFFSETFROM:+0000
TZOFFSETTO:+0000
TZNAME:UTC
DTSTART:20250101T000000
END:STANDARD
END:VTIMEZONE
BEGIN:VEVENT
DTSTART;VALUE=DATE:20250808
DTEND;VALUE=DATE:20250809
DTSTAMP:20260424T024450
CREATED:20250808T152813Z
LAST-MODIFIED:20250808T153622Z
UID:12341-1754611200-1754697599@themobmom.com
SUMMARY:Alabama Sea Monsters
DESCRIPTION:1p.m. to 2 p.m. \nExplore the uncharted waters of the distant past and meet the strange and exotic beasts that once swam the oceans of ancient Alabama! In this program\, you’ll examine the incredible fossil evidence left behind by these remarkable creatures and learn about the discoveries that changed the way we look at the Gulf Coast of today. Don’t miss this chance to hear from experts in the field about some of the largest predators to ever prowl the seas! \nAll Ages / FREE \nTo view the precise location of this program\, use this what3words link:  https://w3w.co/apricot.seasoned.parks
URL:https://themobmom.com/event/alabama-sea-monsters/
LOCATION:Learning Campus at Gulf State Park
END:VEVENT
BEGIN:VEVENT
DTSTART;TZID=UTC:20250808T170000
DTEND;TZID=UTC:20250808T210000
DTSTAMP:20260424T024450
CREATED:20250808T154003Z
LAST-MODIFIED:20250808T154003Z
UID:12346-1754672400-1754686800@themobmom.com
SUMMARY:H2OWA
DESCRIPTION:Make a splash every Friday at H2OWA\, part of the Summer Series at Downtown OWA! From May 30th through August 8th\, head to Downtown OWA every Friday for a full lineup of free water-filled fun the whole family can enjoy. \nKids can beat the heat at the Downtown Splashpad\, race down the giant slip-n-slide\, or jump around on water inflatables in the Native Treasures Alcove. Explore lawn games scattered throughout Downtown\, get creative with water-themed crafts at Gussie’s Flowerbed\, and don’t miss the underwater photo op at the Fountain for the ultimate summer selfie. \n\n\n\n\nSchedule of Events:\n\n\n\n\n\n5:00 – 9:00 pm:\n\nWater Activities at the Downtown Splashpad\nSlip-n-slide/water inflatable at the Native Treasures Alcove\nLawn Games throughout Downtown OWA\nUnderwater Photo Op at the Downtown Fountain\nAura Adventure Kayaking Scavenger Hunt
URL:https://themobmom.com/event/h2owa-4/
LOCATION:OWA Parks & Resort
ATTACH;FMTTYPE=image/jpeg:https://themobmom.com/wp-content/uploads/2025/06/h2owa.jpg
END:VEVENT
BEGIN:VEVENT
DTSTART;TZID=UTC:20250808T180000
DTEND;TZID=UTC:20250808T210000
DTSTAMP:20260424T024450
CREATED:20250808T004642Z
LAST-MODIFIED:20250808T142244Z
UID:12292-1754676000-1754686800@themobmom.com
SUMMARY:LODA ArtWalk
DESCRIPTION:LODA ArtWalk is a free monthly event that showcases our visual\, performing\, and culinary arts community. The theme changes every month\, and this month’s theme is White Linen Night. From 6 p.m. to 9 p.m. on Friday\, August 8\, join us in white linen attire to explore local vendors\, live music\, and captivating art. Plus\, visit the Kids’ Zone to make crafts and play games! \nDo you want register to be an artist or performer at LODA ArtWalk? Learn more here. \nDo you want to register to participate in the Nonprofit Zone? Apply here. \n2025 LODA ArtWalk Map\n2025 Logistics & FAQ \nBy attending this event\, you agree to be photographed. For further inquiries\, please email events@cityofmobile.org.
URL:https://themobmom.com/event/loda-artwalk/
LOCATION:Downtown Mobile
ATTACH;FMTTYPE=image/jpeg:https://themobmom.com/wp-content/uploads/2025/08/LODA-Artwalk.jpg
END:VEVENT
BEGIN:VEVENT
DTSTART;TZID=UTC:20250808T190000
DTEND;TZID=UTC:20250808T200000
DTSTAMP:20260424T024450
CREATED:20250808T022716Z
LAST-MODIFIED:20250808T022716Z
UID:12318-1754679600-1754683200@themobmom.com
SUMMARY:Stoked Comedy Hypnosis Show for All Ages
DESCRIPTION:Join legendary hypnotist Terry Stokes for 60 minutes of hilarious antics and unbelievable hypnotism at the Stoked Comedy Hypnosis Show for all-ages. One of the few shows where the audience is the “stars” of the show\, this unforgettable show is your opportunity to see or be seen! The kids will love watching parents and grandparents on the stage! \nActivity Highlights\n→ Unforgettable hypnotism and comedy show\n→ Audience participation encouraged\n→ No two shows are the same\n→ Ideal activity for date night or group outing
URL:https://themobmom.com/event/stoked-comedy-hypnosis-show-for-all-ages/
LOCATION:OWA Parks & Resort
ATTACH;FMTTYPE=image/webp:https://themobmom.com/wp-content/uploads/2025/08/stoked-hypnosis-show.webp
END:VEVENT
END:VCALENDAR