BEGIN:VCALENDAR
VERSION:2.0
PRODID:-//MOB Moms - ECPv6.15.1.1//NONSGML v1.0//EN
CALSCALE:GREGORIAN
METHOD:PUBLISH
X-WR-CALNAME:MOB Moms
X-ORIGINAL-URL:https://themobmom.com
X-WR-CALDESC:Events for MOB Moms
REFRESH-INTERVAL;VALUE=DURATION:PT1H
X-Robots-Tag:noindex
X-PUBLISHED-TTL:PT1H
BEGIN:VTIMEZONE
TZID:UTC
BEGIN:STANDARD
TZOFFSETFROM:+0000
TZOFFSETTO:+0000
TZNAME:UTC
DTSTART:20250101T000000
END:STANDARD
END:VTIMEZONE
BEGIN:VEVENT
DTSTART;TZID=UTC:20250801T143000
DTEND;TZID=UTC:20250803T143000
DTSTAMP:20260424T024435
CREATED:20250711T150317Z
LAST-MODIFIED:20250711T150317Z
UID:12107-1754058600-1754231400@themobmom.com
SUMMARY:South Baldwin Community Theatre Presents Disney's Mary Poppins Jr
DESCRIPTION:Things are not going well for the Banks family\, the children are out of control and are in need of a new nanny. When a mysterious young woman named Mary Poppins appears at their doorstep\, the family finds that she’s the answer to their prayers\, but in the most peculiar way. \nJuly 25 to August 3\, Friday\, Saturday\, Sunday showtimes. \nTickets $15-$25
URL:https://themobmom.com/event/south-baldwin-community-theatre-presents-disneys-mary-poppins-jr-2/
LOCATION:South Baldwin Community Theatre\, Gulf Shores\, Alabama
ATTACH;FMTTYPE=image/png:https://themobmom.com/wp-content/uploads/2025/07/499214701_1243622671106513_8795108715684669358_n-2.png
END:VEVENT
BEGIN:VEVENT
DTSTART;VALUE=DATE:20250803
DTEND;VALUE=DATE:20250804
DTSTAMP:20260424T024435
CREATED:20250801T154442Z
LAST-MODIFIED:20250801T154442Z
UID:12222-1754179200-1754265599@themobmom.com
SUMMARY:Free First Sunday
DESCRIPTION:Visit any time from 1 – 5 p.m. and enjoy free admission into the History Museum of Mobile and Colonial Fort Conde!\nWe will also be hosting SPIES\, SECRETS\, & SABOTAGE\, a free espionage event you won’t want to miss! More info here:
URL:https://themobmom.com/event/free-first-sunday-3/
LOCATION:History Museum of Mobile
ATTACH;FMTTYPE=image/png:https://themobmom.com/wp-content/uploads/2025/08/FreeFirstSunday-ESPIONAGE.png
END:VEVENT
BEGIN:VEVENT
DTSTART;TZID=UTC:20250803T100000
DTEND;TZID=UTC:20250803T110000
DTSTAMP:20260424T024435
CREATED:20250801T170802Z
LAST-MODIFIED:20250801T170802Z
UID:12273-1754215200-1754218800@themobmom.com
SUMMARY:Native Animal Meet & Greet
DESCRIPTION:Visit the Nature Center between 10 AM to 11 AM to meet one of native animals! Discover how the remarkable species help educate our visitors about conservation efforts at Gulf State Park. Learn about their natural behaviors and the important roles they play in our complex ecosystem. \nRegistration: Registration is preferred but not required. \nLocation: Gulf State Park Nature Center\, 22120 Campground Road\, Gulf Shores\, AL 36542 \nthere is a $3 fee to enter the campground\, where the Nature Center is located. Campground/Cabin guest do not have to pay gate fee. \nIf you have any questions\, please contact the Gulf State Park Nature Center at 251-948-7275 extension 62093.
URL:https://themobmom.com/event/native-animal-meet-greet/
LOCATION:Gulf State Park Nature Center
ATTACH;FMTTYPE=image/jpeg:https://themobmom.com/wp-content/uploads/2025/08/native-animal-meet-and-greet.jpg
END:VEVENT
BEGIN:VEVENT
DTSTART;TZID=UTC:20250803T170000
DTEND;TZID=UTC:20250803T183000
DTSTAMP:20260424T024435
CREATED:20250801T154159Z
LAST-MODIFIED:20250801T154159Z
UID:12219-1754240400-1754245800@themobmom.com
SUMMARY:Mother and Son Mystery Date Night
DESCRIPTION:Join us for a night of adventure and a dinner at our Mother and Son Date Night. All mothers\, mother figures\, grandmothers and sons of all ages are invited to join us for this special event.\nFellowship Hall | Cost $30 (Mom and one son) or $35 (Mom with two or more sons).\nSign up through our link only at: christunited.com/kids
URL:https://themobmom.com/event/mother-and-son-mystery-date-night/
LOCATION:Christ United
ATTACH;FMTTYPE=image/jpeg:https://themobmom.com/wp-content/uploads/2025/08/mystery-date.jpg
END:VEVENT
END:VCALENDAR